{"text_format":"3","workbook":"xlsx","n_sheets":8,"sheets":["Chancen","Nahkampf","Fernkampf","Explosion","Nahkampf Mindestens","Fernkampf Mindestens","Explosion Mindestens","Killchance"],"not_rendered":{"charts":2,"macros":1},"read":"whole","date_system":"1900"}

{"sheet":"Chancen","index":0,"n_rows":29,"n_cols":26,"rows_kept":29}
["Würfelseiten"]
[0]
[0]
[0]
[1]
[2]
[3]
[]
["Schaden ohne Reroll"]
["Würfel",0,1,2,3,4,5,6,7,8,9,10,11,12,13,14,15,16,17,18,19,20,21,22,23,24]
[1,{"v":0.5,"d":"50.00%"},{"v":0.16666666666666666,"d":"16.67%"},{"v":0.16666666666666666,"d":"16.67%"},{"v":0.16666666666666666,"d":"16.67%"},{"v":0,"d":"0.00%"},{"v":0,"d":"0.00%"},{"v":0,"d":"0.00%"},{"v":0,"d":"0.00%"},{"v":0,"d":"0.00%"},{"v":0,"d":"0.00%"},{"v":0,"d":"0.00%"},{"v":0,"d":"0.00%"},{"v":0,"d":"0.00%"},{"v":0,"d":"0.00%"},{"v":0,"d":"0.00%"},{"v":0,"d":"0.00%"},{"v":0,"d":"0.00%"},{"v":0,"d":"0.00%"},{"v":0,"d":"0.00%"},{"v":0,"d":"0.00%"},{"v":0,"d":"0.00%"},{"v":0,"d":"0.00%"},{"v":0,"d":"0.00%"},{"v":0,"d":"0.00%"},{"v":0,"d":"0.00%"}]
[2,{"v":0.25,"d":"25.00%"},{"v":0.16666666666666666,"d":"16.67%"},{"v":0.19444444444444445,"d":"19.44%"},{"v":0.2222222222222222,"d":"22.22%"},{"v":0.08333333333333333,"d":"8.33%"},{"v":0.05555555555555555,"d":"5.56%"},{"v":0.027777777777777776,"d":"2.78%"},{"v":0,"d":"0.00%"},{"v":0,"d":"0.00%"},{"v":0,"d":"0.00%"},{"v":0,"d":"0.00%"},{"v":0,"d":"0.00%"},{"v":0,"d":"0.00%"},{"v":0,"d":"0.00%"},{"v":0,"d":"0.00%"},{"v":0,"d":"0.00%"},{"v":0,"d":"0.00%"},{"v":0,"d":"0.00%"},{"v":0,"d":"0.00%"},{"v":0,"d":"0.00%"},{"v":0,"d":"0.00%"},{"v":0,"d":"0.00%"},{"v":0,"d":"0.00%"},{"v":0,"d":"0.00%"},{"v":0,"d":"0.00%"}]
[3,{"v":0.125,"d":"12.50%"},{"v":0.125,"d":"12.50%"},{"v":0.16666666666666666,"d":"16.67%"},{"v":0.21296296296296297,"d":"21.30%"},{"v":0.1388888888888889,"d":"13.89%"},{"v":0.1111111111111111,"d":"11.11%"},{"v":0.07407407407407407,"d":"7.41%"},{"v":0.027777777777777776,"d":"2.78%"},{"v":0.013888888888888888,"d":"1.39%"},{"v":0.004629629629629629,"d":"0.46%"},{"v":0,"d":"0.00%"},{"v":0,"d":"0.00%"},{"v":0,"d":"0.00%"},{"v":0,"d":"0.00%"},{"v":0,"d":"0.00%"},{"v":0,"d":"0.00%"},{"v":0,"d":"0.00%"},{"v":0,"d":"0.00%"},{"v":0,"d":"0.00%"},{"v":0,"d":"0.00%"},{"v":0,"d":"0.00%"},{"v":0,"d":"0.00%"},{"v":0,"d":"0.00%"},{"v":0,"d":"0.00%"},{"v":0,"d":"0.00%"}]
[4,{"v":0.0625,"d":"6.25%"},{"v":0.08333333333333333,"d":"8.33%"},{"v":0.125,"d":"12.50%"},{"v":0.17592592592592593,"d":"17.59%"},{"v":0.15354938271604937,"d":"15.35%"},{"v":0.1419753086419753,"d":"14.20%"},{"v":0.11419753086419752,"d":"11.42%"},{"v":0.06790123456790123,"d":"6.79%"},{"v":0.04243827160493827,"d":"4.24%"},{"v":0.021604938271604937,"d":"2.16%"},{"v":7.716049382716049E-3,"d":"0.77%"},{"v":3.0864197530864196E-3,"d":"0.31%"},{"v":7.716049382716049E-4,"d":"0.08%"},{"v":0,"d":"0.00%"},{"v":0,"d":"0.00%"},{"v":0,"d":"0.00%"},{"v":0,"d":"0.00%"},{"v":0,"d":"0.00%"},{"v":0,"d":"0.00%"},{"v":0,"d":"0.00%"},{"v":0,"d":"0.00%"},{"v":0,"d":"0.00%"},{"v":0,"d":"0.00%"},{"v":0,"d":"0.00%"},{"v":0,"d":"0.00%"}]
[5,{"v":0.03125,"d":"3.13%"},{"v":0.052083333333333336,"d":"5.21%"},{"v":0.08680555555555555,"d":"8.68%"},{"v":0.13310185185185186,"d":"13.31%"},{"v":0.1408179012345679,"d":"14.08%"},{"v":0.1467335390946502,"d":"14.67%"},{"v":0.1356738683127572,"d":"13.57%"},{"v":0.10223765432098765,"d":"10.22%"},{"v":0.07523148148148148,"d":"7.52%"},{"v":0.04822530864197531,"d":"4.82%"},{"v":0.025848765432098766,"d":"2.58%"},{"v":0.013503086419753086,"d":"1.35%"},{"v":0.005787037037037037,"d":"0.58%"},{"v":1.9290123456790122E-3,"d":"0.19%"},{"v":6.4300411522633745E-4,"d":"0.06%"},{"v":1.286008230452675E-4,"d":"0.01%"},{"v":0,"d":"0.00%"},{"v":0,"d":"0.00%"},{"v":0,"d":"0.00%"},{"v":0,"d":"0.00%"},{"v":0,"d":"0.00%"},{"v":0,"d":"0.00%"},{"v":0,"d":"0.00%"},{"v":0,"d":"0.00%"},{"v":0,"d":"0.00%"}]
[6,{"v":0.015625,"d":"1.56%"},{"v":0.03125,"d":"3.13%"},{"v":0.057291666666666664,"d":"5.73%"},{"v":0.09490740740740741,"d":"9.49%"},{"v":0.11574074074074074,"d":"11.57%"},{"v":0.13348765432098766,"d":"13.35%"},{"v":0.13794581618655694,"d":"13.79%"},{"v":0.12165637860082304,"d":"12.17%"},{"v":0.10172325102880658,"d":"10.17%"},{"v":0.0763031550068587,"d":"7.63%"},{"v":0.050540123456790126,"d":"5.05%"},{"v":0.031635802469135804,"d":"3.16%"},{"v":0.01748971193415638,"d":"1.75%"},{"v":0.008487654320987654,"d":"0.85%"},{"v":3.8580246913580245E-3,"d":"0.39%"},{"v":1.4574759945130316E-3,"d":"0.15%"},{"v":4.5010288065843623E-4,"d":"0.05%"},{"v":1.286008230452675E-4,"d":"0.01%"},{"v":2.143347050754458E-5,"d":"0.00%"},{"v":0,"d":"0.00%"},{"v":0,"d":"0.00%"},{"v":0,"d":"0.00%"},{"v":0,"d":"0.00%"},{"v":0,"d":"0.00%"},{"v":0,"d":"0.00%"}]
[7,{"v":7.8125E-3,"d":"0.78%"},{"v":0.018229166666666668,"d":"1.82%"},{"v":0.036458333333333336,"d":"3.65%"},{"v":0.06481481481481481,"d":"6.48%"},{"v":0.08844521604938271,"d":"8.84%"},{"v":0.11140046296296297,"d":"11.14%"},{"v":0.12632887517146776,"d":"12.63%"},{"v":0.12535722450845907,"d":"12.54%"},{"v":0.1163766003657979,"d":"11.64%"},{"v":0.09837248513946045,"d":"9.84%"},{"v":0.07521719250114312,"d":"7.52%"},{"v":0.05391232281664381,"d":"5.39%"},{"v":0.03515803612254229,"d":"3.52%"},{"v":0.02085476680384088,"d":"2.09%"},{"v":0.011531207133058986,"d":"1.15%"},{"v":5.7013031550068585E-3,"d":"0.57%"},{"v":2.5255772748056697E-3,"d":"0.25%"},{"v":0.001025234339277549,"d":"0.10%"},{"v":3.5008001828989484E-4,"d":"0.04%"},{"v":1.0002286236854138E-4,"d":"0.01%"},{"v":2.5005715592135344E-5,"d":"0.00%"},{"v":3.5722450845907635E-6,"d":"0.00%"},{"v":0,"d":"0.00%"},{"v":0,"d":"0.00%"},{"v":0,"d":"0.00%"}]
[8,{"v":3.90625E-3,"d":"0.39%"},{"v":0.010416666666666666,"d":"1.04%"},{"v":0.022569444444444444,"d":"2.26%"},{"v":0.04282407407407408,"d":"4.28%"},{"v":0.06413966049382716,"d":"6.41%"},{"v":0.08731995884773662,"d":"8.73%"},{"v":0.10727451989026063,"d":"10.73%"},{"v":0.11704103795153178,"d":"11.70%"},{"v":0.11870272729004724,"d":"11.87%"},{"v":0.11053002591068435,"d":"11.05%"},{"v":0.0942929812528578,"d":"9.43%"},{"v":0.07528387440938882,"d":"7.53%"},{"v":0.05549601813747904,"d":"5.55%"},{"v":0.03780864197530864,"d":"3.78%"},{"v":0.024086457857033988,"d":"2.41%"},{"v":0.014107986587410457,"d":"1.41%"},{"v":0.007610668152720622,"d":"0.76%"},{"v":3.8056317634506936E-3,"d":"0.38%"},{"v":1.717059137326627E-3,"d":"0.17%"},{"v":7.0016003657978967E-4,"d":"0.07%"},{"v":2.5839239445206522E-4,"d":"0.03%"},{"v":8.09708885840573e-05,"d":"0.01%"},{"v":2.143347050754458E-5,"d":"0.00%"},{"v":4.7629934461210183E-6,"d":"0.00%"},{"v":5.9537418076512728E-7,"d":"0.00%"}]
[]
["Schaden mit Reroll"]
["Würfel",0,1,2,3,4,5,6,7,8,9,10,11,12,13,14,15,16,17,18,19,20,21,22,23,24]
[1,{"v":0.25,"d":"25.00%"},{"v":0.19444444444444445,"d":"19.44%"},{"v":0.25,"d":"25.00%"},{"v":0.3055555555555556,"d":"30.56%"},{"v":0,"d":"0.00%"},{"v":0,"d":"0.00%"},{"v":0,"d":"0.00%"},{"v":0,"d":"0.00%"},{"v":0,"d":"0.00%"},{"v":0,"d":"0.00%"},{"v":0,"d":"0.00%"},{"v":0,"d":"0.00%"},{"v":0,"d":"0.00%"},{"v":0,"d":"0.00%"},{"v":0,"d":"0.00%"},{"v":0,"d":"0.00%"},{"v":0,"d":"0.00%"},{"v":0,"d":"0.00%"},{"v":0,"d":"0.00%"},{"v":0,"d":"0.00%"},{"v":0,"d":"0.00%"},{"v":0,"d":"0.00%"},{"v":0,"d":"0.00%"},{"v":0,"d":"0.00%"},{"v":0,"d":"0.00%"}]
[2,{"v":0.125,"d":"12.50%"},{"v":0.125,"d":"12.50%"},{"v":0.1712962962962963,"d":"17.13%"},{"v":0.2222222222222222,"d":"22.22%"},{"v":0.1574074074074074,"d":"15.74%"},{"v":0.125,"d":"12.50%"},{"v":0.07407407407407407,"d":"7.41%"},{"v":0,"d":"0.00%"},{"v":0,"d":"0.00%"},{"v":0,"d":"0.00%"},{"v":0,"d":"0.00%"},{"v":0,"d":"0.00%"},{"v":0,"d":"0.00%"},{"v":0,"d":"0.00%"},{"v":0,"d":"0.00%"},{"v":0,"d":"0.00%"},{"v":0,"d":"0.00%"},{"v":0,"d":"0.00%"},{"v":0,"d":"0.00%"},{"v":0,"d":"0.00%"},{"v":0,"d":"0.00%"},{"v":0,"d":"0.00%"},{"v":0,"d":"0.00%"},{"v":0,"d":"0.00%"},{"v":0,"d":"0.00%"}]
[3,{"v":0.0625,"d":"6.25%"},{"v":0.08333333333333333,"d":"8.33%"},{"v":0.125,"d":"12.50%"},{"v":0.17669753086419754,"d":"17.67%"},{"v":0.1558641975308642,"d":"15.59%"},{"v":0.14660493827160495,"d":"14.66%"},{"v":0.11959876543209877,"d":"11.96%"},{"v":0.07253086419753087,"d":"7.25%"},{"v":0.041666666666666664,"d":"4.17%"},{"v":0.016203703703703703,"d":"1.62%"},{"v":0,"d":"0.00%"},{"v":0,"d":"0.00%"},{"v":0,"d":"0.00%"},{"v":0,"d":"0.00%"},{"v":0,"d":"0.00%"},{"v":0,"d":"0.00%"},{"v":0,"d":"0.00%"},{"v":0,"d":"0.00%"},{"v":0,"d":"0.00%"},{"v":0,"d":"0.00%"},{"v":0,"d":"0.00%"},{"v":0,"d":"0.00%"},{"v":0,"d":"0.00%"},{"v":0,"d":"0.00%"},{"v":0,"d":"0.00%"}]
[4,{"v":0.03125,"d":"3.13%"},{"v":0.052083333333333336,"d":"5.21%"},{"v":0.08680555555555555,"d":"8.68%"},{"v":0.13310185185185186,"d":"13.31%"},{"v":0.14094650205761317,"d":"14.09%"},{"v":0.14724794238683128,"d":"14.72%"},{"v":0.13695987654320987,"d":"13.70%"},{"v":0.10416666666666667,"d":"10.42%"},{"v":0.07728909465020577,"d":"7.73%"},{"v":0.049511316872427984,"d":"4.95%"},{"v":0.0257201646090535,"d":"2.57%"},{"v":0.011574074074074073,"d":"1.16%"},{"v":3.3436213991769547E-3,"d":"0.33%"},{"v":0,"d":"0.00%"},{"v":0,"d":"0.00%"},{"v":0,"d":"0.00%"},{"v":0,"d":"0.00%"},{"v":0,"d":"0.00%"},{"v":0,"d":"0.00%"},{"v":0,"d":"0.00%"},{"v":0,"d":"0.00%"},{"v":0,"d":"0.00%"},{"v":0,"d":"0.00%"},{"v":0,"d":"0.00%"},{"v":0,"d":"0.00%"}]
[5,{"v":0.015625,"d":"1.56%"},{"v":0.03125,"d":"3.13%"},{"v":0.057291666666666664,"d":"5.73%"},{"v":0.09490740740740741,"d":"9.49%"},{"v":0.11574074074074074,"d":"11.57%"},{"v":0.1335090877914952,"d":"13.35%"},{"v":0.13805298353909465,"d":"13.81%"},{"v":0.12197788065843622,"d":"12.20%"},{"v":0.10234482167352538,"d":"10.23%"},{"v":0.07716049382716049,"d":"7.72%"},{"v":0.05133316186556927,"d":"5.13%"},{"v":0.032064471879286696,"d":"3.21%"},{"v":0.017361111111111112,"d":"1.74%"},{"v":7.823216735253772E-3,"d":"0.78%"},{"v":2.8935185185185184E-3,"d":"0.29%"},{"v":0.000664437585733882,"d":"0.07%"},{"v":0,"d":"0.00%"},{"v":0,"d":"0.00%"},{"v":0,"d":"0.00%"},{"v":0,"d":"0.00%"},{"v":0,"d":"0.00%"},{"v":0,"d":"0.00%"},{"v":0,"d":"0.00%"},{"v":0,"d":"0.00%"},{"v":0,"d":"0.00%"}]
[6,{"v":7.8125E-3,"d":"0.78%"},{"v":0.018229166666666668,"d":"1.82%"},{"v":0.036458333333333336,"d":"3.65%"},{"v":0.06481481481481481,"d":"6.48%"},{"v":0.08844521604938271,"d":"8.84%"},{"v":0.11140046296296297,"d":"11.14%"},{"v":0.12633244741655236,"d":"12.63%"},{"v":0.12537865797896663,"d":"12.54%"},{"v":0.1164516175125743,"d":"11.65%"},{"v":0.09854752514860539,"d":"9.85%"},{"v":0.07551726108824874,"d":"7.55%"},{"v":0.054287408550525836,"d":"5.43%"},{"v":0.03548668267032465,"d":"3.55%"},{"v":0.02100480109739369,"d":"2.10%"},{"v":0.011452617741197988,"d":"1.15%"},{"v":5.42624028349337E-3,"d":"0.54%"},{"v":2.1504915409236397E-3,"d":"0.22%"},{"v":6.7515432098765428E-4,"d":"0.07%"},{"v":1.286008230452675E-4,"d":"0.01%"},{"v":0,"d":"0.00%"},{"v":0,"d":"0.00%"},{"v":0,"d":"0.00%"},{"v":0,"d":"0.00%"},{"v":0,"d":"0.00%"},{"v":0,"d":"0.00%"}]
[7,{"v":3.90625E-3,"d":"0.39%"},{"v":0.010416666666666666,"d":"1.04%"},{"v":0.022569444444444444,"d":"2.26%"},{"v":0.04282407407407408,"d":"4.28%"},{"v":0.06413966049382716,"d":"6.41%"},{"v":0.08731995884773662,"d":"8.73%"},{"v":0.10727451989026063,"d":"10.73%"},{"v":0.11704163332571255,"d":"11.70%"},{"v":0.1187068949093126,"d":"11.87%"},{"v":0.11054669638774577,"d":"11.05%"},{"v":0.09433822969059595,"d":"9.43%"},{"v":0.07537556203322664,"d":"7.54%"},{"v":0.05563771719250114,"d":"5.56%"},{"v":0.03797534674592288,"d":"3.80%"},{"v":0.024225180041152265,"d":"2.42%"},{"v":0.014166333257125439,"d":"1.42%"},{"v":0.007568396585886298,"d":"0.76%"},{"v":3.6841754305746077E-3,"d":"0.37%"},{"v":1.5586896052431033E-3,"d":"0.16%"},{"v":5.5012574302697756E-4,"d":"0.06%"},{"v":1.5003429355281208E-4,"d":"0.02%"},{"v":2.4410341411370219E-5,"d":"0.00%"},{"v":0,"d":"0.00%"},{"v":0,"d":"0.00%"},{"v":0,"d":"0.00%"}]
[8,{"v":1.953125E-3,"d":"0.20%"},{"v":5.859375E-3,"d":"0.59%"},{"v":0.013671875,"d":"1.37%"},{"v":0.027560763888888888,"d":"2.76%"},{"v":0.04470486111111111,"d":"4.47%"},{"v":0.06524884259259259,"d":"6.52%"},{"v":0.08601787551440329,"d":"8.60%"},{"v":0.10164287551440329,"d":"10.16%"},{"v":0.11129071565564193,"d":"11.13%"},{"v":0.11243552097622314,"d":"11.24%"},{"v":0.10486236139689072,"d":"10.49%"},{"v":0.09157390736930346,"d":"9.16%"},{"v":0.07445809042066757,"d":"7.45%"},{"v":0.05646290580704161,"d":"5.65%"},{"v":0.040207999923792107,"d":"4.02%"},{"v":0.026693601394604482,"d":"2.67%"},{"v":0.01653244948051618,"d":"1.65%"},{"v":0.009560816281816795,"d":"0.96%"},{"v":0.005092235368084133,"d":"0.51%"},{"v":0.002483901082152111,"d":"0.25%"},{"v":1.0960838667885993E-3,"d":"0.11%"},{"v":4.197387974394147E-4,"d":"0.04%"},{"v":1.333638164913885E-4,"d":"0.01%"},{"v":3.2150205761316875E-5,"d":"0.00%"},{"v":4.564535385865976E-6,"d":"0.00%"}]

{"sheet":"Nahkampf","index":1,"n_rows":21,"n_cols":27,"rows_kept":21}
["Schaden ohne Reroll"]
["Würfel",0,1,2,3,4,5,6,7,8,9,10,11,12,13,14,15,16,17,18,19,20,21,22,23,24]
[1,{"v":0.16666666666666666,"d":"16.67%"},{"v":0.6666666666666666,"d":"66.67%"},{"v":0.16666666666666666,"d":"16.67%"},{"v":0,"d":"0.00%"},{"v":0,"d":"0.00%"},{"v":0,"d":"0.00%"},{"v":0,"d":"0.00%"},{"v":0,"d":"0.00%"},{"v":0,"d":"0.00%"},{"v":0,"d":"0.00%"},{"v":0,"d":"0.00%"},{"v":0,"d":"0.00%"},{"v":0,"d":"0.00%"},{"v":0,"d":"0.00%"},{"v":0,"d":"0.00%"},{"v":0,"d":"0.00%"},{"v":0,"d":"0.00%"},{"v":0,"d":"0.00%"},{"v":0,"d":"0.00%"},{"v":0,"d":"0.00%"},{"v":0,"d":"0.00%"},{"v":0,"d":"0.00%"},{"v":0,"d":"0.00%"},{"v":0,"d":"0.00%"},{"v":0,"d":"0.00%"}]
[2,{"v":0.027777777777777776,"d":"2.78%"},{"v":0.2222222222222222,"d":"22.22%"},{"v":0.5,"d":"50.00%"},{"v":0.2222222222222222,"d":"22.22%"},{"v":0.027777777777777776,"d":"2.78%"},{"v":0,"d":"0.00%"},{"v":0,"d":"0.00%"},{"v":0,"d":"0.00%"},{"v":0,"d":"0.00%"},{"v":0,"d":"0.00%"},{"v":0,"d":"0.00%"},{"v":0,"d":"0.00%"},{"v":0,"d":"0.00%"},{"v":0,"d":"0.00%"},{"v":0,"d":"0.00%"},{"v":0,"d":"0.00%"},{"v":0,"d":"0.00%"},{"v":0,"d":"0.00%"},{"v":0,"d":"0.00%"},{"v":0,"d":"0.00%"},{"v":0,"d":"0.00%"},{"v":0,"d":"0.00%"},{"v":0,"d":"0.00%"},{"v":0,"d":"0.00%"},{"v":0,"d":"0.00%"}]
[3,{"v":0.004629629629629629,"d":"0.46%"},{"v":0.05555555555555555,"d":"5.56%"},{"v":0.2361111111111111,"d":"23.61%"},{"v":0.4074074074074074,"d":"40.74%"},{"v":0.2361111111111111,"d":"23.61%"},{"v":0.05555555555555555,"d":"5.56%"},{"v":0.004629629629629629,"d":"0.46%"},{"v":0,"d":"0.00%"},{"v":0,"d":"0.00%"},{"v":0,"d":"0.00%"},{"v":0,"d":"0.00%"},{"v":0,"d":"0.00%"},{"v":0,"d":"0.00%"},{"v":0,"d":"0.00%"},{"v":0,"d":"0.00%"},{"v":0,"d":"0.00%"},{"v":0,"d":"0.00%"},{"v":0,"d":"0.00%"},{"v":0,"d":"0.00%"},{"v":0,"d":"0.00%"},{"v":0,"d":"0.00%"},{"v":0,"d":"0.00%"},{"v":0,"d":"0.00%"},{"v":0,"d":"0.00%"},{"v":0,"d":"0.00%"}]
[4,{"v":7.716049382716049E-4,"d":"0.08%"},{"v":0.012345679012345678,"d":"1.23%"},{"v":0.07716049382716049,"d":"7.72%"},{"v":0.2345679012345679,"d":"23.46%"},{"v":0.35030864197530864,"d":"35.03%"},{"v":0.2345679012345679,"d":"23.46%"},{"v":0.07716049382716049,"d":"7.72%"},{"v":0.012345679012345678,"d":"1.23%"},{"v":7.716049382716049E-4,"d":"0.08%"},{"v":0,"d":"0.00%"},{"v":0,"d":"0.00%"},{"v":0,"d":"0.00%"},{"v":0,"d":"0.00%"},{"v":0,"d":"0.00%"},{"v":0,"d":"0.00%"},{"v":0,"d":"0.00%"},{"v":0,"d":"0.00%"},{"v":0,"d":"0.00%"},{"v":0,"d":"0.00%"},{"v":0,"d":"0.00%"},{"v":0,"d":"0.00%"},{"v":0,"d":"0.00%"},{"v":0,"d":"0.00%"},{"v":0,"d":"0.00%"},{"v":0,"d":"0.00%"}]
[5,{"v":1.286008230452675E-4,"d":"0.01%"},{"v":0.00257201646090535,"d":"0.26%"},{"v":0.021219135802469136,"d":"2.12%"},{"v":0.09259259259259259,"d":"9.26%"},{"v":0.22762345679012347,"d":"22.76%"},{"v":0.3117283950617284,"d":"31.17%"},{"v":0.22762345679012347,"d":"22.76%"},{"v":0.09259259259259259,"d":"9.26%"},{"v":0.021219135802469136,"d":"2.12%"},{"v":0.00257201646090535,"d":"0.26%"},{"v":1.286008230452675E-4,"d":"0.01%"},{"v":0,"d":"0.00%"},{"v":0,"d":"0.00%"},{"v":0,"d":"0.00%"},{"v":0,"d":"0.00%"},{"v":0,"d":"0.00%"},{"v":0,"d":"0.00%"},{"v":0,"d":"0.00%"},{"v":0,"d":"0.00%"},{"v":0,"d":"0.00%"},{"v":0,"d":"0.00%"},{"v":0,"d":"0.00%"},{"v":0,"d":"0.00%"},{"v":0,"d":"0.00%"},{"v":0,"d":"0.00%"}]
[6,{"v":2.143347050754458E-5,"d":"0.00%"},{"v":5.1440329218107E-4,"d":"0.05%"},{"v":0.005272633744855967,"d":"0.53%"},{"v":0.030006858710562415,"d":"3.00%"},{"v":0.10320216049382716,"d":"10.32%"},{"v":0.2191358024691358,"d":"21.91%"},{"v":0.2836934156378601,"d":"28.37%"},{"v":0.2191358024691358,"d":"21.91%"},{"v":0.10320216049382716,"d":"10.32%"},{"v":0.030006858710562415,"d":"3.00%"},{"v":0.005272633744855967,"d":"0.53%"},{"v":5.1440329218107E-4,"d":"0.05%"},{"v":2.143347050754458E-5,"d":"0.00%"},{"v":0,"d":"0.00%"},{"v":0,"d":"0.00%"},{"v":0,"d":"0.00%"},{"v":0,"d":"0.00%"},{"v":0,"d":"0.00%"},{"v":0,"d":"0.00%"},{"v":0,"d":"0.00%"},{"v":0,"d":"0.00%"},{"v":0,"d":"0.00%"},{"v":0,"d":"0.00%"},{"v":0,"d":"0.00%"},{"v":0,"d":"0.00%"}]
[7,{"v":3.5722450845907635E-6,"d":"0.00%"},{"v":1.0002286236854138E-4,"d":"0.01%"},{"v":1.225280064014632E-3,"d":"0.12%"},{"v":0.008601966163694559,"d":"0.86%"},{"v":0.03808370484682213,"d":"3.81%"},{"v":0.11032521719250114,"d":"11.03%"},{"v":0.21057313100137173,"d":"21.06%"},{"v":0.2621742112482853,"d":"26.22%"},{"v":0.21057313100137173,"d":"21.06%"},{"v":0.11032521719250114,"d":"11.03%"},{"v":0.03808370484682213,"d":"3.81%"},{"v":0.008601966163694559,"d":"0.86%"},{"v":1.225280064014632E-3,"d":"0.12%"},{"v":1.0002286236854138E-4,"d":"0.01%"},{"v":3.5722450845907635E-6,"d":"0.00%"},{"v":0,"d":"0.00%"},{"v":0,"d":"0.00%"},{"v":0,"d":"0.00%"},{"v":0,"d":"0.00%"},{"v":0,"d":"0.00%"},{"v":0,"d":"0.00%"},{"v":0,"d":"0.00%"},{"v":0,"d":"0.00%"},{"v":0,"d":"0.00%"},{"v":0,"d":"0.00%"}]
[8,{"v":5.9537418076512728E-7,"d":"0.00%"},{"v":1.9051973784484073E-5,"d":"0.00%"},{"v":2.7149062642889806E-4,"d":"0.03%"},{"v":2.2671848803536045E-3,"d":"0.23%"},{"v":0.012286141594269166,"d":"1.23%"},{"v":0.0452103337905807,"d":"4.52%"},{"v":0.11499295076969974,"d":"11.50%"},{"v":0.20246532540771223,"d":"20.25%"},{"v":0.2449738511659808,"d":"24.50%"},{"v":0.20246532540771223,"d":"20.25%"},{"v":0.11499295076969974,"d":"11.50%"},{"v":0.0452103337905807,"d":"4.52%"},{"v":0.012286141594269166,"d":"1.23%"},{"v":2.2671848803536045E-3,"d":"0.23%"},{"v":2.7149062642889806E-4,"d":"0.03%"},{"v":1.9051973784484073E-5,"d":"0.00%"},{"v":5.9537418076512728E-7,"d":"0.00%"},{"v":0,"d":"0.00%"},{"v":0,"d":"0.00%"},{"v":0,"d":"0.00%"},{"v":0,"d":"0.00%"},{"v":0,"d":"0.00%"},{"v":0,"d":"0.00%"},{"v":0,"d":"0.00%"},{"v":0,"d":"0.00%"}]
[]
["Schaden mit Reroll"]
["Würfel",0,1,2,3,4,5,6,7,8,9,10,11,12,13,14,15,16,17,18,19,20,21,22,23,24,"Erwartungswert"]
[1,{"v":0.027777777777777776,"d":"2.78%"},{"v":0.6666666666666666,"d":"66.67%"},{"v":0.3055555555555556,"d":"30.56%"},{"v":0,"d":"0.00%"},{"v":0,"d":"0.00%"},{"v":0,"d":"0.00%"},{"v":0,"d":"0.00%"},{"v":0,"d":"0.00%"},{"v":0,"d":"0.00%"},{"v":0,"d":"0.00%"},{"v":0,"d":"0.00%"},{"v":0,"d":"0.00%"},{"v":0,"d":"0.00%"},{"v":0,"d":"0.00%"},{"v":0,"d":"0.00%"},{"v":0,"d":"0.00%"},{"v":0,"d":"0.00%"},{"v":0,"d":"0.00%"},{"v":0,"d":"0.00%"},{"v":0,"d":"0.00%"},{"v":0,"d":"0.00%"},{"v":0,"d":"0.00%"},{"v":0,"d":"0.00%"},{"v":0,"d":"0.00%"},{"v":0,"d":"0.00%"},{"$f":"SUMPRODUCT(B$2:Z$2,B14:Z14)","v":1.2777777777777777}]
[2,{"v":0.004629629629629629,"d":"0.46%"},{"v":0.05555555555555555,"d":"5.56%"},{"v":0.5324074074074074,"d":"53.24%"},{"v":0.3333333333333333,"d":"33.33%"},{"v":0.07407407407407407,"d":"7.41%"},{"v":0,"d":"0.00%"},{"v":0,"d":"0.00%"},{"v":0,"d":"0.00%"},{"v":0,"d":"0.00%"},{"v":0,"d":"0.00%"},{"v":0,"d":"0.00%"},{"v":0,"d":"0.00%"},{"v":0,"d":"0.00%"},{"v":0,"d":"0.00%"},{"v":0,"d":"0.00%"},{"v":0,"d":"0.00%"},{"v":0,"d":"0.00%"},{"v":0,"d":"0.00%"},{"v":0,"d":"0.00%"},{"v":0,"d":"0.00%"},{"v":0,"d":"0.00%"},{"v":0,"d":"0.00%"},{"v":0,"d":"0.00%"},{"v":0,"d":"0.00%"},{"v":0,"d":"0.00%"},{"$f":"SUMPRODUCT(B$2:Z$2,B15:Z15)","v":2.4166666666666665}]
[3,{"v":7.716049382716049E-4,"d":"0.08%"},{"v":0.012345679012345678,"d":"1.23%"},{"v":0.07716049382716049,"d":"7.72%"},{"v":0.43209876543209874,"d":"43.21%"},{"v":0.35030864197530864,"d":"35.03%"},{"v":0.1111111111111111,"d":"11.11%"},{"v":0.016203703703703703,"d":"1.62%"},{"v":0,"d":"0.00%"},{"v":0,"d":"0.00%"},{"v":0,"d":"0.00%"},{"v":0,"d":"0.00%"},{"v":0,"d":"0.00%"},{"v":0,"d":"0.00%"},{"v":0,"d":"0.00%"},{"v":0,"d":"0.00%"},{"v":0,"d":"0.00%"},{"v":0,"d":"0.00%"},{"v":0,"d":"0.00%"},{"v":0,"d":"0.00%"},{"v":0,"d":"0.00%"},{"v":0,"d":"0.00%"},{"v":0,"d":"0.00%"},{"v":0,"d":"0.00%"},{"v":0,"d":"0.00%"},{"v":0,"d":"0.00%"},3.5169753086419755]
[4,{"v":1.286008230452675E-4,"d":"0.01%"},{"v":0.00257201646090535,"d":"0.26%"},{"v":0.021219135802469136,"d":"2.12%"},{"v":0.09259259259259259,"d":"9.26%"},{"v":0.3593106995884774,"d":"35.93%"},{"v":0.3446502057613169,"d":"34.47%"},{"v":0.14531893004115226,"d":"14.53%"},{"v":0.030864197530864196,"d":"3.09%"},{"v":3.3436213991769547E-3,"d":"0.33%"},{"v":0,"d":"0.00%"},{"v":0,"d":"0.00%"},{"v":0,"d":"0.00%"},{"v":0,"d":"0.00%"},{"v":0,"d":"0.00%"},{"v":0,"d":"0.00%"},{"v":0,"d":"0.00%"},{"v":0,"d":"0.00%"},{"v":0,"d":"0.00%"},{"v":0,"d":"0.00%"},{"v":0,"d":"0.00%"},{"v":0,"d":"0.00%"},{"v":0,"d":"0.00%"},{"v":0,"d":"0.00%"},{"v":0,"d":"0.00%"},{"v":0,"d":"0.00%"},4.597993827160494]
[5,{"v":2.143347050754458E-5,"d":"0.00%"},{"v":5.1440329218107E-4,"d":"0.05%"},{"v":0.005272633744855967,"d":"0.53%"},{"v":0.030006858710562415,"d":"3.00%"},{"v":0.10320216049382716,"d":"10.32%"},{"v":0.3069272976680384,"d":"30.69%"},{"v":0.3275891632373114,"d":"32.76%"},{"v":0.1697530864197531,"d":"16.98%"},{"v":0.048332475994513034,"d":"4.83%"},{"v":7.716049382716049E-3,"d":"0.77%"},{"v":0.000664437585733882,"d":"0.07%"},{"v":0,"d":"0.00%"},{"v":0,"d":"0.00%"},{"v":0,"d":"0.00%"},{"v":0,"d":"0.00%"},{"v":0,"d":"0.00%"},{"v":0,"d":"0.00%"},{"v":0,"d":"0.00%"},{"v":0,"d":"0.00%"},{"v":0,"d":"0.00%"},{"v":0,"d":"0.00%"},{"v":0,"d":"0.00%"},{"v":0,"d":"0.00%"},{"v":0,"d":"0.00%"},{"v":0,"d":"0.00%"},5.665080589849109]
[6,{"v":3.5722450845907635E-6,"d":"0.00%"},{"v":1.0002286236854138E-4,"d":"0.01%"},{"v":1.225280064014632E-3,"d":"0.12%"},{"v":0.008601966163694559,"d":"0.86%"},{"v":0.03808370484682213,"d":"3.81%"},{"v":0.11032521719250114,"d":"11.03%"},{"v":0.26910079446730684,"d":"26.91%"},{"v":0.30606995884773663,"d":"30.61%"},{"v":0.18496727823502515,"d":"18.50%"},{"v":0.06551497485139461,"d":"6.55%"},{"v":0.0140782178783722,"d":"1.41%"},{"v":0.001800411522633745,"d":"0.18%"},{"v":1.286008230452675E-4,"d":"0.01%"},{"v":0,"d":"0.00%"},{"v":0,"d":"0.00%"},{"v":0,"d":"0.00%"},{"v":0,"d":"0.00%"},{"v":0,"d":"0.00%"},{"v":0,"d":"0.00%"},{"v":0,"d":"0.00%"},{"v":0,"d":"0.00%"},{"v":0,"d":"0.00%"},{"v":0,"d":"0.00%"},{"v":0,"d":"0.00%"},{"v":0,"d":"0.00%"},6.720914780521262]
[7,{"v":5.9537418076512728E-7,"d":"0.00%"},{"v":1.9051973784484073E-5,"d":"0.00%"},{"v":2.7149062642889806E-4,"d":"0.03%"},{"v":2.2671848803536045E-3,"d":"0.23%"},{"v":0.012286141594269166,"d":"1.23%"},{"v":0.0452103337905807,"d":"4.52%"},{"v":0.11499295076969974,"d":"11.50%"},{"v":0.24148376771833563,"d":"24.15%"},{"v":0.28399229347660415,"d":"28.40%"},{"v":0.1927107148300564,"d":"19.27%"},{"v":0.08085181374790429,"d":"8.09%"},{"v":0.021738302088096326,"d":"2.17%"},{"v":0.003750857338820302,"d":"0.38%"},{"v":4.000914494741655E-4,"d":"0.04%"},{"v":2.4410341411370219E-5,"d":"0.00%"},{"v":0,"d":"0.00%"},{"v":0,"d":"0.00%"},{"v":0,"d":"0.00%"},{"v":0,"d":"0.00%"},{"v":0,"d":"0.00%"},{"v":0,"d":"0.00%"},{"v":0,"d":"0.00%"},{"v":0,"d":"0.00%"},{"v":0,"d":"0.00%"},{"v":0,"d":"0.00%"},7.767431365264441]
[8,{"v":9.92290301275212e-08,"d":"0.00%"},{"v":3.5722450845907635E-6,"d":"0.00%"},{"v":5.804898262459991E-5,"d":"0.01%"},{"v":5.6203322664228012E-4,"d":"0.06%"},{"v":3.6043952903520803E-3,"d":"0.36%"},{"v":0.016103680841335163,"d":"1.61%"},{"v":0.051353404587715284,"d":"5.14%"},{"v":0.11794124371284866,"d":"11.79%"},{"v":0.2209836454681705,"d":"22.10%"},{"v":0.2633197111720774,"d":"26.33%"},{"v":0.19497135059442158,"d":"19.50%"},{"v":0.09355471726870904,"d":"9.36%"},{"v":0.030015193949093126,"d":"3.00%"},{"v":6.50148605395519E-3,"d":"0.65%"},{"v":9.3711896052431029E-4,"d":"0.09%"},{"v":8.573388203017832E-5,"d":"0.01%"},{"v":4.564535385865976E-6,"d":"0.00%"},{"v":0,"d":"0.00%"},{"v":0,"d":"0.00%"},{"v":0,"d":"0.00%"},{"v":0,"d":"0.00%"},{"v":0,"d":"0.00%"},{"v":0,"d":"0.00%"},{"v":0,"d":"0.00%"},{"v":0,"d":"0.00%"},8.806193201303152]

{"sheet":"Fernkampf","index":2,"n_rows":21,"n_cols":27,"rows_kept":21}
["Schaden ohne Reroll"]
["Würfel",0,1,2,3,4,5,6,7,8,9,10,11,12,13,14,15,16,17,18,19,20,21,22,23,24]
[1,{"v":0.3333333333333333,"d":"33.33%"},{"v":0.3333333333333333,"d":"33.33%"},{"v":0.3333333333333333,"d":"33.33%"},{"v":0,"d":"0.00%"},{"v":0,"d":"0.00%"},{"v":0,"d":"0.00%"},{"v":0,"d":"0.00%"},{"v":0,"d":"0.00%"},{"v":0,"d":"0.00%"},{"v":0,"d":"0.00%"},{"v":0,"d":"0.00%"},{"v":0,"d":"0.00%"},{"v":0,"d":"0.00%"},{"v":0,"d":"0.00%"},{"v":0,"d":"0.00%"},{"v":0,"d":"0.00%"},{"v":0,"d":"0.00%"},{"v":0,"d":"0.00%"},{"v":0,"d":"0.00%"},{"v":0,"d":"0.00%"},{"v":0,"d":"0.00%"},{"v":0,"d":"0.00%"},{"v":0,"d":"0.00%"},{"v":0,"d":"0.00%"},{"v":0,"d":"0.00%"}]
[2,{"v":0.1111111111111111,"d":"11.11%"},{"v":0.2222222222222222,"d":"22.22%"},{"v":0.3333333333333333,"d":"33.33%"},{"v":0.2222222222222222,"d":"22.22%"},{"v":0.1111111111111111,"d":"11.11%"},{"v":0,"d":"0.00%"},{"v":0,"d":"0.00%"},{"v":0,"d":"0.00%"},{"v":0,"d":"0.00%"},{"v":0,"d":"0.00%"},{"v":0,"d":"0.00%"},{"v":0,"d":"0.00%"},{"v":0,"d":"0.00%"},{"v":0,"d":"0.00%"},{"v":0,"d":"0.00%"},{"v":0,"d":"0.00%"},{"v":0,"d":"0.00%"},{"v":0,"d":"0.00%"},{"v":0,"d":"0.00%"},{"v":0,"d":"0.00%"},{"v":0,"d":"0.00%"},{"v":0,"d":"0.00%"},{"v":0,"d":"0.00%"},{"v":0,"d":"0.00%"},{"v":0,"d":"0.00%"}]
[3,{"v":0.037037037037037035,"d":"3.70%"},{"v":0.1111111111111111,"d":"11.11%"},{"v":0.2222222222222222,"d":"22.22%"},{"v":0.25925925925925924,"d":"25.93%"},{"v":0.2222222222222222,"d":"22.22%"},{"v":0.1111111111111111,"d":"11.11%"},{"v":0.037037037037037035,"d":"3.70%"},{"v":0,"d":"0.00%"},{"v":0,"d":"0.00%"},{"v":0,"d":"0.00%"},{"v":0,"d":"0.00%"},{"v":0,"d":"0.00%"},{"v":0,"d":"0.00%"},{"v":0,"d":"0.00%"},{"v":0,"d":"0.00%"},{"v":0,"d":"0.00%"},{"v":0,"d":"0.00%"},{"v":0,"d":"0.00%"},{"v":0,"d":"0.00%"},{"v":0,"d":"0.00%"},{"v":0,"d":"0.00%"},{"v":0,"d":"0.00%"},{"v":0,"d":"0.00%"},{"v":0,"d":"0.00%"},{"v":0,"d":"0.00%"}]
[4,{"v":0.012345679012345678,"d":"1.23%"},{"v":0.04938271604938271,"d":"4.94%"},{"v":0.12345679012345678,"d":"12.35%"},{"v":0.19753086419753085,"d":"19.75%"},{"v":0.2345679012345679,"d":"23.46%"},{"v":0.19753086419753085,"d":"19.75%"},{"v":0.12345679012345678,"d":"12.35%"},{"v":0.04938271604938271,"d":"4.94%"},{"v":0.012345679012345678,"d":"1.23%"},{"v":0,"d":"0.00%"},{"v":0,"d":"0.00%"},{"v":0,"d":"0.00%"},{"v":0,"d":"0.00%"},{"v":0,"d":"0.00%"},{"v":0,"d":"0.00%"},{"v":0,"d":"0.00%"},{"v":0,"d":"0.00%"},{"v":0,"d":"0.00%"},{"v":0,"d":"0.00%"},{"v":0,"d":"0.00%"},{"v":0,"d":"0.00%"},{"v":0,"d":"0.00%"},{"v":0,"d":"0.00%"},{"v":0,"d":"0.00%"},{"v":0,"d":"0.00%"}]
[5,{"v":4.11522633744856E-3,"d":"0.41%"},{"v":0.0205761316872428,"d":"2.06%"},{"v":0.06172839506172839,"d":"6.17%"},{"v":0.12345679012345678,"d":"12.35%"},{"v":0.18518518518518517,"d":"18.52%"},{"v":0.20987654320987653,"d":"20.99%"},{"v":0.18518518518518517,"d":"18.52%"},{"v":0.12345679012345678,"d":"12.35%"},{"v":0.06172839506172839,"d":"6.17%"},{"v":0.0205761316872428,"d":"2.06%"},{"v":4.11522633744856E-3,"d":"0.41%"},{"v":0,"d":"0.00%"},{"v":0,"d":"0.00%"},{"v":0,"d":"0.00%"},{"v":0,"d":"0.00%"},{"v":0,"d":"0.00%"},{"v":0,"d":"0.00%"},{"v":0,"d":"0.00%"},{"v":0,"d":"0.00%"},{"v":0,"d":"0.00%"},{"v":0,"d":"0.00%"},{"v":0,"d":"0.00%"},{"v":0,"d":"0.00%"},{"v":0,"d":"0.00%"},{"v":0,"d":"0.00%"}]
[6,{"v":1.3717421124828531E-3,"d":"0.14%"},{"v":8.23045267489712E-3,"d":"0.82%"},{"v":0.02880658436213992,"d":"2.88%"},{"v":0.06858710562414266,"d":"6.86%"},{"v":0.12345679012345678,"d":"12.35%"},{"v":0.1728395061728395,"d":"17.28%"},{"v":0.1934156378600823,"d":"19.34%"},{"v":0.1728395061728395,"d":"17.28%"},{"v":0.12345679012345678,"d":"12.35%"},{"v":0.06858710562414266,"d":"6.86%"},{"v":0.02880658436213992,"d":"2.88%"},{"v":8.23045267489712E-3,"d":"0.82%"},{"v":1.3717421124828531E-3,"d":"0.14%"},{"v":0,"d":"0.00%"},{"v":0,"d":"0.00%"},{"v":0,"d":"0.00%"},{"v":0,"d":"0.00%"},{"v":0,"d":"0.00%"},{"v":0,"d":"0.00%"},{"v":0,"d":"0.00%"},{"v":0,"d":"0.00%"},{"v":0,"d":"0.00%"},{"v":0,"d":"0.00%"},{"v":0,"d":"0.00%"},{"v":0,"d":"0.00%"}]
[7,{"v":4.5724737082761773E-4,"d":"0.05%"},{"v":3.200731595793324E-3,"d":"0.32%"},{"v":0.012802926383173296,"d":"1.28%"},{"v":0.035208047553726564,"d":"3.52%"},{"v":0.07361682670324646,"d":"7.36%"},{"v":0.12162780064014632,"d":"12.16%"},{"v":0.16323731138545952,"d":"16.32%"},{"v":0.17969821673525377,"d":"17.97%"},{"v":0.16323731138545952,"d":"16.32%"},{"v":0.12162780064014632,"d":"12.16%"},{"v":0.07361682670324646,"d":"7.36%"},{"v":0.035208047553726564,"d":"3.52%"},{"v":0.012802926383173296,"d":"1.28%"},{"v":3.200731595793324E-3,"d":"0.32%"},{"v":4.5724737082761773E-4,"d":"0.05%"},{"v":0,"d":"0.00%"},{"v":0,"d":"0.00%"},{"v":0,"d":"0.00%"},{"v":0,"d":"0.00%"},{"v":0,"d":"0.00%"},{"v":0,"d":"0.00%"},{"v":0,"d":"0.00%"},{"v":0,"d":"0.00%"},{"v":0,"d":"0.00%"},{"v":0,"d":"0.00%"}]
[8,{"v":1.5241579027587258E-4,"d":"0.02%"},{"v":1.2193263222069807E-3,"d":"0.12%"},{"v":5.4869684499314125E-3,"d":"0.55%"},{"v":0.017070568510897728,"d":"1.71%"},{"v":0.04054260021338211,"d":"4.05%"},{"v":0.07681755829903979,"d":"7.68%"},{"v":0.1194939795762841,"d":"11.95%"},{"v":0.15485444292028655,"d":"15.49%"},{"v":0.16872427983539096,"d":"16.87%"},{"v":0.15485444292028655,"d":"15.49%"},{"v":0.1194939795762841,"d":"11.95%"},{"v":0.07681755829903979,"d":"7.68%"},{"v":0.04054260021338211,"d":"4.05%"},{"v":0.017070568510897728,"d":"1.71%"},{"v":5.4869684499314125E-3,"d":"0.55%"},{"v":1.2193263222069807E-3,"d":"0.12%"},{"v":1.5241579027587258E-4,"d":"0.02%"},{"v":0,"d":"0.00%"},{"v":0,"d":"0.00%"},{"v":0,"d":"0.00%"},{"v":0,"d":"0.00%"},{"v":0,"d":"0.00%"},{"v":0,"d":"0.00%"},{"v":0,"d":"0.00%"},{"v":0,"d":"0.00%"}]
[]
["Schaden mit Reroll"]
["Würfel",0,1,2,3,4,5,6,7,8,9,10,11,12,13,14,15,16,17,18,19,20,21,22,23,24,"Erwartungswert"]
[1,{"v":0.1111111111111111,"d":"11.11%"},{"v":0.3333333333333333,"d":"33.33%"},{"v":0.5555555555555556,"d":"55.56%"},{"v":0,"d":"0.00%"},{"v":0,"d":"0.00%"},{"v":0,"d":"0.00%"},{"v":0,"d":"0.00%"},{"v":0,"d":"0.00%"},{"v":0,"d":"0.00%"},{"v":0,"d":"0.00%"},{"v":0,"d":"0.00%"},{"v":0,"d":"0.00%"},{"v":0,"d":"0.00%"},{"v":0,"d":"0.00%"},{"v":0,"d":"0.00%"},{"v":0,"d":"0.00%"},{"v":0,"d":"0.00%"},{"v":0,"d":"0.00%"},{"v":0,"d":"0.00%"},{"v":0,"d":"0.00%"},{"v":0,"d":"0.00%"},{"v":0,"d":"0.00%"},{"v":0,"d":"0.00%"},{"v":0,"d":"0.00%"},{"v":0,"d":"0.00%"},{"$f":"SUMPRODUCT(B$2:Z$2,B14:Z14)","v":1.4444444444444444}]
[2,{"v":0.037037037037037035,"d":"3.70%"},{"v":0.1111111111111111,"d":"11.11%"},{"v":0.25925925925925924,"d":"25.93%"},{"v":0.3333333333333333,"d":"33.33%"},{"v":0.25925925925925924,"d":"25.93%"},{"v":0,"d":"0.00%"},{"v":0,"d":"0.00%"},{"v":0,"d":"0.00%"},{"v":0,"d":"0.00%"},{"v":0,"d":"0.00%"},{"v":0,"d":"0.00%"},{"v":0,"d":"0.00%"},{"v":0,"d":"0.00%"},{"v":0,"d":"0.00%"},{"v":0,"d":"0.00%"},{"v":0,"d":"0.00%"},{"v":0,"d":"0.00%"},{"v":0,"d":"0.00%"},{"v":0,"d":"0.00%"},{"v":0,"d":"0.00%"},{"v":0,"d":"0.00%"},{"v":0,"d":"0.00%"},{"v":0,"d":"0.00%"},{"v":0,"d":"0.00%"},{"v":0,"d":"0.00%"},{"$f":"SUMPRODUCT(B$2:Z$2,B15:Z15)","v":2.6666666666666665}]
[3,{"v":0.012345679012345678,"d":"1.23%"},{"v":0.04938271604938271,"d":"4.94%"},{"v":0.12345679012345678,"d":"12.35%"},{"v":0.20987654320987653,"d":"20.99%"},{"v":0.2716049382716049,"d":"27.16%"},{"v":0.2222222222222222,"d":"22.22%"},{"v":0.1111111111111111,"d":"11.11%"},{"v":0,"d":"0.00%"},{"v":0,"d":"0.00%"},{"v":0,"d":"0.00%"},{"v":0,"d":"0.00%"},{"v":0,"d":"0.00%"},{"v":0,"d":"0.00%"},{"v":0,"d":"0.00%"},{"v":0,"d":"0.00%"},{"v":0,"d":"0.00%"},{"v":0,"d":"0.00%"},{"v":0,"d":"0.00%"},{"v":0,"d":"0.00%"},{"v":0,"d":"0.00%"},{"v":0,"d":"0.00%"},{"v":0,"d":"0.00%"},{"v":0,"d":"0.00%"},{"v":0,"d":"0.00%"},{"v":0,"d":"0.00%"},3.7901234567901234]
[4,{"v":4.11522633744856E-3,"d":"0.41%"},{"v":0.0205761316872428,"d":"2.06%"},{"v":0.06172839506172839,"d":"6.17%"},{"v":0.12345679012345678,"d":"12.35%"},{"v":0.18930041152263374,"d":"18.93%"},{"v":0.22633744855967078,"d":"22.63%"},{"v":0.205761316872428,"d":"20.58%"},{"v":0.12345679012345678,"d":"12.35%"},{"v":0.04526748971193416,"d":"4.53%"},{"v":0,"d":"0.00%"},{"v":0,"d":"0.00%"},{"v":0,"d":"0.00%"},{"v":0,"d":"0.00%"},{"v":0,"d":"0.00%"},{"v":0,"d":"0.00%"},{"v":0,"d":"0.00%"},{"v":0,"d":"0.00%"},{"v":0,"d":"0.00%"},{"v":0,"d":"0.00%"},{"v":0,"d":"0.00%"},{"v":0,"d":"0.00%"},{"v":0,"d":"0.00%"},{"v":0,"d":"0.00%"},{"v":0,"d":"0.00%"},{"v":0,"d":"0.00%"},4.864197530864198]
[5,{"v":1.3717421124828531E-3,"d":"0.14%"},{"v":8.23045267489712E-3,"d":"0.82%"},{"v":0.02880658436213992,"d":"2.88%"},{"v":0.06858710562414266,"d":"6.86%"},{"v":0.12345679012345678,"d":"12.35%"},{"v":0.17421124828532236,"d":"17.42%"},{"v":0.20027434842249658,"d":"20.03%"},{"v":0.18518518518518517,"d":"18.52%"},{"v":0.13031550068587106,"d":"13.03%"},{"v":0.06172839506172839,"d":"6.17%"},{"v":0.01783264746227709,"d":"1.78%"},{"v":0,"d":"0.00%"},{"v":0,"d":"0.00%"},{"v":0,"d":"0.00%"},{"v":0,"d":"0.00%"},{"v":0,"d":"0.00%"},{"v":0,"d":"0.00%"},{"v":0,"d":"0.00%"},{"v":0,"d":"0.00%"},{"v":0,"d":"0.00%"},{"v":0,"d":"0.00%"},{"v":0,"d":"0.00%"},{"v":0,"d":"0.00%"},{"v":0,"d":"0.00%"},{"v":0,"d":"0.00%"},5.910836762688614]
[6,{"v":4.5724737082761773E-4,"d":"0.05%"},{"v":3.200731595793324E-3,"d":"0.32%"},{"v":0.012802926383173296,"d":"1.28%"},{"v":0.035208047553726564,"d":"3.52%"},{"v":0.07361682670324646,"d":"7.36%"},{"v":0.12162780064014632,"d":"12.16%"},{"v":0.16369455875628716,"d":"16.37%"},{"v":0.18244170096021947,"d":"18.24%"},{"v":0.16963877457704618,"d":"16.96%"},{"v":0.12802926383173296,"d":"12.80%"},{"v":0.07361682670324646,"d":"7.36%"},{"v":0.02880658436213992,"d":"2.88%"},{"v":0.006858710562414266,"d":"0.69%"},{"v":0,"d":"0.00%"},{"v":0,"d":"0.00%"},{"v":0,"d":"0.00%"},{"v":0,"d":"0.00%"},{"v":0,"d":"0.00%"},{"v":0,"d":"0.00%"},{"v":0,"d":"0.00%"},{"v":0,"d":"0.00%"},{"v":0,"d":"0.00%"},{"v":0,"d":"0.00%"},{"v":0,"d":"0.00%"},{"v":0,"d":"0.00%"},6.941015089163238]
[7,{"v":1.5241579027587258E-4,"d":"0.02%"},{"v":1.2193263222069807E-3,"d":"0.12%"},{"v":5.4869684499314125E-3,"d":"0.55%"},{"v":0.017070568510897728,"d":"1.71%"},{"v":0.04054260021338211,"d":"4.05%"},{"v":0.07681755829903979,"d":"7.68%"},{"v":0.1194939795762841,"d":"11.95%"},{"v":0.1550068587105624,"d":"15.50%"},{"v":0.16979119036732204,"d":"16.98%"},{"v":0.157902758725804,"d":"15.79%"},{"v":0.12376162170400853,"d":"12.38%"},{"v":0.078951379362902,"d":"7.90%"},{"v":0.038408779149519894,"d":"3.84%"},{"v":0.012802926383173296,"d":"1.28%"},{"v":0.002591068434689834,"d":"0.26%"},{"v":0,"d":"0.00%"},{"v":0,"d":"0.00%"},{"v":0,"d":"0.00%"},{"v":0,"d":"0.00%"},{"v":0,"d":"0.00%"},{"v":0,"d":"0.00%"},{"v":0,"d":"0.00%"},{"v":0,"d":"0.00%"},{"v":0,"d":"0.00%"},{"v":0,"d":"0.00%"},7.9608291418991]
[8,{"v":5.0805263425290857E-5,"d":"0.01%"},{"v":4.5724737082761773E-4,"d":"0.05%"},{"v":0.002286236854138089,"d":"0.23%"},{"v":0.007925621094345374,"d":"0.79%"},{"v":0.021033379058070414,"d":"2.10%"},{"v":0.04481024234110654,"d":"4.48%"},{"v":0.078951379362902,"d":"7.90%"},{"v":0.11705532693187014,"d":"11.71%"},{"v":0.14774170604074582,"d":"14.77%"},{"v":0.15988416399939034,"d":"15.99%"},{"v":0.1490626428898034,"d":"14.91%"},{"v":0.1194939795762841,"d":"11.95%"},{"v":0.08108520042676422,"d":"8.11%"},{"v":0.04481024234110654,"d":"4.48%"},{"v":0.0188995579942082,"d":"1.89%"},{"v":5.4869684499314125E-3,"d":"0.55%"},{"v":9.6530000508052638E-4,"d":"0.10%"},{"v":0,"d":"0.00%"},{"v":0,"d":"0.00%"},{"v":0,"d":"0.00%"},{"v":0,"d":"0.00%"},{"v":0,"d":"0.00%"},{"v":0,"d":"0.00%"},{"v":0,"d":"0.00%"},{"v":0,"d":"0.00%"},8.973936899862824]

{"sheet":"Explosion","index":3,"n_rows":21,"n_cols":27,"rows_kept":21}
["Schaden ohne Reroll"]
["Würfel",0,1,2,3,4,5,6,7,8,9,10,11,12,13,14,15,16,17,18,19,20,21,22,23,24]
[1,{"v":0.5,"d":"50.00%"},{"v":0.16666666666666666,"d":"16.67%"},{"v":0.16666666666666666,"d":"16.67%"},{"v":0.16666666666666666,"d":"16.67%"},{"v":0,"d":"0.00%"},{"v":0,"d":"0.00%"},{"v":0,"d":"0.00%"},{"v":0,"d":"0.00%"},{"v":0,"d":"0.00%"},{"v":0,"d":"0.00%"},{"v":0,"d":"0.00%"},{"v":0,"d":"0.00%"},{"v":0,"d":"0.00%"},{"v":0,"d":"0.00%"},{"v":0,"d":"0.00%"},{"v":0,"d":"0.00%"},{"v":0,"d":"0.00%"},{"v":0,"d":"0.00%"},{"v":0,"d":"0.00%"},{"v":0,"d":"0.00%"},{"v":0,"d":"0.00%"},{"v":0,"d":"0.00%"},{"v":0,"d":"0.00%"},{"v":0,"d":"0.00%"},{"v":0,"d":"0.00%"}]
[2,{"v":0.25,"d":"25.00%"},{"v":0.16666666666666666,"d":"16.67%"},{"v":0.19444444444444445,"d":"19.44%"},{"v":0.2222222222222222,"d":"22.22%"},{"v":0.08333333333333333,"d":"8.33%"},{"v":0.05555555555555555,"d":"5.56%"},{"v":0.027777777777777776,"d":"2.78%"},{"v":0,"d":"0.00%"},{"v":0,"d":"0.00%"},{"v":0,"d":"0.00%"},{"v":0,"d":"0.00%"},{"v":0,"d":"0.00%"},{"v":0,"d":"0.00%"},{"v":0,"d":"0.00%"},{"v":0,"d":"0.00%"},{"v":0,"d":"0.00%"},{"v":0,"d":"0.00%"},{"v":0,"d":"0.00%"},{"v":0,"d":"0.00%"},{"v":0,"d":"0.00%"},{"v":0,"d":"0.00%"},{"v":0,"d":"0.00%"},{"v":0,"d":"0.00%"},{"v":0,"d":"0.00%"},{"v":0,"d":"0.00%"}]
[3,{"v":0.125,"d":"12.50%"},{"v":0.125,"d":"12.50%"},{"v":0.16666666666666666,"d":"16.67%"},{"v":0.21296296296296297,"d":"21.30%"},{"v":0.1388888888888889,"d":"13.89%"},{"v":0.1111111111111111,"d":"11.11%"},{"v":0.07407407407407407,"d":"7.41%"},{"v":0.027777777777777776,"d":"2.78%"},{"v":0.013888888888888888,"d":"1.39%"},{"v":0.004629629629629629,"d":"0.46%"},{"v":0,"d":"0.00%"},{"v":0,"d":"0.00%"},{"v":0,"d":"0.00%"},{"v":0,"d":"0.00%"},{"v":0,"d":"0.00%"},{"v":0,"d":"0.00%"},{"v":0,"d":"0.00%"},{"v":0,"d":"0.00%"},{"v":0,"d":"0.00%"},{"v":0,"d":"0.00%"},{"v":0,"d":"0.00%"},{"v":0,"d":"0.00%"},{"v":0,"d":"0.00%"},{"v":0,"d":"0.00%"},{"v":0,"d":"0.00%"}]
[4,{"v":0.0625,"d":"6.25%"},{"v":0.08333333333333333,"d":"8.33%"},{"v":0.125,"d":"12.50%"},{"v":0.17592592592592593,"d":"17.59%"},{"v":0.15354938271604937,"d":"15.35%"},{"v":0.1419753086419753,"d":"14.20%"},{"v":0.11419753086419752,"d":"11.42%"},{"v":0.06790123456790123,"d":"6.79%"},{"v":0.04243827160493827,"d":"4.24%"},{"v":0.021604938271604937,"d":"2.16%"},{"v":7.716049382716049E-3,"d":"0.77%"},{"v":3.0864197530864196E-3,"d":"0.31%"},{"v":7.716049382716049E-4,"d":"0.08%"},{"v":0,"d":"0.00%"},{"v":0,"d":"0.00%"},{"v":0,"d":"0.00%"},{"v":0,"d":"0.00%"},{"v":0,"d":"0.00%"},{"v":0,"d":"0.00%"},{"v":0,"d":"0.00%"},{"v":0,"d":"0.00%"},{"v":0,"d":"0.00%"},{"v":0,"d":"0.00%"},{"v":0,"d":"0.00%"},{"v":0,"d":"0.00%"}]
[5,{"v":0.03125,"d":"3.13%"},{"v":0.052083333333333336,"d":"5.21%"},{"v":0.08680555555555555,"d":"8.68%"},{"v":0.13310185185185186,"d":"13.31%"},{"v":0.1408179012345679,"d":"14.08%"},{"v":0.1467335390946502,"d":"14.67%"},{"v":0.1356738683127572,"d":"13.57%"},{"v":0.10223765432098765,"d":"10.22%"},{"v":0.07523148148148148,"d":"7.52%"},{"v":0.04822530864197531,"d":"4.82%"},{"v":0.025848765432098766,"d":"2.58%"},{"v":0.013503086419753086,"d":"1.35%"},{"v":0.005787037037037037,"d":"0.58%"},{"v":1.9290123456790122E-3,"d":"0.19%"},{"v":6.4300411522633745E-4,"d":"0.06%"},{"v":1.286008230452675E-4,"d":"0.01%"},{"v":0,"d":"0.00%"},{"v":0,"d":"0.00%"},{"v":0,"d":"0.00%"},{"v":0,"d":"0.00%"},{"v":0,"d":"0.00%"},{"v":0,"d":"0.00%"},{"v":0,"d":"0.00%"},{"v":0,"d":"0.00%"},{"v":0,"d":"0.00%"}]
[6,{"v":0.015625,"d":"1.56%"},{"v":0.03125,"d":"3.13%"},{"v":0.057291666666666664,"d":"5.73%"},{"v":0.09490740740740741,"d":"9.49%"},{"v":0.11574074074074074,"d":"11.57%"},{"v":0.13348765432098766,"d":"13.35%"},{"v":0.13794581618655694,"d":"13.79%"},{"v":0.12165637860082304,"d":"12.17%"},{"v":0.10172325102880658,"d":"10.17%"},{"v":0.0763031550068587,"d":"7.63%"},{"v":0.050540123456790126,"d":"5.05%"},{"v":0.031635802469135804,"d":"3.16%"},{"v":0.01748971193415638,"d":"1.75%"},{"v":0.008487654320987654,"d":"0.85%"},{"v":3.8580246913580245E-3,"d":"0.39%"},{"v":1.4574759945130316E-3,"d":"0.15%"},{"v":4.5010288065843623E-4,"d":"0.05%"},{"v":1.286008230452675E-4,"d":"0.01%"},{"v":2.143347050754458E-5,"d":"0.00%"},{"v":0,"d":"0.00%"},{"v":0,"d":"0.00%"},{"v":0,"d":"0.00%"},{"v":0,"d":"0.00%"},{"v":0,"d":"0.00%"},{"v":0,"d":"0.00%"}]
[7,{"v":7.8125E-3,"d":"0.78%"},{"v":0.018229166666666668,"d":"1.82%"},{"v":0.036458333333333336,"d":"3.65%"},{"v":0.06481481481481481,"d":"6.48%"},{"v":0.08844521604938271,"d":"8.84%"},{"v":0.11140046296296297,"d":"11.14%"},{"v":0.12632887517146776,"d":"12.63%"},{"v":0.12535722450845907,"d":"12.54%"},{"v":0.1163766003657979,"d":"11.64%"},{"v":0.09837248513946045,"d":"9.84%"},{"v":0.07521719250114312,"d":"7.52%"},{"v":0.05391232281664381,"d":"5.39%"},{"v":0.03515803612254229,"d":"3.52%"},{"v":0.02085476680384088,"d":"2.09%"},{"v":0.011531207133058986,"d":"1.15%"},{"v":5.7013031550068585E-3,"d":"0.57%"},{"v":2.5255772748056697E-3,"d":"0.25%"},{"v":0.001025234339277549,"d":"0.10%"},{"v":3.5008001828989484E-4,"d":"0.04%"},{"v":1.0002286236854138E-4,"d":"0.01%"},{"v":2.5005715592135344E-5,"d":"0.00%"},{"v":3.5722450845907635E-6,"d":"0.00%"},{"v":0,"d":"0.00%"},{"v":0,"d":"0.00%"},{"v":0,"d":"0.00%"}]
[8,{"v":3.90625E-3,"d":"0.39%"},{"v":0.010416666666666666,"d":"1.04%"},{"v":0.022569444444444444,"d":"2.26%"},{"v":0.04282407407407408,"d":"4.28%"},{"v":0.06413966049382716,"d":"6.41%"},{"v":0.08731995884773662,"d":"8.73%"},{"v":0.10727451989026063,"d":"10.73%"},{"v":0.11704103795153178,"d":"11.70%"},{"v":0.11870272729004724,"d":"11.87%"},{"v":0.11053002591068435,"d":"11.05%"},{"v":0.0942929812528578,"d":"9.43%"},{"v":0.07528387440938882,"d":"7.53%"},{"v":0.05549601813747904,"d":"5.55%"},{"v":0.03780864197530864,"d":"3.78%"},{"v":0.024086457857033988,"d":"2.41%"},{"v":0.014107986587410457,"d":"1.41%"},{"v":0.007610668152720622,"d":"0.76%"},{"v":3.8056317634506936E-3,"d":"0.38%"},{"v":1.717059137326627E-3,"d":"0.17%"},{"v":7.0016003657978967E-4,"d":"0.07%"},{"v":2.5839239445206522E-4,"d":"0.03%"},{"v":8.09708885840573e-05,"d":"0.01%"},{"v":2.143347050754458E-5,"d":"0.00%"},{"v":4.7629934461210183E-6,"d":"0.00%"},{"v":5.9537418076512728E-7,"d":"0.00%"}]
[]
["Schaden mit Reroll"]
["Würfel",0,1,2,3,4,5,6,7,8,9,10,11,12,13,14,15,16,17,18,19,20,21,22,23,24,"Erwartungswert"]
[1,{"v":0.25,"d":"25.00%"},{"v":0.19444444444444445,"d":"19.44%"},{"v":0.25,"d":"25.00%"},{"v":0.3055555555555556,"d":"30.56%"},{"v":0,"d":"0.00%"},{"v":0,"d":"0.00%"},{"v":0,"d":"0.00%"},{"v":0,"d":"0.00%"},{"v":0,"d":"0.00%"},{"v":0,"d":"0.00%"},{"v":0,"d":"0.00%"},{"v":0,"d":"0.00%"},{"v":0,"d":"0.00%"},{"v":0,"d":"0.00%"},{"v":0,"d":"0.00%"},{"v":0,"d":"0.00%"},{"v":0,"d":"0.00%"},{"v":0,"d":"0.00%"},{"v":0,"d":"0.00%"},{"v":0,"d":"0.00%"},{"v":0,"d":"0.00%"},{"v":0,"d":"0.00%"},{"v":0,"d":"0.00%"},{"v":0,"d":"0.00%"},{"v":0,"d":"0.00%"},{"$f":"SUMPRODUCT(B$2:Z$2,B14:Z14)","v":1.6111111111111112}]
[2,{"v":0.125,"d":"12.50%"},{"v":0.125,"d":"12.50%"},{"v":0.1712962962962963,"d":"17.13%"},{"v":0.2222222222222222,"d":"22.22%"},{"v":0.1574074074074074,"d":"15.74%"},{"v":0.125,"d":"12.50%"},{"v":0.07407407407407407,"d":"7.41%"},{"v":0,"d":"0.00%"},{"v":0,"d":"0.00%"},{"v":0,"d":"0.00%"},{"v":0,"d":"0.00%"},{"v":0,"d":"0.00%"},{"v":0,"d":"0.00%"},{"v":0,"d":"0.00%"},{"v":0,"d":"0.00%"},{"v":0,"d":"0.00%"},{"v":0,"d":"0.00%"},{"v":0,"d":"0.00%"},{"v":0,"d":"0.00%"},{"v":0,"d":"0.00%"},{"v":0,"d":"0.00%"},{"v":0,"d":"0.00%"},{"v":0,"d":"0.00%"},{"v":0,"d":"0.00%"},{"v":0,"d":"0.00%"},{"$f":"SUMPRODUCT(B$2:Z$2,B15:Z15)","v":2.833333333333333}]
[3,{"v":0.0625,"d":"6.25%"},{"v":0.08333333333333333,"d":"8.33%"},{"v":0.125,"d":"12.50%"},{"v":0.17669753086419754,"d":"17.67%"},{"v":0.1558641975308642,"d":"15.59%"},{"v":0.14660493827160495,"d":"14.66%"},{"v":0.11959876543209877,"d":"11.96%"},{"v":0.07253086419753087,"d":"7.25%"},{"v":0.041666666666666664,"d":"4.17%"},{"v":0.016203703703703703,"d":"1.62%"},{"v":0,"d":"0.00%"},{"v":0,"d":"0.00%"},{"v":0,"d":"0.00%"},{"v":0,"d":"0.00%"},{"v":0,"d":"0.00%"},{"v":0,"d":"0.00%"},{"v":0,"d":"0.00%"},{"v":0,"d":"0.00%"},{"v":0,"d":"0.00%"},{"v":0,"d":"0.00%"},{"v":0,"d":"0.00%"},{"v":0,"d":"0.00%"},{"v":0,"d":"0.00%"},{"v":0,"d":"0.00%"},{"v":0,"d":"0.00%"},3.924382716049383]
[4,{"v":0.03125,"d":"3.13%"},{"v":0.052083333333333336,"d":"5.21%"},{"v":0.08680555555555555,"d":"8.68%"},{"v":0.13310185185185186,"d":"13.31%"},{"v":0.14094650205761317,"d":"14.09%"},{"v":0.14724794238683128,"d":"14.72%"},{"v":0.13695987654320987,"d":"13.70%"},{"v":0.10416666666666667,"d":"10.42%"},{"v":0.07728909465020577,"d":"7.73%"},{"v":0.049511316872427984,"d":"4.95%"},{"v":0.0257201646090535,"d":"2.57%"},{"v":0.011574074074074073,"d":"1.16%"},{"v":3.3436213991769547E-3,"d":"0.33%"},{"v":0,"d":"0.00%"},{"v":0,"d":"0.00%"},{"v":0,"d":"0.00%"},{"v":0,"d":"0.00%"},{"v":0,"d":"0.00%"},{"v":0,"d":"0.00%"},{"v":0,"d":"0.00%"},{"v":0,"d":"0.00%"},{"v":0,"d":"0.00%"},{"v":0,"d":"0.00%"},{"v":0,"d":"0.00%"},{"v":0,"d":"0.00%"},4.964506172839506]
[5,{"v":0.015625,"d":"1.56%"},{"v":0.03125,"d":"3.13%"},{"v":0.057291666666666664,"d":"5.73%"},{"v":0.09490740740740741,"d":"9.49%"},{"v":0.11574074074074074,"d":"11.57%"},{"v":0.1335090877914952,"d":"13.35%"},{"v":0.13805298353909465,"d":"13.81%"},{"v":0.12197788065843622,"d":"12.20%"},{"v":0.10234482167352538,"d":"10.23%"},{"v":0.07716049382716049,"d":"7.72%"},{"v":0.05133316186556927,"d":"5.13%"},{"v":0.032064471879286696,"d":"3.21%"},{"v":0.017361111111111112,"d":"1.74%"},{"v":7.823216735253772E-3,"d":"0.78%"},{"v":2.8935185185185184E-3,"d":"0.29%"},{"v":0.000664437585733882,"d":"0.07%"},{"v":0,"d":"0.00%"},{"v":0,"d":"0.00%"},{"v":0,"d":"0.00%"},{"v":0,"d":"0.00%"},{"v":0,"d":"0.00%"},{"v":0,"d":"0.00%"},{"v":0,"d":"0.00%"},{"v":0,"d":"0.00%"},{"v":0,"d":"0.00%"},5.98298182441701]
[6,{"v":7.8125E-3,"d":"0.78%"},{"v":0.018229166666666668,"d":"1.82%"},{"v":0.036458333333333336,"d":"3.65%"},{"v":0.06481481481481481,"d":"6.48%"},{"v":0.08844521604938271,"d":"8.84%"},{"v":0.11140046296296297,"d":"11.14%"},{"v":0.12633244741655236,"d":"12.63%"},{"v":0.12537865797896663,"d":"12.54%"},{"v":0.1164516175125743,"d":"11.65%"},{"v":0.09854752514860539,"d":"9.85%"},{"v":0.07551726108824874,"d":"7.55%"},{"v":0.054287408550525836,"d":"5.43%"},{"v":0.03548668267032465,"d":"3.55%"},{"v":0.02100480109739369,"d":"2.10%"},{"v":0.011452617741197988,"d":"1.15%"},{"v":5.42624028349337E-3,"d":"0.54%"},{"v":2.1504915409236397E-3,"d":"0.22%"},{"v":6.7515432098765428E-4,"d":"0.07%"},{"v":1.286008230452675E-4,"d":"0.01%"},{"v":0,"d":"0.00%"},{"v":0,"d":"0.00%"},{"v":0,"d":"0.00%"},{"v":0,"d":"0.00%"},{"v":0,"d":"0.00%"},{"v":0,"d":"0.00%"},6.991726680384088]
[7,{"v":3.90625E-3,"d":"0.39%"},{"v":0.010416666666666666,"d":"1.04%"},{"v":0.022569444444444444,"d":"2.26%"},{"v":0.04282407407407408,"d":"4.28%"},{"v":0.06413966049382716,"d":"6.41%"},{"v":0.08731995884773662,"d":"8.73%"},{"v":0.10727451989026063,"d":"10.73%"},{"v":0.11704163332571255,"d":"11.70%"},{"v":0.1187068949093126,"d":"11.87%"},{"v":0.11054669638774577,"d":"11.05%"},{"v":0.09433822969059595,"d":"9.43%"},{"v":0.07537556203322664,"d":"7.54%"},{"v":0.05563771719250114,"d":"5.56%"},{"v":0.03797534674592288,"d":"3.80%"},{"v":0.024225180041152265,"d":"2.42%"},{"v":0.014166333257125439,"d":"1.42%"},{"v":0.007568396585886298,"d":"0.76%"},{"v":3.6841754305746077E-3,"d":"0.37%"},{"v":1.5586896052431033E-3,"d":"0.16%"},{"v":5.5012574302697756E-4,"d":"0.06%"},{"v":1.5003429355281208E-4,"d":"0.02%"},{"v":2.4410341411370219E-5,"d":"0.00%"},{"v":0,"d":"0.00%"},{"v":0,"d":"0.00%"},{"v":0,"d":"0.00%"},7.995940738835543]
[8,{"v":1.953125E-3,"d":"0.20%"},{"v":5.859375E-3,"d":"0.59%"},{"v":0.013671875,"d":"1.37%"},{"v":0.027560763888888888,"d":"2.76%"},{"v":0.04470486111111111,"d":"4.47%"},{"v":0.06524884259259259,"d":"6.52%"},{"v":0.08601787551440329,"d":"8.60%"},{"v":0.10164287551440329,"d":"10.16%"},{"v":0.11129071565564193,"d":"11.13%"},{"v":0.11243552097622314,"d":"11.24%"},{"v":0.10486236139689072,"d":"10.49%"},{"v":0.09157390736930346,"d":"9.16%"},{"v":0.07445809042066757,"d":"7.45%"},{"v":0.05646290580704161,"d":"5.65%"},{"v":0.040207999923792107,"d":"4.02%"},{"v":0.026693601394604482,"d":"2.67%"},{"v":0.01653244948051618,"d":"1.65%"},{"v":0.009560816281816795,"d":"0.96%"},{"v":0.005092235368084133,"d":"0.51%"},{"v":0.002483901082152111,"d":"0.25%"},{"v":1.0960838667885993E-3,"d":"0.11%"},{"v":4.197387974394147E-4,"d":"0.04%"},{"v":1.333638164913885E-4,"d":"0.01%"},{"v":3.2150205761316875E-5,"d":"0.00%"},{"v":4.564535385865976E-6,"d":"0.00%"},8.997995970507542]

{"sheet":"Nahkampf Mindestens","index":4,"n_rows":21,"n_cols":25,"rows_kept":21}
["Schaden ohne Reroll"]
["Würfel",1,2,3,4,5,6,7,8,9,10,11,12,13,14,15,16,17,18,19,20,21,22,23,24]
[1,{"$f":"SUM(Nahkampf!C3:$Z3)","v":{"v":0.8333333333333333,"d":"83.33%"}},{"$f":"SUM(Nahkampf!D3:$Z3)","v":{"v":0.16666666666666666,"d":"16.67%"}},{"$f":"SUM(Nahkampf!E3:$Z3)","v":{"v":0,"d":"0.00%"}},{"$f":"SUM(Nahkampf!F3:$Z3)","v":{"v":0,"d":"0.00%"}},{"$f":"SUM(Nahkampf!G3:$Z3)","v":{"v":0,"d":"0.00%"}},{"$f":"SUM(Nahkampf!H3:$Z3)","v":{"v":0,"d":"0.00%"}},{"$f":"SUM(Nahkampf!I3:$Z3)","v":{"v":0,"d":"0.00%"}},{"$f":"SUM(Nahkampf!J3:$Z3)","v":{"v":0,"d":"0.00%"}},{"$f":"SUM(Nahkampf!K3:$Z3)","v":{"v":0,"d":"0.00%"}},{"$f":"SUM(Nahkampf!L3:$Z3)","v":{"v":0,"d":"0.00%"}},{"$f":"SUM(Nahkampf!M3:$Z3)","v":{"v":0,"d":"0.00%"}},{"$f":"SUM(Nahkampf!N3:$Z3)","v":{"v":0,"d":"0.00%"}},{"$f":"SUM(Nahkampf!O3:$Z3)","v":{"v":0,"d":"0.00%"}},{"$f":"SUM(Nahkampf!P3:$Z3)","v":{"v":0,"d":"0.00%"}},{"$f":"SUM(Nahkampf!Q3:$Z3)","v":{"v":0,"d":"0.00%"}},{"$f":"SUM(Nahkampf!R3:$Z3)","v":{"v":0,"d":"0.00%"}},{"$f":"SUM(Nahkampf!S3:$Z3)","v":{"v":0,"d":"0.00%"}},{"$f":"SUM(Nahkampf!T3:$Z3)","v":{"v":0,"d":"0.00%"}},{"$f":"SUM(Nahkampf!U3:$Z3)","v":{"v":0,"d":"0.00%"}},{"$f":"SUM(Nahkampf!V3:$Z3)","v":{"v":0,"d":"0.00%"}},{"$f":"SUM(Nahkampf!W3:$Z3)","v":{"v":0,"d":"0.00%"}},{"$f":"SUM(Nahkampf!X3:$Z3)","v":{"v":0,"d":"0.00%"}},{"$f":"SUM(Nahkampf!Y3:$Z3)","v":{"v":0,"d":"0.00%"}},{"$f":"SUM(Nahkampf!Z3:$Z3)","v":{"v":0,"d":"0.00%"}}]
[2,{"$f":"SUM(Nahkampf!C4:$Z4)","v":{"v":0.9722222222222222,"d":"97.22%"}},{"$f":"SUM(Nahkampf!D4:$Z4)","v":{"v":0.75,"d":"75.00%"}},{"$f":"SUM(Nahkampf!E4:$Z4)","v":{"v":0.25,"d":"25.00%"}},{"$f":"SUM(Nahkampf!F4:$Z4)","v":{"v":0.027777777777777776,"d":"2.78%"}},{"$f":"SUM(Nahkampf!G4:$Z4)","v":{"v":0,"d":"0.00%"}},{"$f":"SUM(Nahkampf!H4:$Z4)","v":{"v":0,"d":"0.00%"}},{"$f":"SUM(Nahkampf!I4:$Z4)","v":{"v":0,"d":"0.00%"}},{"$f":"SUM(Nahkampf!J4:$Z4)","v":{"v":0,"d":"0.00%"}},{"$f":"SUM(Nahkampf!K4:$Z4)","v":{"v":0,"d":"0.00%"}},{"$f":"SUM(Nahkampf!L4:$Z4)","v":{"v":0,"d":"0.00%"}},{"$f":"SUM(Nahkampf!M4:$Z4)","v":{"v":0,"d":"0.00%"}},{"$f":"SUM(Nahkampf!N4:$Z4)","v":{"v":0,"d":"0.00%"}},{"$f":"SUM(Nahkampf!O4:$Z4)","v":{"v":0,"d":"0.00%"}},{"$f":"SUM(Nahkampf!P4:$Z4)","v":{"v":0,"d":"0.00%"}},{"$f":"SUM(Nahkampf!Q4:$Z4)","v":{"v":0,"d":"0.00%"}},{"$f":"SUM(Nahkampf!R4:$Z4)","v":{"v":0,"d":"0.00%"}},{"$f":"SUM(Nahkampf!S4:$Z4)","v":{"v":0,"d":"0.00%"}},{"$f":"SUM(Nahkampf!T4:$Z4)","v":{"v":0,"d":"0.00%"}},{"$f":"SUM(Nahkampf!U4:$Z4)","v":{"v":0,"d":"0.00%"}},{"$f":"SUM(Nahkampf!V4:$Z4)","v":{"v":0,"d":"0.00%"}},{"$f":"SUM(Nahkampf!W4:$Z4)","v":{"v":0,"d":"0.00%"}},{"$f":"SUM(Nahkampf!X4:$Z4)","v":{"v":0,"d":"0.00%"}},{"$f":"SUM(Nahkampf!Y4:$Z4)","v":{"v":0,"d":"0.00%"}},{"$f":"SUM(Nahkampf!Z4:$Z4)","v":{"v":0,"d":"0.00%"}}]
[3,{"$f":"SUM(Nahkampf!C5:$Z5)","v":{"v":0.9953703703703703,"d":"99.54%"}},{"$f":"SUM(Nahkampf!D5:$Z5)","v":{"v":0.9398148148148148,"d":"93.98%"}},{"$f":"SUM(Nahkampf!E5:$Z5)","v":{"v":0.7037037037037037,"d":"70.37%"}},{"$f":"SUM(Nahkampf!F5:$Z5)","v":{"v":0.2962962962962963,"d":"29.63%"}},{"$f":"SUM(Nahkampf!G5:$Z5)","v":{"v":0.06018518518518518,"d":"6.02%"}},{"$f":"SUM(Nahkampf!H5:$Z5)","v":{"v":0.004629629629629629,"d":"0.46%"}},{"$f":"SUM(Nahkampf!I5:$Z5)","v":{"v":0,"d":"0.00%"}},{"$f":"SUM(Nahkampf!J5:$Z5)","v":{"v":0,"d":"0.00%"}},{"$f":"SUM(Nahkampf!K5:$Z5)","v":{"v":0,"d":"0.00%"}},{"$f":"SUM(Nahkampf!L5:$Z5)","v":{"v":0,"d":"0.00%"}},{"$f":"SUM(Nahkampf!M5:$Z5)","v":{"v":0,"d":"0.00%"}},{"$f":"SUM(Nahkampf!N5:$Z5)","v":{"v":0,"d":"0.00%"}},{"$f":"SUM(Nahkampf!O5:$Z5)","v":{"v":0,"d":"0.00%"}},{"$f":"SUM(Nahkampf!P5:$Z5)","v":{"v":0,"d":"0.00%"}},{"$f":"SUM(Nahkampf!Q5:$Z5)","v":{"v":0,"d":"0.00%"}},{"$f":"SUM(Nahkampf!R5:$Z5)","v":{"v":0,"d":"0.00%"}},{"$f":"SUM(Nahkampf!S5:$Z5)","v":{"v":0,"d":"0.00%"}},{"$f":"SUM(Nahkampf!T5:$Z5)","v":{"v":0,"d":"0.00%"}},{"$f":"SUM(Nahkampf!U5:$Z5)","v":{"v":0,"d":"0.00%"}},{"$f":"SUM(Nahkampf!V5:$Z5)","v":{"v":0,"d":"0.00%"}},{"$f":"SUM(Nahkampf!W5:$Z5)","v":{"v":0,"d":"0.00%"}},{"$f":"SUM(Nahkampf!X5:$Z5)","v":{"v":0,"d":"0.00%"}},{"$f":"SUM(Nahkampf!Y5:$Z5)","v":{"v":0,"d":"0.00%"}},{"$f":"SUM(Nahkampf!Z5:$Z5)","v":{"v":0,"d":"0.00%"}}]
[4,{"$f":"SUM(Nahkampf!C6:$Z6)","v":{"v":0.9992283950617282,"d":"99.92%"}},{"$f":"SUM(Nahkampf!D6:$Z6)","v":{"v":0.9868827160493825,"d":"98.69%"}},{"$f":"SUM(Nahkampf!E6:$Z6)","v":{"v":0.9097222222222221,"d":"90.97%"}},{"$f":"SUM(Nahkampf!F6:$Z6)","v":{"v":0.6751543209876543,"d":"67.52%"}},{"$f":"SUM(Nahkampf!G6:$Z6)","v":{"v":0.3248456790123457,"d":"32.48%"}},{"$f":"SUM(Nahkampf!H6:$Z6)","v":{"v":0.09027777777777778,"d":"9.03%"}},{"$f":"SUM(Nahkampf!I6:$Z6)","v":{"v":0.013117283950617283,"d":"1.31%"}},{"$f":"SUM(Nahkampf!J6:$Z6)","v":{"v":7.716049382716049E-4,"d":"0.08%"}},{"$f":"SUM(Nahkampf!K6:$Z6)","v":{"v":0,"d":"0.00%"}},{"$f":"SUM(Nahkampf!L6:$Z6)","v":{"v":0,"d":"0.00%"}},{"$f":"SUM(Nahkampf!M6:$Z6)","v":{"v":0,"d":"0.00%"}},{"$f":"SUM(Nahkampf!N6:$Z6)","v":{"v":0,"d":"0.00%"}},{"$f":"SUM(Nahkampf!O6:$Z6)","v":{"v":0,"d":"0.00%"}},{"$f":"SUM(Nahkampf!P6:$Z6)","v":{"v":0,"d":"0.00%"}},{"$f":"SUM(Nahkampf!Q6:$Z6)","v":{"v":0,"d":"0.00%"}},{"$f":"SUM(Nahkampf!R6:$Z6)","v":{"v":0,"d":"0.00%"}},{"$f":"SUM(Nahkampf!S6:$Z6)","v":{"v":0,"d":"0.00%"}},{"$f":"SUM(Nahkampf!T6:$Z6)","v":{"v":0,"d":"0.00%"}},{"$f":"SUM(Nahkampf!U6:$Z6)","v":{"v":0,"d":"0.00%"}},{"$f":"SUM(Nahkampf!V6:$Z6)","v":{"v":0,"d":"0.00%"}},{"$f":"SUM(Nahkampf!W6:$Z6)","v":{"v":0,"d":"0.00%"}},{"$f":"SUM(Nahkampf!X6:$Z6)","v":{"v":0,"d":"0.00%"}},{"$f":"SUM(Nahkampf!Y6:$Z6)","v":{"v":0,"d":"0.00%"}},{"$f":"SUM(Nahkampf!Z6:$Z6)","v":{"v":0,"d":"0.00%"}}]
[5,{"$f":"SUM(Nahkampf!C7:$Z7)","v":{"v":0.9998713991769546,"d":"99.99%"}},{"$f":"SUM(Nahkampf!D7:$Z7)","v":{"v":0.9972993827160492,"d":"99.73%"}},{"$f":"SUM(Nahkampf!E7:$Z7)","v":{"v":0.9760802469135801,"d":"97.61%"}},{"$f":"SUM(Nahkampf!F7:$Z7)","v":{"v":0.8834876543209875,"d":"88.35%"}},{"$f":"SUM(Nahkampf!G7:$Z7)","v":{"v":0.6558641975308641,"d":"65.59%"}},{"$f":"SUM(Nahkampf!H7:$Z7)","v":{"v":0.34413580246913583,"d":"34.41%"}},{"$f":"SUM(Nahkampf!I7:$Z7)","v":{"v":0.11651234567901234,"d":"11.65%"}},{"$f":"SUM(Nahkampf!J7:$Z7)","v":{"v":0.023919753086419752,"d":"2.39%"}},{"$f":"SUM(Nahkampf!K7:$Z7)","v":{"v":0.002700617283950617,"d":"0.27%"}},{"$f":"SUM(Nahkampf!L7:$Z7)","v":{"v":1.286008230452675E-4,"d":"0.01%"}},{"$f":"SUM(Nahkampf!M7:$Z7)","v":{"v":0,"d":"0.00%"}},{"$f":"SUM(Nahkampf!N7:$Z7)","v":{"v":0,"d":"0.00%"}},{"$f":"SUM(Nahkampf!O7:$Z7)","v":{"v":0,"d":"0.00%"}},{"$f":"SUM(Nahkampf!P7:$Z7)","v":{"v":0,"d":"0.00%"}},{"$f":"SUM(Nahkampf!Q7:$Z7)","v":{"v":0,"d":"0.00%"}},{"$f":"SUM(Nahkampf!R7:$Z7)","v":{"v":0,"d":"0.00%"}},{"$f":"SUM(Nahkampf!S7:$Z7)","v":{"v":0,"d":"0.00%"}},{"$f":"SUM(Nahkampf!T7:$Z7)","v":{"v":0,"d":"0.00%"}},{"$f":"SUM(Nahkampf!U7:$Z7)","v":{"v":0,"d":"0.00%"}},{"$f":"SUM(Nahkampf!V7:$Z7)","v":{"v":0,"d":"0.00%"}},{"$f":"SUM(Nahkampf!W7:$Z7)","v":{"v":0,"d":"0.00%"}},{"$f":"SUM(Nahkampf!X7:$Z7)","v":{"v":0,"d":"0.00%"}},{"$f":"SUM(Nahkampf!Y7:$Z7)","v":{"v":0,"d":"0.00%"}},{"$f":"SUM(Nahkampf!Z7:$Z7)","v":{"v":0,"d":"0.00%"}}]
[6,{"$f":"SUM(Nahkampf!C8:$Z8)","v":{"v":0.9999785665294925,"d":"100.00%"}},{"$f":"SUM(Nahkampf!D8:$Z8)","v":{"v":0.9994641632373114,"d":"99.95%"}},{"$f":"SUM(Nahkampf!E8:$Z8)","v":{"v":0.9941915294924555,"d":"99.42%"}},{"$f":"SUM(Nahkampf!F8:$Z8)","v":{"v":0.9641846707818931,"d":"96.42%"}},{"$f":"SUM(Nahkampf!G8:$Z8)","v":{"v":0.8609825102880658,"d":"86.10%"}},{"$f":"SUM(Nahkampf!H8:$Z8)","v":{"v":0.64184670781893,"d":"64.18%"}},{"$f":"SUM(Nahkampf!I8:$Z8)","v":{"v":0.35815329218106995,"d":"35.82%"}},{"$f":"SUM(Nahkampf!J8:$Z8)","v":{"v":0.13901748971193414,"d":"13.90%"}},{"$f":"SUM(Nahkampf!K8:$Z8)","v":{"v":0.03581532921810699,"d":"3.58%"}},{"$f":"SUM(Nahkampf!L8:$Z8)","v":{"v":0.005808470507544582,"d":"0.58%"}},{"$f":"SUM(Nahkampf!M8:$Z8)","v":{"v":5.3583676268861456E-4,"d":"0.05%"}},{"$f":"SUM(Nahkampf!N8:$Z8)","v":{"v":2.143347050754458E-5,"d":"0.00%"}},{"$f":"SUM(Nahkampf!O8:$Z8)","v":{"v":0,"d":"0.00%"}},{"$f":"SUM(Nahkampf!P8:$Z8)","v":{"v":0,"d":"0.00%"}},{"$f":"SUM(Nahkampf!Q8:$Z8)","v":{"v":0,"d":"0.00%"}},{"$f":"SUM(Nahkampf!R8:$Z8)","v":{"v":0,"d":"0.00%"}},{"$f":"SUM(Nahkampf!S8:$Z8)","v":{"v":0,"d":"0.00%"}},{"$f":"SUM(Nahkampf!T8:$Z8)","v":{"v":0,"d":"0.00%"}},{"$f":"SUM(Nahkampf!U8:$Z8)","v":{"v":0,"d":"0.00%"}},{"$f":"SUM(Nahkampf!V8:$Z8)","v":{"v":0,"d":"0.00%"}},{"$f":"SUM(Nahkampf!W8:$Z8)","v":{"v":0,"d":"0.00%"}},{"$f":"SUM(Nahkampf!X8:$Z8)","v":{"v":0,"d":"0.00%"}},{"$f":"SUM(Nahkampf!Y8:$Z8)","v":{"v":0,"d":"0.00%"}},{"$f":"SUM(Nahkampf!Z8:$Z8)","v":{"v":0,"d":"0.00%"}}]
[7,{"$f":"SUM(Nahkampf!C9:$Z9)","v":{"v":0.9999964277549155,"d":"100.00%"}},{"$f":"SUM(Nahkampf!D9:$Z9)","v":{"v":0.9998964048925469,"d":"99.99%"}},{"$f":"SUM(Nahkampf!E9:$Z9)","v":{"v":0.9986711248285323,"d":"99.87%"}},{"$f":"SUM(Nahkampf!F9:$Z9)","v":{"v":0.9900691586648377,"d":"99.01%"}},{"$f":"SUM(Nahkampf!G9:$Z9)","v":{"v":0.9519854538180156,"d":"95.20%"}},{"$f":"SUM(Nahkampf!H9:$Z9)","v":{"v":0.8416602366255145,"d":"84.17%"}},{"$f":"SUM(Nahkampf!I9:$Z9)","v":{"v":0.6310871056241427,"d":"63.11%"}},{"$f":"SUM(Nahkampf!J9:$Z9)","v":{"v":0.3689128943758573,"d":"36.89%"}},{"$f":"SUM(Nahkampf!K9:$Z9)","v":{"v":0.15833976337448558,"d":"15.83%"}},{"$f":"SUM(Nahkampf!L9:$Z9)","v":{"v":0.048014546181984454,"d":"4.80%"}},{"$f":"SUM(Nahkampf!M9:$Z9)","v":{"v":0.009930841335162323,"d":"0.99%"}},{"$f":"SUM(Nahkampf!N9:$Z9)","v":{"v":1.328875171467764E-3,"d":"0.13%"}},{"$f":"SUM(Nahkampf!O9:$Z9)","v":{"v":1.0359510745313214E-4,"d":"0.01%"}},{"$f":"SUM(Nahkampf!P9:$Z9)","v":{"v":3.5722450845907635E-6,"d":"0.00%"}},{"$f":"SUM(Nahkampf!Q9:$Z9)","v":{"v":0,"d":"0.00%"}},{"$f":"SUM(Nahkampf!R9:$Z9)","v":{"v":0,"d":"0.00%"}},{"$f":"SUM(Nahkampf!S9:$Z9)","v":{"v":0,"d":"0.00%"}},{"$f":"SUM(Nahkampf!T9:$Z9)","v":{"v":0,"d":"0.00%"}},{"$f":"SUM(Nahkampf!U9:$Z9)","v":{"v":0,"d":"0.00%"}},{"$f":"SUM(Nahkampf!V9:$Z9)","v":{"v":0,"d":"0.00%"}},{"$f":"SUM(Nahkampf!W9:$Z9)","v":{"v":0,"d":"0.00%"}},{"$f":"SUM(Nahkampf!X9:$Z9)","v":{"v":0,"d":"0.00%"}},{"$f":"SUM(Nahkampf!Y9:$Z9)","v":{"v":0,"d":"0.00%"}},{"$f":"SUM(Nahkampf!Z9:$Z9)","v":{"v":0,"d":"0.00%"}}]
[8,{"$f":"SUM(Nahkampf!C10:$Z10)","v":{"v":0.9999994046258193,"d":"100.00%"}},{"$f":"SUM(Nahkampf!D10:$Z10)","v":{"v":0.9999803526520348,"d":"100.00%"}},{"$f":"SUM(Nahkampf!E10:$Z10)","v":{"v":0.9997088620256059,"d":"99.97%"}},{"$f":"SUM(Nahkampf!F10:$Z10)","v":{"v":0.9974416771452523,"d":"99.74%"}},{"$f":"SUM(Nahkampf!G10:$Z10)","v":{"v":0.9851555355509831,"d":"98.52%"}},{"$f":"SUM(Nahkampf!H10:$Z10)","v":{"v":0.9399452017604024,"d":"93.99%"}},{"$f":"SUM(Nahkampf!I10:$Z10)","v":{"v":0.8249522509907027,"d":"82.50%"}},{"$f":"SUM(Nahkampf!J10:$Z10)","v":{"v":0.6224869255829905,"d":"62.25%"}},{"$f":"SUM(Nahkampf!K10:$Z10)","v":{"v":0.3775130744170096,"d":"37.75%"}},{"$f":"SUM(Nahkampf!L10:$Z10)","v":{"v":0.17504774900929734,"d":"17.50%"}},{"$f":"SUM(Nahkampf!M10:$Z10)","v":{"v":0.06005479823959761,"d":"6.01%"}},{"$f":"SUM(Nahkampf!N10:$Z10)","v":{"v":0.014844464449016917,"d":"1.48%"}},{"$f":"SUM(Nahkampf!O10:$Z10)","v":{"v":2.5583228547477518E-3,"d":"0.26%"}},{"$f":"SUM(Nahkampf!P10:$Z10)","v":{"v":2.9113797439414725E-4,"d":"0.03%"}},{"$f":"SUM(Nahkampf!Q10:$Z10)","v":{"v":1.96473479652492e-05,"d":"0.00%"}},{"$f":"SUM(Nahkampf!R10:$Z10)","v":{"v":5.9537418076512728E-7,"d":"0.00%"}},{"$f":"SUM(Nahkampf!S10:$Z10)","v":{"v":0,"d":"0.00%"}},{"$f":"SUM(Nahkampf!T10:$Z10)","v":{"v":0,"d":"0.00%"}},{"$f":"SUM(Nahkampf!U10:$Z10)","v":{"v":0,"d":"0.00%"}},{"$f":"SUM(Nahkampf!V10:$Z10)","v":{"v":0,"d":"0.00%"}},{"$f":"SUM(Nahkampf!W10:$Z10)","v":{"v":0,"d":"0.00%"}},{"$f":"SUM(Nahkampf!X10:$Z10)","v":{"v":0,"d":"0.00%"}},{"$f":"SUM(Nahkampf!Y10:$Z10)","v":{"v":0,"d":"0.00%"}},{"$f":"SUM(Nahkampf!Z10:$Z10)","v":{"v":0,"d":"0.00%"}}]
[]
["Schaden mit Reroll"]
["Würfel",1,2,3,4,5,6,7,8,9,10,11,12,13,14,15,16,17,18,19,20,21,22,23,24]
[1,{"$f":"SUM(Nahkampf!C14:$Z14)","v":{"v":0.9722222222222222,"d":"97.22%"}},{"$f":"SUM(Nahkampf!D14:$Z14)","v":{"v":0.3055555555555556,"d":"30.56%"}},{"$f":"SUM(Nahkampf!E14:$Z14)","v":{"v":0,"d":"0.00%"}},{"$f":"SUM(Nahkampf!F14:$Z14)","v":{"v":0,"d":"0.00%"}},{"$f":"SUM(Nahkampf!G14:$Z14)","v":{"v":0,"d":"0.00%"}},{"$f":"SUM(Nahkampf!H14:$Z14)","v":{"v":0,"d":"0.00%"}},{"$f":"SUM(Nahkampf!I14:$Z14)","v":{"v":0,"d":"0.00%"}},{"$f":"SUM(Nahkampf!J14:$Z14)","v":{"v":0,"d":"0.00%"}},{"$f":"SUM(Nahkampf!K14:$Z14)","v":{"v":0,"d":"0.00%"}},{"$f":"SUM(Nahkampf!L14:$Z14)","v":{"v":0,"d":"0.00%"}},{"$f":"SUM(Nahkampf!M14:$Z14)","v":{"v":0,"d":"0.00%"}},{"$f":"SUM(Nahkampf!N14:$Z14)","v":{"v":0,"d":"0.00%"}},{"$f":"SUM(Nahkampf!O14:$Z14)","v":{"v":0,"d":"0.00%"}},{"$f":"SUM(Nahkampf!P14:$Z14)","v":{"v":0,"d":"0.00%"}},{"$f":"SUM(Nahkampf!Q14:$Z14)","v":{"v":0,"d":"0.00%"}},{"$f":"SUM(Nahkampf!R14:$Z14)","v":{"v":0,"d":"0.00%"}},{"$f":"SUM(Nahkampf!S14:$Z14)","v":{"v":0,"d":"0.00%"}},{"$f":"SUM(Nahkampf!T14:$Z14)","v":{"v":0,"d":"0.00%"}},{"$f":"SUM(Nahkampf!U14:$Z14)","v":{"v":0,"d":"0.00%"}},{"$f":"SUM(Nahkampf!V14:$Z14)","v":{"v":0,"d":"0.00%"}},{"$f":"SUM(Nahkampf!W14:$Z14)","v":{"v":0,"d":"0.00%"}},{"$f":"SUM(Nahkampf!X14:$Z14)","v":{"v":0,"d":"0.00%"}},{"$f":"SUM(Nahkampf!Y14:$Z14)","v":{"v":0,"d":"0.00%"}},{"$f":"SUM(Nahkampf!Z14:$Z14)","v":{"v":0,"d":"0.00%"}}]
[2,{"$f":"SUM(Nahkampf!C15:$Z15)","v":{"v":0.9953703703703703,"d":"99.54%"}},{"$f":"SUM(Nahkampf!D15:$Z15)","v":{"v":0.9398148148148148,"d":"93.98%"}},{"$f":"SUM(Nahkampf!E15:$Z15)","v":{"v":0.4074074074074074,"d":"40.74%"}},{"$f":"SUM(Nahkampf!F15:$Z15)","v":{"v":0.07407407407407407,"d":"7.41%"}},{"$f":"SUM(Nahkampf!G15:$Z15)","v":{"v":0,"d":"0.00%"}},{"$f":"SUM(Nahkampf!H15:$Z15)","v":{"v":0,"d":"0.00%"}},{"$f":"SUM(Nahkampf!I15:$Z15)","v":{"v":0,"d":"0.00%"}},{"$f":"SUM(Nahkampf!J15:$Z15)","v":{"v":0,"d":"0.00%"}},{"$f":"SUM(Nahkampf!K15:$Z15)","v":{"v":0,"d":"0.00%"}},{"$f":"SUM(Nahkampf!L15:$Z15)","v":{"v":0,"d":"0.00%"}},{"$f":"SUM(Nahkampf!M15:$Z15)","v":{"v":0,"d":"0.00%"}},{"$f":"SUM(Nahkampf!N15:$Z15)","v":{"v":0,"d":"0.00%"}},{"$f":"SUM(Nahkampf!O15:$Z15)","v":{"v":0,"d":"0.00%"}},{"$f":"SUM(Nahkampf!P15:$Z15)","v":{"v":0,"d":"0.00%"}},{"$f":"SUM(Nahkampf!Q15:$Z15)","v":{"v":0,"d":"0.00%"}},{"$f":"SUM(Nahkampf!R15:$Z15)","v":{"v":0,"d":"0.00%"}},{"$f":"SUM(Nahkampf!S15:$Z15)","v":{"v":0,"d":"0.00%"}},{"$f":"SUM(Nahkampf!T15:$Z15)","v":{"v":0,"d":"0.00%"}},{"$f":"SUM(Nahkampf!U15:$Z15)","v":{"v":0,"d":"0.00%"}},{"$f":"SUM(Nahkampf!V15:$Z15)","v":{"v":0,"d":"0.00%"}},{"$f":"SUM(Nahkampf!W15:$Z15)","v":{"v":0,"d":"0.00%"}},{"$f":"SUM(Nahkampf!X15:$Z15)","v":{"v":0,"d":"0.00%"}},{"$f":"SUM(Nahkampf!Y15:$Z15)","v":{"v":0,"d":"0.00%"}},{"$f":"SUM(Nahkampf!Z15:$Z15)","v":{"v":0,"d":"0.00%"}}]
[3,{"$f":"SUM(Nahkampf!C16:$Z16)","v":{"v":0.9992283950617284,"d":"99.92%"}},{"$f":"SUM(Nahkampf!D16:$Z16)","v":{"v":0.9868827160493827,"d":"98.69%"}},{"$f":"SUM(Nahkampf!E16:$Z16)","v":{"v":0.9097222222222223,"d":"90.97%"}},{"$f":"SUM(Nahkampf!F16:$Z16)","v":{"v":0.47762345679012347,"d":"47.76%"}},{"$f":"SUM(Nahkampf!G16:$Z16)","v":{"v":0.1273148148148148,"d":"12.73%"}},{"$f":"SUM(Nahkampf!H16:$Z16)","v":{"v":0.016203703703703703,"d":"1.62%"}},{"$f":"SUM(Nahkampf!I16:$Z16)","v":{"v":0,"d":"0.00%"}},{"$f":"SUM(Nahkampf!J16:$Z16)","v":{"v":0,"d":"0.00%"}},{"$f":"SUM(Nahkampf!K16:$Z16)","v":{"v":0,"d":"0.00%"}},{"$f":"SUM(Nahkampf!L16:$Z16)","v":{"v":0,"d":"0.00%"}},{"$f":"SUM(Nahkampf!M16:$Z16)","v":{"v":0,"d":"0.00%"}},{"$f":"SUM(Nahkampf!N16:$Z16)","v":{"v":0,"d":"0.00%"}},{"$f":"SUM(Nahkampf!O16:$Z16)","v":{"v":0,"d":"0.00%"}},{"$f":"SUM(Nahkampf!P16:$Z16)","v":{"v":0,"d":"0.00%"}},{"$f":"SUM(Nahkampf!Q16:$Z16)","v":{"v":0,"d":"0.00%"}},{"$f":"SUM(Nahkampf!R16:$Z16)","v":{"v":0,"d":"0.00%"}},{"$f":"SUM(Nahkampf!S16:$Z16)","v":{"v":0,"d":"0.00%"}},{"$f":"SUM(Nahkampf!T16:$Z16)","v":{"v":0,"d":"0.00%"}},{"$f":"SUM(Nahkampf!U16:$Z16)","v":{"v":0,"d":"0.00%"}},{"$f":"SUM(Nahkampf!V16:$Z16)","v":{"v":0,"d":"0.00%"}},{"$f":"SUM(Nahkampf!W16:$Z16)","v":{"v":0,"d":"0.00%"}},{"$f":"SUM(Nahkampf!X16:$Z16)","v":{"v":0,"d":"0.00%"}},{"$f":"SUM(Nahkampf!Y16:$Z16)","v":{"v":0,"d":"0.00%"}},{"$f":"SUM(Nahkampf!Z16:$Z16)","v":{"v":0,"d":"0.00%"}}]
[4,{"$f":"SUM(Nahkampf!C17:$Z17)","v":{"v":0.9998713991769549,"d":"99.99%"}},{"$f":"SUM(Nahkampf!D17:$Z17)","v":{"v":0.9972993827160495,"d":"99.73%"}},{"$f":"SUM(Nahkampf!E17:$Z17)","v":{"v":0.9760802469135803,"d":"97.61%"}},{"$f":"SUM(Nahkampf!F17:$Z17)","v":{"v":0.8834876543209877,"d":"88.35%"}},{"$f":"SUM(Nahkampf!G17:$Z17)","v":{"v":0.5241769547325104,"d":"52.42%"}},{"$f":"SUM(Nahkampf!H17:$Z17)","v":{"v":0.17952674897119342,"d":"17.95%"}},{"$f":"SUM(Nahkampf!I17:$Z17)","v":{"v":0.03420781893004115,"d":"3.42%"}},{"$f":"SUM(Nahkampf!J17:$Z17)","v":{"v":3.3436213991769547E-3,"d":"0.33%"}},{"$f":"SUM(Nahkampf!K17:$Z17)","v":{"v":0,"d":"0.00%"}},{"$f":"SUM(Nahkampf!L17:$Z17)","v":{"v":0,"d":"0.00%"}},{"$f":"SUM(Nahkampf!M17:$Z17)","v":{"v":0,"d":"0.00%"}},{"$f":"SUM(Nahkampf!N17:$Z17)","v":{"v":0,"d":"0.00%"}},{"$f":"SUM(Nahkampf!O17:$Z17)","v":{"v":0,"d":"0.00%"}},{"$f":"SUM(Nahkampf!P17:$Z17)","v":{"v":0,"d":"0.00%"}},{"$f":"SUM(Nahkampf!Q17:$Z17)","v":{"v":0,"d":"0.00%"}},{"$f":"SUM(Nahkampf!R17:$Z17)","v":{"v":0,"d":"0.00%"}},{"$f":"SUM(Nahkampf!S17:$Z17)","v":{"v":0,"d":"0.00%"}},{"$f":"SUM(Nahkampf!T17:$Z17)","v":{"v":0,"d":"0.00%"}},{"$f":"SUM(Nahkampf!U17:$Z17)","v":{"v":0,"d":"0.00%"}},{"$f":"SUM(Nahkampf!V17:$Z17)","v":{"v":0,"d":"0.00%"}},{"$f":"SUM(Nahkampf!W17:$Z17)","v":{"v":0,"d":"0.00%"}},{"$f":"SUM(Nahkampf!X17:$Z17)","v":{"v":0,"d":"0.00%"}},{"$f":"SUM(Nahkampf!Y17:$Z17)","v":{"v":0,"d":"0.00%"}},{"$f":"SUM(Nahkampf!Z17:$Z17)","v":{"v":0,"d":"0.00%"}}]
[5,{"$f":"SUM(Nahkampf!C18:$Z18)","v":{"v":0.9999785665294926,"d":"100.00%"}},{"$f":"SUM(Nahkampf!D18:$Z18)","v":{"v":0.9994641632373115,"d":"99.95%"}},{"$f":"SUM(Nahkampf!E18:$Z18)","v":{"v":0.9941915294924554,"d":"99.42%"}},{"$f":"SUM(Nahkampf!F18:$Z18)","v":{"v":0.964184670781893,"d":"96.42%"}},{"$f":"SUM(Nahkampf!G18:$Z18)","v":{"v":0.8609825102880658,"d":"86.10%"}},{"$f":"SUM(Nahkampf!H18:$Z18)","v":{"v":0.5540552126200275,"d":"55.41%"}},{"$f":"SUM(Nahkampf!I18:$Z18)","v":{"v":0.22646604938271608,"d":"22.65%"}},{"$f":"SUM(Nahkampf!J18:$Z18)","v":{"v":0.056712962962962965,"d":"5.67%"}},{"$f":"SUM(Nahkampf!K18:$Z18)","v":{"v":0.00838048696844993,"d":"0.84%"}},{"$f":"SUM(Nahkampf!L18:$Z18)","v":{"v":0.000664437585733882,"d":"0.07%"}},{"$f":"SUM(Nahkampf!M18:$Z18)","v":{"v":0,"d":"0.00%"}},{"$f":"SUM(Nahkampf!N18:$Z18)","v":{"v":0,"d":"0.00%"}},{"$f":"SUM(Nahkampf!O18:$Z18)","v":{"v":0,"d":"0.00%"}},{"$f":"SUM(Nahkampf!P18:$Z18)","v":{"v":0,"d":"0.00%"}},{"$f":"SUM(Nahkampf!Q18:$Z18)","v":{"v":0,"d":"0.00%"}},{"$f":"SUM(Nahkampf!R18:$Z18)","v":{"v":0,"d":"0.00%"}},{"$f":"SUM(Nahkampf!S18:$Z18)","v":{"v":0,"d":"0.00%"}},{"$f":"SUM(Nahkampf!T18:$Z18)","v":{"v":0,"d":"0.00%"}},{"$f":"SUM(Nahkampf!U18:$Z18)","v":{"v":0,"d":"0.00%"}},{"$f":"SUM(Nahkampf!V18:$Z18)","v":{"v":0,"d":"0.00%"}},{"$f":"SUM(Nahkampf!W18:$Z18)","v":{"v":0,"d":"0.00%"}},{"$f":"SUM(Nahkampf!X18:$Z18)","v":{"v":0,"d":"0.00%"}},{"$f":"SUM(Nahkampf!Y18:$Z18)","v":{"v":0,"d":"0.00%"}},{"$f":"SUM(Nahkampf!Z18:$Z18)","v":{"v":0,"d":"0.00%"}}]
[6,{"$f":"SUM(Nahkampf!C19:$Z19)","v":{"v":0.9999964277549153,"d":"100.00%"}},{"$f":"SUM(Nahkampf!D19:$Z19)","v":{"v":0.9998964048925468,"d":"99.99%"}},{"$f":"SUM(Nahkampf!E19:$Z19)","v":{"v":0.9986711248285322,"d":"99.87%"}},{"$f":"SUM(Nahkampf!F19:$Z19)","v":{"v":0.9900691586648376,"d":"99.01%"}},{"$f":"SUM(Nahkampf!G19:$Z19)","v":{"v":0.9519854538180155,"d":"95.20%"}},{"$f":"SUM(Nahkampf!H19:$Z19)","v":{"v":0.8416602366255143,"d":"84.17%"}},{"$f":"SUM(Nahkampf!I19:$Z19)","v":{"v":0.5725594421582075,"d":"57.26%"}},{"$f":"SUM(Nahkampf!J19:$Z19)","v":{"v":0.266489483310471,"d":"26.65%"}},{"$f":"SUM(Nahkampf!K19:$Z19)","v":{"v":0.08152220507544582,"d":"8.15%"}},{"$f":"SUM(Nahkampf!L19:$Z19)","v":{"v":0.016007230224051212,"d":"1.60%"}},{"$f":"SUM(Nahkampf!M19:$Z19)","v":{"v":1.9290123456790125E-3,"d":"0.19%"}},{"$f":"SUM(Nahkampf!N19:$Z19)","v":{"v":1.286008230452675E-4,"d":"0.01%"}},{"$f":"SUM(Nahkampf!O19:$Z19)","v":{"v":0,"d":"0.00%"}},{"$f":"SUM(Nahkampf!P19:$Z19)","v":{"v":0,"d":"0.00%"}},{"$f":"SUM(Nahkampf!Q19:$Z19)","v":{"v":0,"d":"0.00%"}},{"$f":"SUM(Nahkampf!R19:$Z19)","v":{"v":0,"d":"0.00%"}},{"$f":"SUM(Nahkampf!S19:$Z19)","v":{"v":0,"d":"0.00%"}},{"$f":"SUM(Nahkampf!T19:$Z19)","v":{"v":0,"d":"0.00%"}},{"$f":"SUM(Nahkampf!U19:$Z19)","v":{"v":0,"d":"0.00%"}},{"$f":"SUM(Nahkampf!V19:$Z19)","v":{"v":0,"d":"0.00%"}},{"$f":"SUM(Nahkampf!W19:$Z19)","v":{"v":0,"d":"0.00%"}},{"$f":"SUM(Nahkampf!X19:$Z19)","v":{"v":0,"d":"0.00%"}},{"$f":"SUM(Nahkampf!Y19:$Z19)","v":{"v":0,"d":"0.00%"}},{"$f":"SUM(Nahkampf!Z19:$Z19)","v":{"v":0,"d":"0.00%"}}]
[7,{"$f":"SUM(Nahkampf!C20:$Z20)","v":{"v":0.9999994046258193,"d":"100.00%"}},{"$f":"SUM(Nahkampf!D20:$Z20)","v":{"v":0.9999803526520348,"d":"100.00%"}},{"$f":"SUM(Nahkampf!E20:$Z20)","v":{"v":0.9997088620256058,"d":"99.97%"}},{"$f":"SUM(Nahkampf!F20:$Z20)","v":{"v":0.9974416771452522,"d":"99.74%"}},{"$f":"SUM(Nahkampf!G20:$Z20)","v":{"v":0.985155535550983,"d":"98.52%"}},{"$f":"SUM(Nahkampf!H20:$Z20)","v":{"v":0.9399452017604023,"d":"93.99%"}},{"$f":"SUM(Nahkampf!I20:$Z20)","v":{"v":0.8249522509907027,"d":"82.50%"}},{"$f":"SUM(Nahkampf!J20:$Z20)","v":{"v":0.583468483272367,"d":"58.35%"}},{"$f":"SUM(Nahkampf!K20:$Z20)","v":{"v":0.2994761897957629,"d":"29.95%"}},{"$f":"SUM(Nahkampf!L20:$Z20)","v":{"v":0.10676547496570646,"d":"10.68%"}},{"$f":"SUM(Nahkampf!M20:$Z20)","v":{"v":0.025913661217802163,"d":"2.59%"}},{"$f":"SUM(Nahkampf!N20:$Z20)","v":{"v":0.004175359129705838,"d":"0.42%"}},{"$f":"SUM(Nahkampf!O20:$Z20)","v":{"v":4.245017908855357E-4,"d":"0.04%"}},{"$f":"SUM(Nahkampf!P20:$Z20)","v":{"v":2.4410341411370219E-5,"d":"0.00%"}},{"$f":"SUM(Nahkampf!Q20:$Z20)","v":{"v":0,"d":"0.00%"}},{"$f":"SUM(Nahkampf!R20:$Z20)","v":{"v":0,"d":"0.00%"}},{"$f":"SUM(Nahkampf!S20:$Z20)","v":{"v":0,"d":"0.00%"}},{"$f":"SUM(Nahkampf!T20:$Z20)","v":{"v":0,"d":"0.00%"}},{"$f":"SUM(Nahkampf!U20:$Z20)","v":{"v":0,"d":"0.00%"}},{"$f":"SUM(Nahkampf!V20:$Z20)","v":{"v":0,"d":"0.00%"}},{"$f":"SUM(Nahkampf!W20:$Z20)","v":{"v":0,"d":"0.00%"}},{"$f":"SUM(Nahkampf!X20:$Z20)","v":{"v":0,"d":"0.00%"}},{"$f":"SUM(Nahkampf!Y20:$Z20)","v":{"v":0,"d":"0.00%"}},{"$f":"SUM(Nahkampf!Z20:$Z20)","v":{"v":0,"d":"0.00%"}}]
[8,{"$f":"SUM(Nahkampf!C21:$Z21)","v":{"v":0.9999999007709698,"d":"100.00%"}},{"$f":"SUM(Nahkampf!D21:$Z21)","v":{"v":0.9999963285258853,"d":"100.00%"}},{"$f":"SUM(Nahkampf!E21:$Z21)","v":{"v":0.9999382795432606,"d":"99.99%"}},{"$f":"SUM(Nahkampf!F21:$Z21)","v":{"v":0.9993762463166184,"d":"99.94%"}},{"$f":"SUM(Nahkampf!G21:$Z21)","v":{"v":0.9957718510262663,"d":"99.58%"}},{"$f":"SUM(Nahkampf!H21:$Z21)","v":{"v":0.9796681701849311,"d":"97.97%"}},{"$f":"SUM(Nahkampf!I21:$Z21)","v":{"v":0.9283147655972158,"d":"92.83%"}},{"$f":"SUM(Nahkampf!J21:$Z21)","v":{"v":0.8103735218843672,"d":"81.04%"}},{"$f":"SUM(Nahkampf!K21:$Z21)","v":{"v":0.5893898764161967,"d":"58.94%"}},{"$f":"SUM(Nahkampf!L21:$Z21)","v":{"v":0.3260701652441193,"d":"32.61%"}},{"$f":"SUM(Nahkampf!M21:$Z21)","v":{"v":0.13109881464969772,"d":"13.11%"}},{"$f":"SUM(Nahkampf!N21:$Z21)","v":{"v":0.03754409738098867,"d":"3.75%"}},{"$f":"SUM(Nahkampf!O21:$Z21)","v":{"v":7.5289034318955445E-3,"d":"0.75%"}},{"$f":"SUM(Nahkampf!P21:$Z21)","v":{"v":1.0274173779403544E-3,"d":"0.10%"}},{"$f":"SUM(Nahkampf!Q21:$Z21)","v":{"v":9.02984174160443e-05,"d":"0.01%"}},{"$f":"SUM(Nahkampf!R21:$Z21)","v":{"v":4.564535385865976E-6,"d":"0.00%"}},{"$f":"SUM(Nahkampf!S21:$Z21)","v":{"v":0,"d":"0.00%"}},{"$f":"SUM(Nahkampf!T21:$Z21)","v":{"v":0,"d":"0.00%"}},{"$f":"SUM(Nahkampf!U21:$Z21)","v":{"v":0,"d":"0.00%"}},{"$f":"SUM(Nahkampf!V21:$Z21)","v":{"v":0,"d":"0.00%"}},{"$f":"SUM(Nahkampf!W21:$Z21)","v":{"v":0,"d":"0.00%"}},{"$f":"SUM(Nahkampf!X21:$Z21)","v":{"v":0,"d":"0.00%"}},{"$f":"SUM(Nahkampf!Y21:$Z21)","v":{"v":0,"d":"0.00%"}},{"$f":"SUM(Nahkampf!Z21:$Z21)","v":{"v":0,"d":"0.00%"}}]

{"sheet":"Fernkampf Mindestens","index":5,"n_rows":21,"n_cols":25,"rows_kept":21}
["Schaden ohne Reroll"]
["Würfel",1,2,3,4,5,6,7,8,9,10,11,12,13,14,15,16,17,18,19,20,21,22,23,24]
[1,{"$f":"SUM(Fernkampf!C3:$Z3)","v":{"v":0.6666666666666666,"d":"66.67%"}},{"$f":"SUM(Fernkampf!D3:$Z3)","v":{"v":0.3333333333333333,"d":"33.33%"}},{"$f":"SUM(Fernkampf!E3:$Z3)","v":{"v":0,"d":"0.00%"}},{"$f":"SUM(Fernkampf!F3:$Z3)","v":{"v":0,"d":"0.00%"}},{"$f":"SUM(Fernkampf!G3:$Z3)","v":{"v":0,"d":"0.00%"}},{"$f":"SUM(Fernkampf!H3:$Z3)","v":{"v":0,"d":"0.00%"}},{"$f":"SUM(Fernkampf!I3:$Z3)","v":{"v":0,"d":"0.00%"}},{"$f":"SUM(Fernkampf!J3:$Z3)","v":{"v":0,"d":"0.00%"}},{"$f":"SUM(Fernkampf!K3:$Z3)","v":{"v":0,"d":"0.00%"}},{"$f":"SUM(Fernkampf!L3:$Z3)","v":{"v":0,"d":"0.00%"}},{"$f":"SUM(Fernkampf!M3:$Z3)","v":{"v":0,"d":"0.00%"}},{"$f":"SUM(Fernkampf!N3:$Z3)","v":{"v":0,"d":"0.00%"}},{"$f":"SUM(Fernkampf!O3:$Z3)","v":{"v":0,"d":"0.00%"}},{"$f":"SUM(Fernkampf!P3:$Z3)","v":{"v":0,"d":"0.00%"}},{"$f":"SUM(Fernkampf!Q3:$Z3)","v":{"v":0,"d":"0.00%"}},{"$f":"SUM(Fernkampf!R3:$Z3)","v":{"v":0,"d":"0.00%"}},{"$f":"SUM(Fernkampf!S3:$Z3)","v":{"v":0,"d":"0.00%"}},{"$f":"SUM(Fernkampf!T3:$Z3)","v":{"v":0,"d":"0.00%"}},{"$f":"SUM(Fernkampf!U3:$Z3)","v":{"v":0,"d":"0.00%"}},{"$f":"SUM(Fernkampf!V3:$Z3)","v":{"v":0,"d":"0.00%"}},{"$f":"SUM(Fernkampf!W3:$Z3)","v":{"v":0,"d":"0.00%"}},{"$f":"SUM(Fernkampf!X3:$Z3)","v":{"v":0,"d":"0.00%"}},{"$f":"SUM(Fernkampf!Y3:$Z3)","v":{"v":0,"d":"0.00%"}},{"$f":"SUM(Fernkampf!Z3:$Z3)","v":{"v":0,"d":"0.00%"}}]
[2,{"$f":"SUM(Fernkampf!C4:$Z4)","v":{"v":0.8888888888888888,"d":"88.89%"}},{"$f":"SUM(Fernkampf!D4:$Z4)","v":{"v":0.6666666666666667,"d":"66.67%"}},{"$f":"SUM(Fernkampf!E4:$Z4)","v":{"v":0.3333333333333333,"d":"33.33%"}},{"$f":"SUM(Fernkampf!F4:$Z4)","v":{"v":0.1111111111111111,"d":"11.11%"}},{"$f":"SUM(Fernkampf!G4:$Z4)","v":{"v":0,"d":"0.00%"}},{"$f":"SUM(Fernkampf!H4:$Z4)","v":{"v":0,"d":"0.00%"}},{"$f":"SUM(Fernkampf!I4:$Z4)","v":{"v":0,"d":"0.00%"}},{"$f":"SUM(Fernkampf!J4:$Z4)","v":{"v":0,"d":"0.00%"}},{"$f":"SUM(Fernkampf!K4:$Z4)","v":{"v":0,"d":"0.00%"}},{"$f":"SUM(Fernkampf!L4:$Z4)","v":{"v":0,"d":"0.00%"}},{"$f":"SUM(Fernkampf!M4:$Z4)","v":{"v":0,"d":"0.00%"}},{"$f":"SUM(Fernkampf!N4:$Z4)","v":{"v":0,"d":"0.00%"}},{"$f":"SUM(Fernkampf!O4:$Z4)","v":{"v":0,"d":"0.00%"}},{"$f":"SUM(Fernkampf!P4:$Z4)","v":{"v":0,"d":"0.00%"}},{"$f":"SUM(Fernkampf!Q4:$Z4)","v":{"v":0,"d":"0.00%"}},{"$f":"SUM(Fernkampf!R4:$Z4)","v":{"v":0,"d":"0.00%"}},{"$f":"SUM(Fernkampf!S4:$Z4)","v":{"v":0,"d":"0.00%"}},{"$f":"SUM(Fernkampf!T4:$Z4)","v":{"v":0,"d":"0.00%"}},{"$f":"SUM(Fernkampf!U4:$Z4)","v":{"v":0,"d":"0.00%"}},{"$f":"SUM(Fernkampf!V4:$Z4)","v":{"v":0,"d":"0.00%"}},{"$f":"SUM(Fernkampf!W4:$Z4)","v":{"v":0,"d":"0.00%"}},{"$f":"SUM(Fernkampf!X4:$Z4)","v":{"v":0,"d":"0.00%"}},{"$f":"SUM(Fernkampf!Y4:$Z4)","v":{"v":0,"d":"0.00%"}},{"$f":"SUM(Fernkampf!Z4:$Z4)","v":{"v":0,"d":"0.00%"}}]
[3,{"$f":"SUM(Fernkampf!C5:$Z5)","v":{"v":0.9629629629629628,"d":"96.30%"}},{"$f":"SUM(Fernkampf!D5:$Z5)","v":{"v":0.8518518518518519,"d":"85.19%"}},{"$f":"SUM(Fernkampf!E5:$Z5)","v":{"v":0.6296296296296295,"d":"62.96%"}},{"$f":"SUM(Fernkampf!F5:$Z5)","v":{"v":0.37037037037037035,"d":"37.04%"}},{"$f":"SUM(Fernkampf!G5:$Z5)","v":{"v":0.14814814814814814,"d":"14.81%"}},{"$f":"SUM(Fernkampf!H5:$Z5)","v":{"v":0.037037037037037035,"d":"3.70%"}},{"$f":"SUM(Fernkampf!I5:$Z5)","v":{"v":0,"d":"0.00%"}},{"$f":"SUM(Fernkampf!J5:$Z5)","v":{"v":0,"d":"0.00%"}},{"$f":"SUM(Fernkampf!K5:$Z5)","v":{"v":0,"d":"0.00%"}},{"$f":"SUM(Fernkampf!L5:$Z5)","v":{"v":0,"d":"0.00%"}},{"$f":"SUM(Fernkampf!M5:$Z5)","v":{"v":0,"d":"0.00%"}},{"$f":"SUM(Fernkampf!N5:$Z5)","v":{"v":0,"d":"0.00%"}},{"$f":"SUM(Fernkampf!O5:$Z5)","v":{"v":0,"d":"0.00%"}},{"$f":"SUM(Fernkampf!P5:$Z5)","v":{"v":0,"d":"0.00%"}},{"$f":"SUM(Fernkampf!Q5:$Z5)","v":{"v":0,"d":"0.00%"}},{"$f":"SUM(Fernkampf!R5:$Z5)","v":{"v":0,"d":"0.00%"}},{"$f":"SUM(Fernkampf!S5:$Z5)","v":{"v":0,"d":"0.00%"}},{"$f":"SUM(Fernkampf!T5:$Z5)","v":{"v":0,"d":"0.00%"}},{"$f":"SUM(Fernkampf!U5:$Z5)","v":{"v":0,"d":"0.00%"}},{"$f":"SUM(Fernkampf!V5:$Z5)","v":{"v":0,"d":"0.00%"}},{"$f":"SUM(Fernkampf!W5:$Z5)","v":{"v":0,"d":"0.00%"}},{"$f":"SUM(Fernkampf!X5:$Z5)","v":{"v":0,"d":"0.00%"}},{"$f":"SUM(Fernkampf!Y5:$Z5)","v":{"v":0,"d":"0.00%"}},{"$f":"SUM(Fernkampf!Z5:$Z5)","v":{"v":0,"d":"0.00%"}}]
[4,{"$f":"SUM(Fernkampf!C6:$Z6)","v":{"v":0.9876543209876543,"d":"98.77%"}},{"$f":"SUM(Fernkampf!D6:$Z6)","v":{"v":0.9382716049382716,"d":"93.83%"}},{"$f":"SUM(Fernkampf!E6:$Z6)","v":{"v":0.8148148148148147,"d":"81.48%"}},{"$f":"SUM(Fernkampf!F6:$Z6)","v":{"v":0.617283950617284,"d":"61.73%"}},{"$f":"SUM(Fernkampf!G6:$Z6)","v":{"v":0.38271604938271603,"d":"38.27%"}},{"$f":"SUM(Fernkampf!H6:$Z6)","v":{"v":0.18518518518518517,"d":"18.52%"}},{"$f":"SUM(Fernkampf!I6:$Z6)","v":{"v":0.06172839506172839,"d":"6.17%"}},{"$f":"SUM(Fernkampf!J6:$Z6)","v":{"v":0.012345679012345678,"d":"1.23%"}},{"$f":"SUM(Fernkampf!K6:$Z6)","v":{"v":0,"d":"0.00%"}},{"$f":"SUM(Fernkampf!L6:$Z6)","v":{"v":0,"d":"0.00%"}},{"$f":"SUM(Fernkampf!M6:$Z6)","v":{"v":0,"d":"0.00%"}},{"$f":"SUM(Fernkampf!N6:$Z6)","v":{"v":0,"d":"0.00%"}},{"$f":"SUM(Fernkampf!O6:$Z6)","v":{"v":0,"d":"0.00%"}},{"$f":"SUM(Fernkampf!P6:$Z6)","v":{"v":0,"d":"0.00%"}},{"$f":"SUM(Fernkampf!Q6:$Z6)","v":{"v":0,"d":"0.00%"}},{"$f":"SUM(Fernkampf!R6:$Z6)","v":{"v":0,"d":"0.00%"}},{"$f":"SUM(Fernkampf!S6:$Z6)","v":{"v":0,"d":"0.00%"}},{"$f":"SUM(Fernkampf!T6:$Z6)","v":{"v":0,"d":"0.00%"}},{"$f":"SUM(Fernkampf!U6:$Z6)","v":{"v":0,"d":"0.00%"}},{"$f":"SUM(Fernkampf!V6:$Z6)","v":{"v":0,"d":"0.00%"}},{"$f":"SUM(Fernkampf!W6:$Z6)","v":{"v":0,"d":"0.00%"}},{"$f":"SUM(Fernkampf!X6:$Z6)","v":{"v":0,"d":"0.00%"}},{"$f":"SUM(Fernkampf!Y6:$Z6)","v":{"v":0,"d":"0.00%"}},{"$f":"SUM(Fernkampf!Z6:$Z6)","v":{"v":0,"d":"0.00%"}}]
[5,{"$f":"SUM(Fernkampf!C7:$Z7)","v":{"v":0.9958847736625512,"d":"99.59%"}},{"$f":"SUM(Fernkampf!D7:$Z7)","v":{"v":0.9753086419753084,"d":"97.53%"}},{"$f":"SUM(Fernkampf!E7:$Z7)","v":{"v":0.9135802469135802,"d":"91.36%"}},{"$f":"SUM(Fernkampf!F7:$Z7)","v":{"v":0.7901234567901233,"d":"79.01%"}},{"$f":"SUM(Fernkampf!G7:$Z7)","v":{"v":0.6049382716049382,"d":"60.49%"}},{"$f":"SUM(Fernkampf!H7:$Z7)","v":{"v":0.3950617283950617,"d":"39.51%"}},{"$f":"SUM(Fernkampf!I7:$Z7)","v":{"v":0.20987654320987653,"d":"20.99%"}},{"$f":"SUM(Fernkampf!J7:$Z7)","v":{"v":0.08641975308641975,"d":"8.64%"}},{"$f":"SUM(Fernkampf!K7:$Z7)","v":{"v":0.024691358024691357,"d":"2.47%"}},{"$f":"SUM(Fernkampf!L7:$Z7)","v":{"v":4.11522633744856E-3,"d":"0.41%"}},{"$f":"SUM(Fernkampf!M7:$Z7)","v":{"v":0,"d":"0.00%"}},{"$f":"SUM(Fernkampf!N7:$Z7)","v":{"v":0,"d":"0.00%"}},{"$f":"SUM(Fernkampf!O7:$Z7)","v":{"v":0,"d":"0.00%"}},{"$f":"SUM(Fernkampf!P7:$Z7)","v":{"v":0,"d":"0.00%"}},{"$f":"SUM(Fernkampf!Q7:$Z7)","v":{"v":0,"d":"0.00%"}},{"$f":"SUM(Fernkampf!R7:$Z7)","v":{"v":0,"d":"0.00%"}},{"$f":"SUM(Fernkampf!S7:$Z7)","v":{"v":0,"d":"0.00%"}},{"$f":"SUM(Fernkampf!T7:$Z7)","v":{"v":0,"d":"0.00%"}},{"$f":"SUM(Fernkampf!U7:$Z7)","v":{"v":0,"d":"0.00%"}},{"$f":"SUM(Fernkampf!V7:$Z7)","v":{"v":0,"d":"0.00%"}},{"$f":"SUM(Fernkampf!W7:$Z7)","v":{"v":0,"d":"0.00%"}},{"$f":"SUM(Fernkampf!X7:$Z7)","v":{"v":0,"d":"0.00%"}},{"$f":"SUM(Fernkampf!Y7:$Z7)","v":{"v":0,"d":"0.00%"}},{"$f":"SUM(Fernkampf!Z7:$Z7)","v":{"v":0,"d":"0.00%"}}]
[6,{"$f":"SUM(Fernkampf!C8:$Z8)","v":{"v":0.998628257887517,"d":"99.86%"}},{"$f":"SUM(Fernkampf!D8:$Z8)","v":{"v":0.9903978052126199,"d":"99.04%"}},{"$f":"SUM(Fernkampf!E8:$Z8)","v":{"v":0.96159122085048,"d":"96.16%"}},{"$f":"SUM(Fernkampf!F8:$Z8)","v":{"v":0.8930041152263373,"d":"89.30%"}},{"$f":"SUM(Fernkampf!G8:$Z8)","v":{"v":0.7695473251028806,"d":"76.95%"}},{"$f":"SUM(Fernkampf!H8:$Z8)","v":{"v":0.596707818930041,"d":"59.67%"}},{"$f":"SUM(Fernkampf!I8:$Z8)","v":{"v":0.40329218106995884,"d":"40.33%"}},{"$f":"SUM(Fernkampf!J8:$Z8)","v":{"v":0.23045267489711935,"d":"23.05%"}},{"$f":"SUM(Fernkampf!K8:$Z8)","v":{"v":0.10699588477366256,"d":"10.70%"}},{"$f":"SUM(Fernkampf!L8:$Z8)","v":{"v":0.03840877914951989,"d":"3.84%"}},{"$f":"SUM(Fernkampf!M8:$Z8)","v":{"v":0.009602194787379973,"d":"0.96%"}},{"$f":"SUM(Fernkampf!N8:$Z8)","v":{"v":1.3717421124828531E-3,"d":"0.14%"}},{"$f":"SUM(Fernkampf!O8:$Z8)","v":{"v":0,"d":"0.00%"}},{"$f":"SUM(Fernkampf!P8:$Z8)","v":{"v":0,"d":"0.00%"}},{"$f":"SUM(Fernkampf!Q8:$Z8)","v":{"v":0,"d":"0.00%"}},{"$f":"SUM(Fernkampf!R8:$Z8)","v":{"v":0,"d":"0.00%"}},{"$f":"SUM(Fernkampf!S8:$Z8)","v":{"v":0,"d":"0.00%"}},{"$f":"SUM(Fernkampf!T8:$Z8)","v":{"v":0,"d":"0.00%"}},{"$f":"SUM(Fernkampf!U8:$Z8)","v":{"v":0,"d":"0.00%"}},{"$f":"SUM(Fernkampf!V8:$Z8)","v":{"v":0,"d":"0.00%"}},{"$f":"SUM(Fernkampf!W8:$Z8)","v":{"v":0,"d":"0.00%"}},{"$f":"SUM(Fernkampf!X8:$Z8)","v":{"v":0,"d":"0.00%"}},{"$f":"SUM(Fernkampf!Y8:$Z8)","v":{"v":0,"d":"0.00%"}},{"$f":"SUM(Fernkampf!Z8:$Z8)","v":{"v":0,"d":"0.00%"}}]
[7,{"$f":"SUM(Fernkampf!C9:$Z9)","v":{"v":0.9995427526291724,"d":"99.95%"}},{"$f":"SUM(Fernkampf!D9:$Z9)","v":{"v":0.996342021033379,"d":"99.63%"}},{"$f":"SUM(Fernkampf!E9:$Z9)","v":{"v":0.9835390946502057,"d":"98.35%"}},{"$f":"SUM(Fernkampf!F9:$Z9)","v":{"v":0.9483310470964791,"d":"94.83%"}},{"$f":"SUM(Fernkampf!G9:$Z9)","v":{"v":0.8747142203932327,"d":"87.47%"}},{"$f":"SUM(Fernkampf!H9:$Z9)","v":{"v":0.7530864197530863,"d":"75.31%"}},{"$f":"SUM(Fernkampf!I9:$Z9)","v":{"v":0.5898491083676268,"d":"58.98%"}},{"$f":"SUM(Fernkampf!J9:$Z9)","v":{"v":0.4101508916323731,"d":"41.02%"}},{"$f":"SUM(Fernkampf!K9:$Z9)","v":{"v":0.24691358024691354,"d":"24.69%"}},{"$f":"SUM(Fernkampf!L9:$Z9)","v":{"v":0.12528577960676726,"d":"12.53%"}},{"$f":"SUM(Fernkampf!M9:$Z9)","v":{"v":0.051668952903520804,"d":"5.17%"}},{"$f":"SUM(Fernkampf!N9:$Z9)","v":{"v":0.016460905349794237,"d":"1.65%"}},{"$f":"SUM(Fernkampf!O9:$Z9)","v":{"v":0.003657978966620942,"d":"0.37%"}},{"$f":"SUM(Fernkampf!P9:$Z9)","v":{"v":4.5724737082761773E-4,"d":"0.05%"}},{"$f":"SUM(Fernkampf!Q9:$Z9)","v":{"v":0,"d":"0.00%"}},{"$f":"SUM(Fernkampf!R9:$Z9)","v":{"v":0,"d":"0.00%"}},{"$f":"SUM(Fernkampf!S9:$Z9)","v":{"v":0,"d":"0.00%"}},{"$f":"SUM(Fernkampf!T9:$Z9)","v":{"v":0,"d":"0.00%"}},{"$f":"SUM(Fernkampf!U9:$Z9)","v":{"v":0,"d":"0.00%"}},{"$f":"SUM(Fernkampf!V9:$Z9)","v":{"v":0,"d":"0.00%"}},{"$f":"SUM(Fernkampf!W9:$Z9)","v":{"v":0,"d":"0.00%"}},{"$f":"SUM(Fernkampf!X9:$Z9)","v":{"v":0,"d":"0.00%"}},{"$f":"SUM(Fernkampf!Y9:$Z9)","v":{"v":0,"d":"0.00%"}},{"$f":"SUM(Fernkampf!Z9:$Z9)","v":{"v":0,"d":"0.00%"}}]
[8,{"$f":"SUM(Fernkampf!C10:$Z10)","v":{"v":0.9998475842097242,"d":"99.98%"}},{"$f":"SUM(Fernkampf!D10:$Z10)","v":{"v":0.9986282578875173,"d":"99.86%"}},{"$f":"SUM(Fernkampf!E10:$Z10)","v":{"v":0.9931412894375858,"d":"99.31%"}},{"$f":"SUM(Fernkampf!F10:$Z10)","v":{"v":0.9760707209266882,"d":"97.61%"}},{"$f":"SUM(Fernkampf!G10:$Z10)","v":{"v":0.935528120713306,"d":"93.55%"}},{"$f":"SUM(Fernkampf!H10:$Z10)","v":{"v":0.8587105624142662,"d":"85.87%"}},{"$f":"SUM(Fernkampf!I10:$Z10)","v":{"v":0.7392165828379821,"d":"73.92%"}},{"$f":"SUM(Fernkampf!J10:$Z10)","v":{"v":0.5843621399176956,"d":"58.44%"}},{"$f":"SUM(Fernkampf!K10:$Z10)","v":{"v":0.4156378600823046,"d":"41.56%"}},{"$f":"SUM(Fernkampf!L10:$Z10)","v":{"v":0.260783417162018,"d":"26.08%"}},{"$f":"SUM(Fernkampf!M10:$Z10)","v":{"v":0.14128943758573387,"d":"14.13%"}},{"$f":"SUM(Fernkampf!N10:$Z10)","v":{"v":0.0644718792866941,"d":"6.45%"}},{"$f":"SUM(Fernkampf!O10:$Z10)","v":{"v":0.023929279073311993,"d":"2.39%"}},{"$f":"SUM(Fernkampf!P10:$Z10)","v":{"v":0.006858710562414266,"d":"0.69%"}},{"$f":"SUM(Fernkampf!Q10:$Z10)","v":{"v":1.3717421124828533E-3,"d":"0.14%"}},{"$f":"SUM(Fernkampf!R10:$Z10)","v":{"v":1.5241579027587258E-4,"d":"0.02%"}},{"$f":"SUM(Fernkampf!S10:$Z10)","v":{"v":0,"d":"0.00%"}},{"$f":"SUM(Fernkampf!T10:$Z10)","v":{"v":0,"d":"0.00%"}},{"$f":"SUM(Fernkampf!U10:$Z10)","v":{"v":0,"d":"0.00%"}},{"$f":"SUM(Fernkampf!V10:$Z10)","v":{"v":0,"d":"0.00%"}},{"$f":"SUM(Fernkampf!W10:$Z10)","v":{"v":0,"d":"0.00%"}},{"$f":"SUM(Fernkampf!X10:$Z10)","v":{"v":0,"d":"0.00%"}},{"$f":"SUM(Fernkampf!Y10:$Z10)","v":{"v":0,"d":"0.00%"}},{"$f":"SUM(Fernkampf!Z10:$Z10)","v":{"v":0,"d":"0.00%"}}]
[]
["Schaden mit Reroll"]
["Würfel",1,2,3,4,5,6,7,8,9,10,11,12,13,14,15,16,17,18,19,20,21,22,23,24]
[1,{"$f":"SUM(Fernkampf!C14:$Z14)","v":{"v":0.8888888888888888,"d":"88.89%"}},{"$f":"SUM(Fernkampf!D14:$Z14)","v":{"v":0.5555555555555556,"d":"55.56%"}},{"$f":"SUM(Fernkampf!E14:$Z14)","v":{"v":0,"d":"0.00%"}},{"$f":"SUM(Fernkampf!F14:$Z14)","v":{"v":0,"d":"0.00%"}},{"$f":"SUM(Fernkampf!G14:$Z14)","v":{"v":0,"d":"0.00%"}},{"$f":"SUM(Fernkampf!H14:$Z14)","v":{"v":0,"d":"0.00%"}},{"$f":"SUM(Fernkampf!I14:$Z14)","v":{"v":0,"d":"0.00%"}},{"$f":"SUM(Fernkampf!J14:$Z14)","v":{"v":0,"d":"0.00%"}},{"$f":"SUM(Fernkampf!K14:$Z14)","v":{"v":0,"d":"0.00%"}},{"$f":"SUM(Fernkampf!L14:$Z14)","v":{"v":0,"d":"0.00%"}},{"$f":"SUM(Fernkampf!M14:$Z14)","v":{"v":0,"d":"0.00%"}},{"$f":"SUM(Fernkampf!N14:$Z14)","v":{"v":0,"d":"0.00%"}},{"$f":"SUM(Fernkampf!O14:$Z14)","v":{"v":0,"d":"0.00%"}},{"$f":"SUM(Fernkampf!P14:$Z14)","v":{"v":0,"d":"0.00%"}},{"$f":"SUM(Fernkampf!Q14:$Z14)","v":{"v":0,"d":"0.00%"}},{"$f":"SUM(Fernkampf!R14:$Z14)","v":{"v":0,"d":"0.00%"}},{"$f":"SUM(Fernkampf!S14:$Z14)","v":{"v":0,"d":"0.00%"}},{"$f":"SUM(Fernkampf!T14:$Z14)","v":{"v":0,"d":"0.00%"}},{"$f":"SUM(Fernkampf!U14:$Z14)","v":{"v":0,"d":"0.00%"}},{"$f":"SUM(Fernkampf!V14:$Z14)","v":{"v":0,"d":"0.00%"}},{"$f":"SUM(Fernkampf!W14:$Z14)","v":{"v":0,"d":"0.00%"}},{"$f":"SUM(Fernkampf!X14:$Z14)","v":{"v":0,"d":"0.00%"}},{"$f":"SUM(Fernkampf!Y14:$Z14)","v":{"v":0,"d":"0.00%"}},{"$f":"SUM(Fernkampf!Z14:$Z14)","v":{"v":0,"d":"0.00%"}}]
[2,{"$f":"SUM(Fernkampf!C15:$Z15)","v":{"v":0.962962962962963,"d":"96.30%"}},{"$f":"SUM(Fernkampf!D15:$Z15)","v":{"v":0.8518518518518519,"d":"85.19%"}},{"$f":"SUM(Fernkampf!E15:$Z15)","v":{"v":0.5925925925925926,"d":"59.26%"}},{"$f":"SUM(Fernkampf!F15:$Z15)","v":{"v":0.25925925925925924,"d":"25.93%"}},{"$f":"SUM(Fernkampf!G15:$Z15)","v":{"v":0,"d":"0.00%"}},{"$f":"SUM(Fernkampf!H15:$Z15)","v":{"v":0,"d":"0.00%"}},{"$f":"SUM(Fernkampf!I15:$Z15)","v":{"v":0,"d":"0.00%"}},{"$f":"SUM(Fernkampf!J15:$Z15)","v":{"v":0,"d":"0.00%"}},{"$f":"SUM(Fernkampf!K15:$Z15)","v":{"v":0,"d":"0.00%"}},{"$f":"SUM(Fernkampf!L15:$Z15)","v":{"v":0,"d":"0.00%"}},{"$f":"SUM(Fernkampf!M15:$Z15)","v":{"v":0,"d":"0.00%"}},{"$f":"SUM(Fernkampf!N15:$Z15)","v":{"v":0,"d":"0.00%"}},{"$f":"SUM(Fernkampf!O15:$Z15)","v":{"v":0,"d":"0.00%"}},{"$f":"SUM(Fernkampf!P15:$Z15)","v":{"v":0,"d":"0.00%"}},{"$f":"SUM(Fernkampf!Q15:$Z15)","v":{"v":0,"d":"0.00%"}},{"$f":"SUM(Fernkampf!R15:$Z15)","v":{"v":0,"d":"0.00%"}},{"$f":"SUM(Fernkampf!S15:$Z15)","v":{"v":0,"d":"0.00%"}},{"$f":"SUM(Fernkampf!T15:$Z15)","v":{"v":0,"d":"0.00%"}},{"$f":"SUM(Fernkampf!U15:$Z15)","v":{"v":0,"d":"0.00%"}},{"$f":"SUM(Fernkampf!V15:$Z15)","v":{"v":0,"d":"0.00%"}},{"$f":"SUM(Fernkampf!W15:$Z15)","v":{"v":0,"d":"0.00%"}},{"$f":"SUM(Fernkampf!X15:$Z15)","v":{"v":0,"d":"0.00%"}},{"$f":"SUM(Fernkampf!Y15:$Z15)","v":{"v":0,"d":"0.00%"}},{"$f":"SUM(Fernkampf!Z15:$Z15)","v":{"v":0,"d":"0.00%"}}]
[3,{"$f":"SUM(Fernkampf!C16:$Z16)","v":{"v":0.9876543209876543,"d":"98.77%"}},{"$f":"SUM(Fernkampf!D16:$Z16)","v":{"v":0.9382716049382716,"d":"93.83%"}},{"$f":"SUM(Fernkampf!E16:$Z16)","v":{"v":0.8148148148148149,"d":"81.48%"}},{"$f":"SUM(Fernkampf!F16:$Z16)","v":{"v":0.6049382716049383,"d":"60.49%"}},{"$f":"SUM(Fernkampf!G16:$Z16)","v":{"v":0.3333333333333333,"d":"33.33%"}},{"$f":"SUM(Fernkampf!H16:$Z16)","v":{"v":0.1111111111111111,"d":"11.11%"}},{"$f":"SUM(Fernkampf!I16:$Z16)","v":{"v":0,"d":"0.00%"}},{"$f":"SUM(Fernkampf!J16:$Z16)","v":{"v":0,"d":"0.00%"}},{"$f":"SUM(Fernkampf!K16:$Z16)","v":{"v":0,"d":"0.00%"}},{"$f":"SUM(Fernkampf!L16:$Z16)","v":{"v":0,"d":"0.00%"}},{"$f":"SUM(Fernkampf!M16:$Z16)","v":{"v":0,"d":"0.00%"}},{"$f":"SUM(Fernkampf!N16:$Z16)","v":{"v":0,"d":"0.00%"}},{"$f":"SUM(Fernkampf!O16:$Z16)","v":{"v":0,"d":"0.00%"}},{"$f":"SUM(Fernkampf!P16:$Z16)","v":{"v":0,"d":"0.00%"}},{"$f":"SUM(Fernkampf!Q16:$Z16)","v":{"v":0,"d":"0.00%"}},{"$f":"SUM(Fernkampf!R16:$Z16)","v":{"v":0,"d":"0.00%"}},{"$f":"SUM(Fernkampf!S16:$Z16)","v":{"v":0,"d":"0.00%"}},{"$f":"SUM(Fernkampf!T16:$Z16)","v":{"v":0,"d":"0.00%"}},{"$f":"SUM(Fernkampf!U16:$Z16)","v":{"v":0,"d":"0.00%"}},{"$f":"SUM(Fernkampf!V16:$Z16)","v":{"v":0,"d":"0.00%"}},{"$f":"SUM(Fernkampf!W16:$Z16)","v":{"v":0,"d":"0.00%"}},{"$f":"SUM(Fernkampf!X16:$Z16)","v":{"v":0,"d":"0.00%"}},{"$f":"SUM(Fernkampf!Y16:$Z16)","v":{"v":0,"d":"0.00%"}},{"$f":"SUM(Fernkampf!Z16:$Z16)","v":{"v":0,"d":"0.00%"}}]
[4,{"$f":"SUM(Fernkampf!C17:$Z17)","v":{"v":0.9958847736625513,"d":"99.59%"}},{"$f":"SUM(Fernkampf!D17:$Z17)","v":{"v":0.9753086419753085,"d":"97.53%"}},{"$f":"SUM(Fernkampf!E17:$Z17)","v":{"v":0.9135802469135803,"d":"91.36%"}},{"$f":"SUM(Fernkampf!F17:$Z17)","v":{"v":0.7901234567901234,"d":"79.01%"}},{"$f":"SUM(Fernkampf!G17:$Z17)","v":{"v":0.6008230452674898,"d":"60.08%"}},{"$f":"SUM(Fernkampf!H17:$Z17)","v":{"v":0.37448559670781895,"d":"37.45%"}},{"$f":"SUM(Fernkampf!I17:$Z17)","v":{"v":0.16872427983539096,"d":"16.87%"}},{"$f":"SUM(Fernkampf!J17:$Z17)","v":{"v":0.04526748971193416,"d":"4.53%"}},{"$f":"SUM(Fernkampf!K17:$Z17)","v":{"v":0,"d":"0.00%"}},{"$f":"SUM(Fernkampf!L17:$Z17)","v":{"v":0,"d":"0.00%"}},{"$f":"SUM(Fernkampf!M17:$Z17)","v":{"v":0,"d":"0.00%"}},{"$f":"SUM(Fernkampf!N17:$Z17)","v":{"v":0,"d":"0.00%"}},{"$f":"SUM(Fernkampf!O17:$Z17)","v":{"v":0,"d":"0.00%"}},{"$f":"SUM(Fernkampf!P17:$Z17)","v":{"v":0,"d":"0.00%"}},{"$f":"SUM(Fernkampf!Q17:$Z17)","v":{"v":0,"d":"0.00%"}},{"$f":"SUM(Fernkampf!R17:$Z17)","v":{"v":0,"d":"0.00%"}},{"$f":"SUM(Fernkampf!S17:$Z17)","v":{"v":0,"d":"0.00%"}},{"$f":"SUM(Fernkampf!T17:$Z17)","v":{"v":0,"d":"0.00%"}},{"$f":"SUM(Fernkampf!U17:$Z17)","v":{"v":0,"d":"0.00%"}},{"$f":"SUM(Fernkampf!V17:$Z17)","v":{"v":0,"d":"0.00%"}},{"$f":"SUM(Fernkampf!W17:$Z17)","v":{"v":0,"d":"0.00%"}},{"$f":"SUM(Fernkampf!X17:$Z17)","v":{"v":0,"d":"0.00%"}},{"$f":"SUM(Fernkampf!Y17:$Z17)","v":{"v":0,"d":"0.00%"}},{"$f":"SUM(Fernkampf!Z17:$Z17)","v":{"v":0,"d":"0.00%"}}]
[5,{"$f":"SUM(Fernkampf!C18:$Z18)","v":{"v":0.9986282578875171,"d":"99.86%"}},{"$f":"SUM(Fernkampf!D18:$Z18)","v":{"v":0.99039780521262,"d":"99.04%"}},{"$f":"SUM(Fernkampf!E18:$Z18)","v":{"v":0.9615912208504801,"d":"96.16%"}},{"$f":"SUM(Fernkampf!F18:$Z18)","v":{"v":0.8930041152263374,"d":"89.30%"}},{"$f":"SUM(Fernkampf!G18:$Z18)","v":{"v":0.7695473251028807,"d":"76.95%"}},{"$f":"SUM(Fernkampf!H18:$Z18)","v":{"v":0.5953360768175583,"d":"59.53%"}},{"$f":"SUM(Fernkampf!I18:$Z18)","v":{"v":0.3950617283950617,"d":"39.51%"}},{"$f":"SUM(Fernkampf!J18:$Z18)","v":{"v":0.20987654320987653,"d":"20.99%"}},{"$f":"SUM(Fernkampf!K18:$Z18)","v":{"v":0.07956104252400548,"d":"7.96%"}},{"$f":"SUM(Fernkampf!L18:$Z18)","v":{"v":0.01783264746227709,"d":"1.78%"}},{"$f":"SUM(Fernkampf!M18:$Z18)","v":{"v":0,"d":"0.00%"}},{"$f":"SUM(Fernkampf!N18:$Z18)","v":{"v":0,"d":"0.00%"}},{"$f":"SUM(Fernkampf!O18:$Z18)","v":{"v":0,"d":"0.00%"}},{"$f":"SUM(Fernkampf!P18:$Z18)","v":{"v":0,"d":"0.00%"}},{"$f":"SUM(Fernkampf!Q18:$Z18)","v":{"v":0,"d":"0.00%"}},{"$f":"SUM(Fernkampf!R18:$Z18)","v":{"v":0,"d":"0.00%"}},{"$f":"SUM(Fernkampf!S18:$Z18)","v":{"v":0,"d":"0.00%"}},{"$f":"SUM(Fernkampf!T18:$Z18)","v":{"v":0,"d":"0.00%"}},{"$f":"SUM(Fernkampf!U18:$Z18)","v":{"v":0,"d":"0.00%"}},{"$f":"SUM(Fernkampf!V18:$Z18)","v":{"v":0,"d":"0.00%"}},{"$f":"SUM(Fernkampf!W18:$Z18)","v":{"v":0,"d":"0.00%"}},{"$f":"SUM(Fernkampf!X18:$Z18)","v":{"v":0,"d":"0.00%"}},{"$f":"SUM(Fernkampf!Y18:$Z18)","v":{"v":0,"d":"0.00%"}},{"$f":"SUM(Fernkampf!Z18:$Z18)","v":{"v":0,"d":"0.00%"}}]
[6,{"$f":"SUM(Fernkampf!C19:$Z19)","v":{"v":0.9995427526291724,"d":"99.95%"}},{"$f":"SUM(Fernkampf!D19:$Z19)","v":{"v":0.996342021033379,"d":"99.63%"}},{"$f":"SUM(Fernkampf!E19:$Z19)","v":{"v":0.9835390946502057,"d":"98.35%"}},{"$f":"SUM(Fernkampf!F19:$Z19)","v":{"v":0.9483310470964791,"d":"94.83%"}},{"$f":"SUM(Fernkampf!G19:$Z19)","v":{"v":0.8747142203932327,"d":"87.47%"}},{"$f":"SUM(Fernkampf!H19:$Z19)","v":{"v":0.7530864197530863,"d":"75.31%"}},{"$f":"SUM(Fernkampf!I19:$Z19)","v":{"v":0.5893918609967992,"d":"58.94%"}},{"$f":"SUM(Fernkampf!J19:$Z19)","v":{"v":0.4069501600365798,"d":"40.70%"}},{"$f":"SUM(Fernkampf!K19:$Z19)","v":{"v":0.23731138545953362,"d":"23.73%"}},{"$f":"SUM(Fernkampf!L19:$Z19)","v":{"v":0.10928212162780065,"d":"10.93%"}},{"$f":"SUM(Fernkampf!M19:$Z19)","v":{"v":0.03566529492455418,"d":"3.57%"}},{"$f":"SUM(Fernkampf!N19:$Z19)","v":{"v":0.006858710562414266,"d":"0.69%"}},{"$f":"SUM(Fernkampf!O19:$Z19)","v":{"v":0,"d":"0.00%"}},{"$f":"SUM(Fernkampf!P19:$Z19)","v":{"v":0,"d":"0.00%"}},{"$f":"SUM(Fernkampf!Q19:$Z19)","v":{"v":0,"d":"0.00%"}},{"$f":"SUM(Fernkampf!R19:$Z19)","v":{"v":0,"d":"0.00%"}},{"$f":"SUM(Fernkampf!S19:$Z19)","v":{"v":0,"d":"0.00%"}},{"$f":"SUM(Fernkampf!T19:$Z19)","v":{"v":0,"d":"0.00%"}},{"$f":"SUM(Fernkampf!U19:$Z19)","v":{"v":0,"d":"0.00%"}},{"$f":"SUM(Fernkampf!V19:$Z19)","v":{"v":0,"d":"0.00%"}},{"$f":"SUM(Fernkampf!W19:$Z19)","v":{"v":0,"d":"0.00%"}},{"$f":"SUM(Fernkampf!X19:$Z19)","v":{"v":0,"d":"0.00%"}},{"$f":"SUM(Fernkampf!Y19:$Z19)","v":{"v":0,"d":"0.00%"}},{"$f":"SUM(Fernkampf!Z19:$Z19)","v":{"v":0,"d":"0.00%"}}]
[7,{"$f":"SUM(Fernkampf!C20:$Z20)","v":{"v":0.9998475842097241,"d":"99.98%"}},{"$f":"SUM(Fernkampf!D20:$Z20)","v":{"v":0.998628257887517,"d":"99.86%"}},{"$f":"SUM(Fernkampf!E20:$Z20)","v":{"v":0.9931412894375857,"d":"99.31%"}},{"$f":"SUM(Fernkampf!F20:$Z20)","v":{"v":0.9760707209266879,"d":"97.61%"}},{"$f":"SUM(Fernkampf!G20:$Z20)","v":{"v":0.9355281207133057,"d":"93.55%"}},{"$f":"SUM(Fernkampf!H20:$Z20)","v":{"v":0.858710562414266,"d":"85.87%"}},{"$f":"SUM(Fernkampf!I20:$Z20)","v":{"v":0.739216582837982,"d":"73.92%"}},{"$f":"SUM(Fernkampf!J20:$Z20)","v":{"v":0.5842097241274196,"d":"58.42%"}},{"$f":"SUM(Fernkampf!K20:$Z20)","v":{"v":0.4144185337600976,"d":"41.44%"}},{"$f":"SUM(Fernkampf!L20:$Z20)","v":{"v":0.25651577503429357,"d":"25.65%"}},{"$f":"SUM(Fernkampf!M20:$Z20)","v":{"v":0.13275415333028504,"d":"13.28%"}},{"$f":"SUM(Fernkampf!N20:$Z20)","v":{"v":0.053802773967383026,"d":"5.38%"}},{"$f":"SUM(Fernkampf!O20:$Z20)","v":{"v":0.015393994817863129,"d":"1.54%"}},{"$f":"SUM(Fernkampf!P20:$Z20)","v":{"v":0.002591068434689834,"d":"0.26%"}},{"$f":"SUM(Fernkampf!Q20:$Z20)","v":{"v":0,"d":"0.00%"}},{"$f":"SUM(Fernkampf!R20:$Z20)","v":{"v":0,"d":"0.00%"}},{"$f":"SUM(Fernkampf!S20:$Z20)","v":{"v":0,"d":"0.00%"}},{"$f":"SUM(Fernkampf!T20:$Z20)","v":{"v":0,"d":"0.00%"}},{"$f":"SUM(Fernkampf!U20:$Z20)","v":{"v":0,"d":"0.00%"}},{"$f":"SUM(Fernkampf!V20:$Z20)","v":{"v":0,"d":"0.00%"}},{"$f":"SUM(Fernkampf!W20:$Z20)","v":{"v":0,"d":"0.00%"}},{"$f":"SUM(Fernkampf!X20:$Z20)","v":{"v":0,"d":"0.00%"}},{"$f":"SUM(Fernkampf!Y20:$Z20)","v":{"v":0,"d":"0.00%"}},{"$f":"SUM(Fernkampf!Z20:$Z20)","v":{"v":0,"d":"0.00%"}}]
[8,{"$f":"SUM(Fernkampf!C21:$Z21)","v":{"v":0.9999491947365748,"d":"99.99%"}},{"$f":"SUM(Fernkampf!D21:$Z21)","v":{"v":0.9994919473657473,"d":"99.95%"}},{"$f":"SUM(Fernkampf!E21:$Z21)","v":{"v":0.9972057105116092,"d":"99.72%"}},{"$f":"SUM(Fernkampf!F21:$Z21)","v":{"v":0.9892800894172638,"d":"98.93%"}},{"$f":"SUM(Fernkampf!G21:$Z21)","v":{"v":0.9682467103591934,"d":"96.82%"}},{"$f":"SUM(Fernkampf!H21:$Z21)","v":{"v":0.9234364680180869,"d":"92.34%"}},{"$f":"SUM(Fernkampf!I21:$Z21)","v":{"v":0.8444850886551849,"d":"84.45%"}},{"$f":"SUM(Fernkampf!J21:$Z21)","v":{"v":0.7274297617233147,"d":"72.74%"}},{"$f":"SUM(Fernkampf!K21:$Z21)","v":{"v":0.5796880556825688,"d":"57.97%"}},{"$f":"SUM(Fernkampf!L21:$Z21)","v":{"v":0.4198038916831784,"d":"41.98%"}},{"$f":"SUM(Fernkampf!M21:$Z21)","v":{"v":0.27074124879337497,"d":"27.07%"}},{"$f":"SUM(Fernkampf!N21:$Z21)","v":{"v":0.1512472692170909,"d":"15.12%"}},{"$f":"SUM(Fernkampf!O21:$Z21)","v":{"v":0.07016206879032666,"d":"7.02%"}},{"$f":"SUM(Fernkampf!P21:$Z21)","v":{"v":0.025351826449220138,"d":"2.54%"}},{"$f":"SUM(Fernkampf!Q21:$Z21)","v":{"v":6.4522684550119384E-3,"d":"0.65%"}},{"$f":"SUM(Fernkampf!R21:$Z21)","v":{"v":9.6530000508052638E-4,"d":"0.10%"}},{"$f":"SUM(Fernkampf!S21:$Z21)","v":{"v":0,"d":"0.00%"}},{"$f":"SUM(Fernkampf!T21:$Z21)","v":{"v":0,"d":"0.00%"}},{"$f":"SUM(Fernkampf!U21:$Z21)","v":{"v":0,"d":"0.00%"}},{"$f":"SUM(Fernkampf!V21:$Z21)","v":{"v":0,"d":"0.00%"}},{"$f":"SUM(Fernkampf!W21:$Z21)","v":{"v":0,"d":"0.00%"}},{"$f":"SUM(Fernkampf!X21:$Z21)","v":{"v":0,"d":"0.00%"}},{"$f":"SUM(Fernkampf!Y21:$Z21)","v":{"v":0,"d":"0.00%"}},{"$f":"SUM(Fernkampf!Z21:$Z21)","v":{"v":0,"d":"0.00%"}}]

{"sheet":"Explosion Mindestens","index":6,"n_rows":21,"n_cols":25,"rows_kept":21}
["Schaden ohne Reroll"]
["Würfel",1,2,3,4,5,6,7,8,9,10,11,12,13,14,15,16,17,18,19,20,21,22,23,24]
[1,{"$f":"SUM(Explosion!C3:$Z3)","v":{"v":0.5,"d":"50.00%"}},{"$f":"SUM(Explosion!D3:$Z3)","v":{"v":0.3333333333333333,"d":"33.33%"}},{"$f":"SUM(Explosion!E3:$Z3)","v":{"v":0.16666666666666666,"d":"16.67%"}},{"$f":"SUM(Explosion!F3:$Z3)","v":{"v":0,"d":"0.00%"}},{"$f":"SUM(Explosion!G3:$Z3)","v":{"v":0,"d":"0.00%"}},{"$f":"SUM(Explosion!H3:$Z3)","v":{"v":0,"d":"0.00%"}},{"$f":"SUM(Explosion!I3:$Z3)","v":{"v":0,"d":"0.00%"}},{"$f":"SUM(Explosion!J3:$Z3)","v":{"v":0,"d":"0.00%"}},{"$f":"SUM(Explosion!K3:$Z3)","v":{"v":0,"d":"0.00%"}},{"$f":"SUM(Explosion!L3:$Z3)","v":{"v":0,"d":"0.00%"}},{"$f":"SUM(Explosion!M3:$Z3)","v":{"v":0,"d":"0.00%"}},{"$f":"SUM(Explosion!N3:$Z3)","v":{"v":0,"d":"0.00%"}},{"$f":"SUM(Explosion!O3:$Z3)","v":{"v":0,"d":"0.00%"}},{"$f":"SUM(Explosion!P3:$Z3)","v":{"v":0,"d":"0.00%"}},{"$f":"SUM(Explosion!Q3:$Z3)","v":{"v":0,"d":"0.00%"}},{"$f":"SUM(Explosion!R3:$Z3)","v":{"v":0,"d":"0.00%"}},{"$f":"SUM(Explosion!S3:$Z3)","v":{"v":0,"d":"0.00%"}},{"$f":"SUM(Explosion!T3:$Z3)","v":{"v":0,"d":"0.00%"}},{"$f":"SUM(Explosion!U3:$Z3)","v":{"v":0,"d":"0.00%"}},{"$f":"SUM(Explosion!V3:$Z3)","v":{"v":0,"d":"0.00%"}},{"$f":"SUM(Explosion!W3:$Z3)","v":{"v":0,"d":"0.00%"}},{"$f":"SUM(Explosion!X3:$Z3)","v":{"v":0,"d":"0.00%"}},{"$f":"SUM(Explosion!Y3:$Z3)","v":{"v":0,"d":"0.00%"}},{"$f":"SUM(Explosion!Z3:$Z3)","v":{"v":0,"d":"0.00%"}}]
[2,{"$f":"SUM(Explosion!C4:$Z4)","v":{"v":0.75,"d":"75.00%"}},{"$f":"SUM(Explosion!D4:$Z4)","v":{"v":0.5833333333333333,"d":"58.33%"}},{"$f":"SUM(Explosion!E4:$Z4)","v":{"v":0.38888888888888884,"d":"38.89%"}},{"$f":"SUM(Explosion!F4:$Z4)","v":{"v":0.16666666666666669,"d":"16.67%"}},{"$f":"SUM(Explosion!G4:$Z4)","v":{"v":0.08333333333333333,"d":"8.33%"}},{"$f":"SUM(Explosion!H4:$Z4)","v":{"v":0.027777777777777776,"d":"2.78%"}},{"$f":"SUM(Explosion!I4:$Z4)","v":{"v":0,"d":"0.00%"}},{"$f":"SUM(Explosion!J4:$Z4)","v":{"v":0,"d":"0.00%"}},{"$f":"SUM(Explosion!K4:$Z4)","v":{"v":0,"d":"0.00%"}},{"$f":"SUM(Explosion!L4:$Z4)","v":{"v":0,"d":"0.00%"}},{"$f":"SUM(Explosion!M4:$Z4)","v":{"v":0,"d":"0.00%"}},{"$f":"SUM(Explosion!N4:$Z4)","v":{"v":0,"d":"0.00%"}},{"$f":"SUM(Explosion!O4:$Z4)","v":{"v":0,"d":"0.00%"}},{"$f":"SUM(Explosion!P4:$Z4)","v":{"v":0,"d":"0.00%"}},{"$f":"SUM(Explosion!Q4:$Z4)","v":{"v":0,"d":"0.00%"}},{"$f":"SUM(Explosion!R4:$Z4)","v":{"v":0,"d":"0.00%"}},{"$f":"SUM(Explosion!S4:$Z4)","v":{"v":0,"d":"0.00%"}},{"$f":"SUM(Explosion!T4:$Z4)","v":{"v":0,"d":"0.00%"}},{"$f":"SUM(Explosion!U4:$Z4)","v":{"v":0,"d":"0.00%"}},{"$f":"SUM(Explosion!V4:$Z4)","v":{"v":0,"d":"0.00%"}},{"$f":"SUM(Explosion!W4:$Z4)","v":{"v":0,"d":"0.00%"}},{"$f":"SUM(Explosion!X4:$Z4)","v":{"v":0,"d":"0.00%"}},{"$f":"SUM(Explosion!Y4:$Z4)","v":{"v":0,"d":"0.00%"}},{"$f":"SUM(Explosion!Z4:$Z4)","v":{"v":0,"d":"0.00%"}}]
[3,{"$f":"SUM(Explosion!C5:$Z5)","v":{"v":0.8749999999999999,"d":"87.50%"}},{"$f":"SUM(Explosion!D5:$Z5)","v":{"v":0.7500000000000001,"d":"75.00%"}},{"$f":"SUM(Explosion!E5:$Z5)","v":{"v":0.5833333333333333,"d":"58.33%"}},{"$f":"SUM(Explosion!F5:$Z5)","v":{"v":0.3703703703703704,"d":"37.04%"}},{"$f":"SUM(Explosion!G5:$Z5)","v":{"v":0.23148148148148148,"d":"23.15%"}},{"$f":"SUM(Explosion!H5:$Z5)","v":{"v":0.12037037037037035,"d":"12.04%"}},{"$f":"SUM(Explosion!I5:$Z5)","v":{"v":0.046296296296296294,"d":"4.63%"}},{"$f":"SUM(Explosion!J5:$Z5)","v":{"v":0.018518518518518517,"d":"1.85%"}},{"$f":"SUM(Explosion!K5:$Z5)","v":{"v":0.004629629629629629,"d":"0.46%"}},{"$f":"SUM(Explosion!L5:$Z5)","v":{"v":0,"d":"0.00%"}},{"$f":"SUM(Explosion!M5:$Z5)","v":{"v":0,"d":"0.00%"}},{"$f":"SUM(Explosion!N5:$Z5)","v":{"v":0,"d":"0.00%"}},{"$f":"SUM(Explosion!O5:$Z5)","v":{"v":0,"d":"0.00%"}},{"$f":"SUM(Explosion!P5:$Z5)","v":{"v":0,"d":"0.00%"}},{"$f":"SUM(Explosion!Q5:$Z5)","v":{"v":0,"d":"0.00%"}},{"$f":"SUM(Explosion!R5:$Z5)","v":{"v":0,"d":"0.00%"}},{"$f":"SUM(Explosion!S5:$Z5)","v":{"v":0,"d":"0.00%"}},{"$f":"SUM(Explosion!T5:$Z5)","v":{"v":0,"d":"0.00%"}},{"$f":"SUM(Explosion!U5:$Z5)","v":{"v":0,"d":"0.00%"}},{"$f":"SUM(Explosion!V5:$Z5)","v":{"v":0,"d":"0.00%"}},{"$f":"SUM(Explosion!W5:$Z5)","v":{"v":0,"d":"0.00%"}},{"$f":"SUM(Explosion!X5:$Z5)","v":{"v":0,"d":"0.00%"}},{"$f":"SUM(Explosion!Y5:$Z5)","v":{"v":0,"d":"0.00%"}},{"$f":"SUM(Explosion!Z5:$Z5)","v":{"v":0,"d":"0.00%"}}]
[4,{"$f":"SUM(Explosion!C6:$Z6)","v":{"v":0.9374999999999999,"d":"93.75%"}},{"$f":"SUM(Explosion!D6:$Z6)","v":{"v":0.8541666666666665,"d":"85.42%"}},{"$f":"SUM(Explosion!E6:$Z6)","v":{"v":0.7291666666666665,"d":"72.92%"}},{"$f":"SUM(Explosion!F6:$Z6)","v":{"v":0.5532407407407407,"d":"55.32%"}},{"$f":"SUM(Explosion!G6:$Z6)","v":{"v":0.39969135802469136,"d":"39.97%"}},{"$f":"SUM(Explosion!H6:$Z6)","v":{"v":0.25771604938271603,"d":"25.77%"}},{"$f":"SUM(Explosion!I6:$Z6)","v":{"v":0.1435185185185185,"d":"14.35%"}},{"$f":"SUM(Explosion!J6:$Z6)","v":{"v":0.0756172839506173,"d":"7.56%"}},{"$f":"SUM(Explosion!K6:$Z6)","v":{"v":0.03317901234567901,"d":"3.32%"}},{"$f":"SUM(Explosion!L6:$Z6)","v":{"v":0.011574074074074073,"d":"1.16%"}},{"$f":"SUM(Explosion!M6:$Z6)","v":{"v":3.8580246913580245E-3,"d":"0.39%"}},{"$f":"SUM(Explosion!N6:$Z6)","v":{"v":7.716049382716049E-4,"d":"0.08%"}},{"$f":"SUM(Explosion!O6:$Z6)","v":{"v":0,"d":"0.00%"}},{"$f":"SUM(Explosion!P6:$Z6)","v":{"v":0,"d":"0.00%"}},{"$f":"SUM(Explosion!Q6:$Z6)","v":{"v":0,"d":"0.00%"}},{"$f":"SUM(Explosion!R6:$Z6)","v":{"v":0,"d":"0.00%"}},{"$f":"SUM(Explosion!S6:$Z6)","v":{"v":0,"d":"0.00%"}},{"$f":"SUM(Explosion!T6:$Z6)","v":{"v":0,"d":"0.00%"}},{"$f":"SUM(Explosion!U6:$Z6)","v":{"v":0,"d":"0.00%"}},{"$f":"SUM(Explosion!V6:$Z6)","v":{"v":0,"d":"0.00%"}},{"$f":"SUM(Explosion!W6:$Z6)","v":{"v":0,"d":"0.00%"}},{"$f":"SUM(Explosion!X6:$Z6)","v":{"v":0,"d":"0.00%"}},{"$f":"SUM(Explosion!Y6:$Z6)","v":{"v":0,"d":"0.00%"}},{"$f":"SUM(Explosion!Z6:$Z6)","v":{"v":0,"d":"0.00%"}}]
[5,{"$f":"SUM(Explosion!C7:$Z7)","v":{"v":0.9687499999999999,"d":"96.88%"}},{"$f":"SUM(Explosion!D7:$Z7)","v":{"v":0.9166666666666666,"d":"91.67%"}},{"$f":"SUM(Explosion!E7:$Z7)","v":{"v":0.829861111111111,"d":"82.99%"}},{"$f":"SUM(Explosion!F7:$Z7)","v":{"v":0.6967592592592592,"d":"69.68%"}},{"$f":"SUM(Explosion!G7:$Z7)","v":{"v":0.5559413580246914,"d":"55.59%"}},{"$f":"SUM(Explosion!H7:$Z7)","v":{"v":0.4092078189300411,"d":"40.92%"}},{"$f":"SUM(Explosion!I7:$Z7)","v":{"v":0.2735339506172839,"d":"27.35%"}},{"$f":"SUM(Explosion!J7:$Z7)","v":{"v":0.1712962962962963,"d":"17.13%"}},{"$f":"SUM(Explosion!K7:$Z7)","v":{"v":0.0960648148148148,"d":"9.61%"}},{"$f":"SUM(Explosion!L7:$Z7)","v":{"v":0.04783950617283951,"d":"4.78%"}},{"$f":"SUM(Explosion!M7:$Z7)","v":{"v":0.021990740740740738,"d":"2.20%"}},{"$f":"SUM(Explosion!N7:$Z7)","v":{"v":0.008487654320987654,"d":"0.85%"}},{"$f":"SUM(Explosion!O7:$Z7)","v":{"v":0.002700617283950617,"d":"0.27%"}},{"$f":"SUM(Explosion!P7:$Z7)","v":{"v":7.716049382716049E-4,"d":"0.08%"}},{"$f":"SUM(Explosion!Q7:$Z7)","v":{"v":1.286008230452675E-4,"d":"0.01%"}},{"$f":"SUM(Explosion!R7:$Z7)","v":{"v":0,"d":"0.00%"}},{"$f":"SUM(Explosion!S7:$Z7)","v":{"v":0,"d":"0.00%"}},{"$f":"SUM(Explosion!T7:$Z7)","v":{"v":0,"d":"0.00%"}},{"$f":"SUM(Explosion!U7:$Z7)","v":{"v":0,"d":"0.00%"}},{"$f":"SUM(Explosion!V7:$Z7)","v":{"v":0,"d":"0.00%"}},{"$f":"SUM(Explosion!W7:$Z7)","v":{"v":0,"d":"0.00%"}},{"$f":"SUM(Explosion!X7:$Z7)","v":{"v":0,"d":"0.00%"}},{"$f":"SUM(Explosion!Y7:$Z7)","v":{"v":0,"d":"0.00%"}},{"$f":"SUM(Explosion!Z7:$Z7)","v":{"v":0,"d":"0.00%"}}]
[6,{"$f":"SUM(Explosion!C8:$Z8)","v":{"v":0.9843749999999998,"d":"98.44%"}},{"$f":"SUM(Explosion!D8:$Z8)","v":{"v":0.9531249999999998,"d":"95.31%"}},{"$f":"SUM(Explosion!E8:$Z8)","v":{"v":0.8958333333333333,"d":"89.58%"}},{"$f":"SUM(Explosion!F8:$Z8)","v":{"v":0.8009259259259258,"d":"80.09%"}},{"$f":"SUM(Explosion!G8:$Z8)","v":{"v":0.6851851851851851,"d":"68.52%"}},{"$f":"SUM(Explosion!H8:$Z8)","v":{"v":0.5516975308641974,"d":"55.17%"}},{"$f":"SUM(Explosion!I8:$Z8)","v":{"v":0.4137517146776406,"d":"41.38%"}},{"$f":"SUM(Explosion!J8:$Z8)","v":{"v":0.29209533607681754,"d":"29.21%"}},{"$f":"SUM(Explosion!K8:$Z8)","v":{"v":0.190372085048011,"d":"19.04%"}},{"$f":"SUM(Explosion!L8:$Z8)","v":{"v":0.11406893004115227,"d":"11.41%"}},{"$f":"SUM(Explosion!M8:$Z8)","v":{"v":0.06352880658436215,"d":"6.35%"}},{"$f":"SUM(Explosion!N8:$Z8)","v":{"v":0.03189300411522634,"d":"3.19%"}},{"$f":"SUM(Explosion!O8:$Z8)","v":{"v":0.014403292181069956,"d":"1.44%"}},{"$f":"SUM(Explosion!P8:$Z8)","v":{"v":5.9156378600823045E-3,"d":"0.59%"}},{"$f":"SUM(Explosion!Q8:$Z8)","v":{"v":2.05761316872428E-3,"d":"0.21%"}},{"$f":"SUM(Explosion!R8:$Z8)","v":{"v":6.0013717421124823E-4,"d":"0.06%"}},{"$f":"SUM(Explosion!S8:$Z8)","v":{"v":1.5003429355281208E-4,"d":"0.02%"}},{"$f":"SUM(Explosion!T8:$Z8)","v":{"v":2.143347050754458E-5,"d":"0.00%"}},{"$f":"SUM(Explosion!U8:$Z8)","v":{"v":0,"d":"0.00%"}},{"$f":"SUM(Explosion!V8:$Z8)","v":{"v":0,"d":"0.00%"}},{"$f":"SUM(Explosion!W8:$Z8)","v":{"v":0,"d":"0.00%"}},{"$f":"SUM(Explosion!X8:$Z8)","v":{"v":0,"d":"0.00%"}},{"$f":"SUM(Explosion!Y8:$Z8)","v":{"v":0,"d":"0.00%"}},{"$f":"SUM(Explosion!Z8:$Z8)","v":{"v":0,"d":"0.00%"}}]
[7,{"$f":"SUM(Explosion!C9:$Z9)","v":{"v":0.9921875000000001,"d":"99.22%"}},{"$f":"SUM(Explosion!D9:$Z9)","v":{"v":0.9739583333333334,"d":"97.40%"}},{"$f":"SUM(Explosion!E9:$Z9)","v":{"v":0.9375000000000001,"d":"93.75%"}},{"$f":"SUM(Explosion!F9:$Z9)","v":{"v":0.8726851851851852,"d":"87.27%"}},{"$f":"SUM(Explosion!G9:$Z9)","v":{"v":0.7842399691358025,"d":"78.42%"}},{"$f":"SUM(Explosion!H9:$Z9)","v":{"v":0.6728395061728395,"d":"67.28%"}},{"$f":"SUM(Explosion!I9:$Z9)","v":{"v":0.5465106310013718,"d":"54.65%"}},{"$f":"SUM(Explosion!J9:$Z9)","v":{"v":0.4211534064929126,"d":"42.12%"}},{"$f":"SUM(Explosion!K9:$Z9)","v":{"v":0.3047768061271147,"d":"30.48%"}},{"$f":"SUM(Explosion!L9:$Z9)","v":{"v":0.20640432098765435,"d":"20.64%"}},{"$f":"SUM(Explosion!M9:$Z9)","v":{"v":0.1311871284865112,"d":"13.12%"}},{"$f":"SUM(Explosion!N9:$Z9)","v":{"v":0.0772748056698674,"d":"7.73%"}},{"$f":"SUM(Explosion!O9:$Z9)","v":{"v":0.04211676954732511,"d":"4.21%"}},{"$f":"SUM(Explosion!P9:$Z9)","v":{"v":0.02126200274348423,"d":"2.13%"}},{"$f":"SUM(Explosion!Q9:$Z9)","v":{"v":0.009730795610425239,"d":"0.97%"}},{"$f":"SUM(Explosion!R9:$Z9)","v":{"v":0.004029492455418382,"d":"0.40%"}},{"$f":"SUM(Explosion!S9:$Z9)","v":{"v":1.5039151806127112E-3,"d":"0.15%"}},{"$f":"SUM(Explosion!T9:$Z9)","v":{"v":4.7868084133516234E-4,"d":"0.05%"}},{"$f":"SUM(Explosion!U9:$Z9)","v":{"v":1.2860082304526747E-4,"d":"0.01%"}},{"$f":"SUM(Explosion!V9:$Z9)","v":{"v":2.8577960676726108E-5,"d":"0.00%"}},{"$f":"SUM(Explosion!W9:$Z9)","v":{"v":3.5722450845907635E-6,"d":"0.00%"}},{"$f":"SUM(Explosion!X9:$Z9)","v":{"v":0,"d":"0.00%"}},{"$f":"SUM(Explosion!Y9:$Z9)","v":{"v":0,"d":"0.00%"}},{"$f":"SUM(Explosion!Z9:$Z9)","v":{"v":0,"d":"0.00%"}}]
[8,{"$f":"SUM(Explosion!C10:$Z10)","v":{"v":0.99609375,"d":"99.61%"}},{"$f":"SUM(Explosion!D10:$Z10)","v":{"v":0.9856770833333333,"d":"98.57%"}},{"$f":"SUM(Explosion!E10:$Z10)","v":{"v":0.9631076388888888,"d":"96.31%"}},{"$f":"SUM(Explosion!F10:$Z10)","v":{"v":0.9202835648148148,"d":"92.03%"}},{"$f":"SUM(Explosion!G10:$Z10)","v":{"v":0.8561439043209876,"d":"85.61%"}},{"$f":"SUM(Explosion!H10:$Z10)","v":{"v":0.768823945473251,"d":"76.88%"}},{"$f":"SUM(Explosion!I10:$Z10)","v":{"v":0.6615494255829903,"d":"66.15%"}},{"$f":"SUM(Explosion!J10:$Z10)","v":{"v":0.5445083876314586,"d":"54.45%"}},{"$f":"SUM(Explosion!K10:$Z10)","v":{"v":0.4258056603414114,"d":"42.58%"}},{"$f":"SUM(Explosion!L10:$Z10)","v":{"v":0.315275634430727,"d":"31.53%"}},{"$f":"SUM(Explosion!M10:$Z10)","v":{"v":0.22098265317786925,"d":"22.10%"}},{"$f":"SUM(Explosion!N10:$Z10)","v":{"v":0.14569877876848042,"d":"14.57%"}},{"$f":"SUM(Explosion!O10:$Z10)","v":{"v":0.09020276063100138,"d":"9.02%"}},{"$f":"SUM(Explosion!P10:$Z10)","v":{"v":0.05239411865569274,"d":"5.24%"}},{"$f":"SUM(Explosion!Q10:$Z10)","v":{"v":0.02830766079865874,"d":"2.83%"}},{"$f":"SUM(Explosion!R10:$Z10)","v":{"v":0.014199674211248283,"d":"1.42%"}},{"$f":"SUM(Explosion!S10:$Z10)","v":{"v":0.006589006058527664,"d":"0.66%"}},{"$f":"SUM(Explosion!T10:$Z10)","v":{"v":0.00278337429507697,"d":"0.28%"}},{"$f":"SUM(Explosion!U10:$Z10)","v":{"v":0.001066315157750343,"d":"0.11%"}},{"$f":"SUM(Explosion!V10:$Z10)","v":{"v":3.661551211705532E-4,"d":"0.04%"}},{"$f":"SUM(Explosion!W10:$Z10)","v":{"v":1.0776272671848803E-4,"d":"0.01%"}},{"$f":"SUM(Explosion!X10:$Z10)","v":{"v":2.6791838134430726E-5,"d":"0.00%"}},{"$f":"SUM(Explosion!Y10:$Z10)","v":{"v":5.3583676268861459E-6,"d":"0.00%"}},{"$f":"SUM(Explosion!Z10:$Z10)","v":{"v":5.9537418076512728E-7,"d":"0.00%"}}]
[]
["Schaden mit Reroll"]
["Würfel",1,2,3,4,5,6,7,8,9,10,11,12,13,14,15,16,17,18,19,20,21,22,23,24]
[1,{"$f":"SUM(Explosion!C14:$Z14)","v":{"v":0.75,"d":"75.00%"}},{"$f":"SUM(Explosion!D14:$Z14)","v":{"v":0.5555555555555556,"d":"55.56%"}},{"$f":"SUM(Explosion!E14:$Z14)","v":{"v":0.3055555555555556,"d":"30.56%"}},{"$f":"SUM(Explosion!F14:$Z14)","v":{"v":0,"d":"0.00%"}},{"$f":"SUM(Explosion!G14:$Z14)","v":{"v":0,"d":"0.00%"}},{"$f":"SUM(Explosion!H14:$Z14)","v":{"v":0,"d":"0.00%"}},{"$f":"SUM(Explosion!I14:$Z14)","v":{"v":0,"d":"0.00%"}},{"$f":"SUM(Explosion!J14:$Z14)","v":{"v":0,"d":"0.00%"}},{"$f":"SUM(Explosion!K14:$Z14)","v":{"v":0,"d":"0.00%"}},{"$f":"SUM(Explosion!L14:$Z14)","v":{"v":0,"d":"0.00%"}},{"$f":"SUM(Explosion!M14:$Z14)","v":{"v":0,"d":"0.00%"}},{"$f":"SUM(Explosion!N14:$Z14)","v":{"v":0,"d":"0.00%"}},{"$f":"SUM(Explosion!O14:$Z14)","v":{"v":0,"d":"0.00%"}},{"$f":"SUM(Explosion!P14:$Z14)","v":{"v":0,"d":"0.00%"}},{"$f":"SUM(Explosion!Q14:$Z14)","v":{"v":0,"d":"0.00%"}},{"$f":"SUM(Explosion!R14:$Z14)","v":{"v":0,"d":"0.00%"}},{"$f":"SUM(Explosion!S14:$Z14)","v":{"v":0,"d":"0.00%"}},{"$f":"SUM(Explosion!T14:$Z14)","v":{"v":0,"d":"0.00%"}},{"$f":"SUM(Explosion!U14:$Z14)","v":{"v":0,"d":"0.00%"}},{"$f":"SUM(Explosion!V14:$Z14)","v":{"v":0,"d":"0.00%"}},{"$f":"SUM(Explosion!W14:$Z14)","v":{"v":0,"d":"0.00%"}},{"$f":"SUM(Explosion!X14:$Z14)","v":{"v":0,"d":"0.00%"}},{"$f":"SUM(Explosion!Y14:$Z14)","v":{"v":0,"d":"0.00%"}},{"$f":"SUM(Explosion!Z14:$Z14)","v":{"v":0,"d":"0.00%"}}]
[2,{"$f":"SUM(Explosion!C15:$Z15)","v":{"v":0.875,"d":"87.50%"}},{"$f":"SUM(Explosion!D15:$Z15)","v":{"v":0.75,"d":"75.00%"}},{"$f":"SUM(Explosion!E15:$Z15)","v":{"v":0.5787037037037037,"d":"57.87%"}},{"$f":"SUM(Explosion!F15:$Z15)","v":{"v":0.3564814814814815,"d":"35.65%"}},{"$f":"SUM(Explosion!G15:$Z15)","v":{"v":0.19907407407407407,"d":"19.91%"}},{"$f":"SUM(Explosion!H15:$Z15)","v":{"v":0.07407407407407407,"d":"7.41%"}},{"$f":"SUM(Explosion!I15:$Z15)","v":{"v":0,"d":"0.00%"}},{"$f":"SUM(Explosion!J15:$Z15)","v":{"v":0,"d":"0.00%"}},{"$f":"SUM(Explosion!K15:$Z15)","v":{"v":0,"d":"0.00%"}},{"$f":"SUM(Explosion!L15:$Z15)","v":{"v":0,"d":"0.00%"}},{"$f":"SUM(Explosion!M15:$Z15)","v":{"v":0,"d":"0.00%"}},{"$f":"SUM(Explosion!N15:$Z15)","v":{"v":0,"d":"0.00%"}},{"$f":"SUM(Explosion!O15:$Z15)","v":{"v":0,"d":"0.00%"}},{"$f":"SUM(Explosion!P15:$Z15)","v":{"v":0,"d":"0.00%"}},{"$f":"SUM(Explosion!Q15:$Z15)","v":{"v":0,"d":"0.00%"}},{"$f":"SUM(Explosion!R15:$Z15)","v":{"v":0,"d":"0.00%"}},{"$f":"SUM(Explosion!S15:$Z15)","v":{"v":0,"d":"0.00%"}},{"$f":"SUM(Explosion!T15:$Z15)","v":{"v":0,"d":"0.00%"}},{"$f":"SUM(Explosion!U15:$Z15)","v":{"v":0,"d":"0.00%"}},{"$f":"SUM(Explosion!V15:$Z15)","v":{"v":0,"d":"0.00%"}},{"$f":"SUM(Explosion!W15:$Z15)","v":{"v":0,"d":"0.00%"}},{"$f":"SUM(Explosion!X15:$Z15)","v":{"v":0,"d":"0.00%"}},{"$f":"SUM(Explosion!Y15:$Z15)","v":{"v":0,"d":"0.00%"}},{"$f":"SUM(Explosion!Z15:$Z15)","v":{"v":0,"d":"0.00%"}}]
[3,{"$f":"SUM(Explosion!C16:$Z16)","v":{"v":0.9375,"d":"93.75%"}},{"$f":"SUM(Explosion!D16:$Z16)","v":{"v":0.8541666666666666,"d":"85.42%"}},{"$f":"SUM(Explosion!E16:$Z16)","v":{"v":0.7291666666666666,"d":"72.92%"}},{"$f":"SUM(Explosion!F16:$Z16)","v":{"v":0.5524691358024691,"d":"55.25%"}},{"$f":"SUM(Explosion!G16:$Z16)","v":{"v":0.396604938271605,"d":"39.66%"}},{"$f":"SUM(Explosion!H16:$Z16)","v":{"v":0.25,"d":"25.00%"}},{"$f":"SUM(Explosion!I16:$Z16)","v":{"v":0.13040123456790123,"d":"13.04%"}},{"$f":"SUM(Explosion!J16:$Z16)","v":{"v":0.057870370370370364,"d":"5.79%"}},{"$f":"SUM(Explosion!K16:$Z16)","v":{"v":0.016203703703703703,"d":"1.62%"}},{"$f":"SUM(Explosion!L16:$Z16)","v":{"v":0,"d":"0.00%"}},{"$f":"SUM(Explosion!M16:$Z16)","v":{"v":0,"d":"0.00%"}},{"$f":"SUM(Explosion!N16:$Z16)","v":{"v":0,"d":"0.00%"}},{"$f":"SUM(Explosion!O16:$Z16)","v":{"v":0,"d":"0.00%"}},{"$f":"SUM(Explosion!P16:$Z16)","v":{"v":0,"d":"0.00%"}},{"$f":"SUM(Explosion!Q16:$Z16)","v":{"v":0,"d":"0.00%"}},{"$f":"SUM(Explosion!R16:$Z16)","v":{"v":0,"d":"0.00%"}},{"$f":"SUM(Explosion!S16:$Z16)","v":{"v":0,"d":"0.00%"}},{"$f":"SUM(Explosion!T16:$Z16)","v":{"v":0,"d":"0.00%"}},{"$f":"SUM(Explosion!U16:$Z16)","v":{"v":0,"d":"0.00%"}},{"$f":"SUM(Explosion!V16:$Z16)","v":{"v":0,"d":"0.00%"}},{"$f":"SUM(Explosion!W16:$Z16)","v":{"v":0,"d":"0.00%"}},{"$f":"SUM(Explosion!X16:$Z16)","v":{"v":0,"d":"0.00%"}},{"$f":"SUM(Explosion!Y16:$Z16)","v":{"v":0,"d":"0.00%"}},{"$f":"SUM(Explosion!Z16:$Z16)","v":{"v":0,"d":"0.00%"}}]
[4,{"$f":"SUM(Explosion!C17:$Z17)","v":{"v":0.9687499999999999,"d":"96.88%"}},{"$f":"SUM(Explosion!D17:$Z17)","v":{"v":0.9166666666666665,"d":"91.67%"}},{"$f":"SUM(Explosion!E17:$Z17)","v":{"v":0.8298611111111109,"d":"82.99%"}},{"$f":"SUM(Explosion!F17:$Z17)","v":{"v":0.6967592592592591,"d":"69.68%"}},{"$f":"SUM(Explosion!G17:$Z17)","v":{"v":0.5558127572016461,"d":"55.58%"}},{"$f":"SUM(Explosion!H17:$Z17)","v":{"v":0.4085648148148148,"d":"40.86%"}},{"$f":"SUM(Explosion!I17:$Z17)","v":{"v":0.2716049382716049,"d":"27.16%"}},{"$f":"SUM(Explosion!J17:$Z17)","v":{"v":0.16743827160493827,"d":"16.74%"}},{"$f":"SUM(Explosion!K17:$Z17)","v":{"v":0.09014917695473251,"d":"9.01%"}},{"$f":"SUM(Explosion!L17:$Z17)","v":{"v":0.04063786008230453,"d":"4.06%"}},{"$f":"SUM(Explosion!M17:$Z17)","v":{"v":0.014917695473251029,"d":"1.49%"}},{"$f":"SUM(Explosion!N17:$Z17)","v":{"v":3.3436213991769547E-3,"d":"0.33%"}},{"$f":"SUM(Explosion!O17:$Z17)","v":{"v":0,"d":"0.00%"}},{"$f":"SUM(Explosion!P17:$Z17)","v":{"v":0,"d":"0.00%"}},{"$f":"SUM(Explosion!Q17:$Z17)","v":{"v":0,"d":"0.00%"}},{"$f":"SUM(Explosion!R17:$Z17)","v":{"v":0,"d":"0.00%"}},{"$f":"SUM(Explosion!S17:$Z17)","v":{"v":0,"d":"0.00%"}},{"$f":"SUM(Explosion!T17:$Z17)","v":{"v":0,"d":"0.00%"}},{"$f":"SUM(Explosion!U17:$Z17)","v":{"v":0,"d":"0.00%"}},{"$f":"SUM(Explosion!V17:$Z17)","v":{"v":0,"d":"0.00%"}},{"$f":"SUM(Explosion!W17:$Z17)","v":{"v":0,"d":"0.00%"}},{"$f":"SUM(Explosion!X17:$Z17)","v":{"v":0,"d":"0.00%"}},{"$f":"SUM(Explosion!Y17:$Z17)","v":{"v":0,"d":"0.00%"}},{"$f":"SUM(Explosion!Z17:$Z17)","v":{"v":0,"d":"0.00%"}}]
[5,{"$f":"SUM(Explosion!C18:$Z18)","v":{"v":0.984375,"d":"98.44%"}},{"$f":"SUM(Explosion!D18:$Z18)","v":{"v":0.953125,"d":"95.31%"}},{"$f":"SUM(Explosion!E18:$Z18)","v":{"v":0.8958333333333333,"d":"89.58%"}},{"$f":"SUM(Explosion!F18:$Z18)","v":{"v":0.8009259259259258,"d":"80.09%"}},{"$f":"SUM(Explosion!G18:$Z18)","v":{"v":0.6851851851851852,"d":"68.52%"}},{"$f":"SUM(Explosion!H18:$Z18)","v":{"v":0.5516760973936901,"d":"55.17%"}},{"$f":"SUM(Explosion!I18:$Z18)","v":{"v":0.4136231138545953,"d":"41.36%"}},{"$f":"SUM(Explosion!J18:$Z18)","v":{"v":0.29164523319615915,"d":"29.16%"}},{"$f":"SUM(Explosion!K18:$Z18)","v":{"v":0.18930041152263372,"d":"18.93%"}},{"$f":"SUM(Explosion!L18:$Z18)","v":{"v":0.11213991769547325,"d":"11.21%"}},{"$f":"SUM(Explosion!M18:$Z18)","v":{"v":0.06080675582990398,"d":"6.08%"}},{"$f":"SUM(Explosion!N18:$Z18)","v":{"v":0.028742283950617283,"d":"2.87%"}},{"$f":"SUM(Explosion!O18:$Z18)","v":{"v":0.011381172839506171,"d":"1.14%"}},{"$f":"SUM(Explosion!P18:$Z18)","v":{"v":3.5579561042524003E-3,"d":"0.36%"}},{"$f":"SUM(Explosion!Q18:$Z18)","v":{"v":0.000664437585733882,"d":"0.07%"}},{"$f":"SUM(Explosion!R18:$Z18)","v":{"v":0,"d":"0.00%"}},{"$f":"SUM(Explosion!S18:$Z18)","v":{"v":0,"d":"0.00%"}},{"$f":"SUM(Explosion!T18:$Z18)","v":{"v":0,"d":"0.00%"}},{"$f":"SUM(Explosion!U18:$Z18)","v":{"v":0,"d":"0.00%"}},{"$f":"SUM(Explosion!V18:$Z18)","v":{"v":0,"d":"0.00%"}},{"$f":"SUM(Explosion!W18:$Z18)","v":{"v":0,"d":"0.00%"}},{"$f":"SUM(Explosion!X18:$Z18)","v":{"v":0,"d":"0.00%"}},{"$f":"SUM(Explosion!Y18:$Z18)","v":{"v":0,"d":"0.00%"}},{"$f":"SUM(Explosion!Z18:$Z18)","v":{"v":0,"d":"0.00%"}}]
[6,{"$f":"SUM(Explosion!C19:$Z19)","v":{"v":0.9921874999999999,"d":"99.22%"}},{"$f":"SUM(Explosion!D19:$Z19)","v":{"v":0.9739583333333333,"d":"97.40%"}},{"$f":"SUM(Explosion!E19:$Z19)","v":{"v":0.9374999999999999,"d":"93.75%"}},{"$f":"SUM(Explosion!F19:$Z19)","v":{"v":0.8726851851851851,"d":"87.27%"}},{"$f":"SUM(Explosion!G19:$Z19)","v":{"v":0.7842399691358024,"d":"78.42%"}},{"$f":"SUM(Explosion!H19:$Z19)","v":{"v":0.6728395061728393,"d":"67.28%"}},{"$f":"SUM(Explosion!I19:$Z19)","v":{"v":0.546507058756287,"d":"54.65%"}},{"$f":"SUM(Explosion!J19:$Z19)","v":{"v":0.42112840077732044,"d":"42.11%"}},{"$f":"SUM(Explosion!K19:$Z19)","v":{"v":0.3046767832647462,"d":"30.47%"}},{"$f":"SUM(Explosion!L19:$Z19)","v":{"v":0.20612925811614086,"d":"20.61%"}},{"$f":"SUM(Explosion!M19:$Z19)","v":{"v":0.1306119970278921,"d":"13.06%"}},{"$f":"SUM(Explosion!N19:$Z19)","v":{"v":0.07632458847736626,"d":"7.63%"}},{"$f":"SUM(Explosion!O19:$Z19)","v":{"v":0.040837905807041615,"d":"4.08%"}},{"$f":"SUM(Explosion!P19:$Z19)","v":{"v":0.019833104709647918,"d":"1.98%"}},{"$f":"SUM(Explosion!Q19:$Z19)","v":{"v":0.00838048696844993,"d":"0.84%"}},{"$f":"SUM(Explosion!R19:$Z19)","v":{"v":2.9542466849565613E-3,"d":"0.30%"}},{"$f":"SUM(Explosion!S19:$Z19)","v":{"v":8.0375514403292184E-4,"d":"0.08%"}},{"$f":"SUM(Explosion!T19:$Z19)","v":{"v":1.286008230452675E-4,"d":"0.01%"}},{"$f":"SUM(Explosion!U19:$Z19)","v":{"v":0,"d":"0.00%"}},{"$f":"SUM(Explosion!V19:$Z19)","v":{"v":0,"d":"0.00%"}},{"$f":"SUM(Explosion!W19:$Z19)","v":{"v":0,"d":"0.00%"}},{"$f":"SUM(Explosion!X19:$Z19)","v":{"v":0,"d":"0.00%"}},{"$f":"SUM(Explosion!Y19:$Z19)","v":{"v":0,"d":"0.00%"}},{"$f":"SUM(Explosion!Z19:$Z19)","v":{"v":0,"d":"0.00%"}}]
[7,{"$f":"SUM(Explosion!C20:$Z20)","v":{"v":0.9960937499999997,"d":"99.61%"}},{"$f":"SUM(Explosion!D20:$Z20)","v":{"v":0.9856770833333329,"d":"98.57%"}},{"$f":"SUM(Explosion!E20:$Z20)","v":{"v":0.9631076388888885,"d":"96.31%"}},{"$f":"SUM(Explosion!F20:$Z20)","v":{"v":0.9202835648148144,"d":"92.03%"}},{"$f":"SUM(Explosion!G20:$Z20)","v":{"v":0.8561439043209873,"d":"85.61%"}},{"$f":"SUM(Explosion!H20:$Z20)","v":{"v":0.7688239454732507,"d":"76.88%"}},{"$f":"SUM(Explosion!I20:$Z20)","v":{"v":0.6615494255829901,"d":"66.15%"}},{"$f":"SUM(Explosion!J20:$Z20)","v":{"v":0.5445077922572777,"d":"54.45%"}},{"$f":"SUM(Explosion!K20:$Z20)","v":{"v":0.4258008973479653,"d":"42.58%"}},{"$f":"SUM(Explosion!L20:$Z20)","v":{"v":0.3152542009602195,"d":"31.53%"}},{"$f":"SUM(Explosion!M20:$Z20)","v":{"v":0.22091597126962353,"d":"22.09%"}},{"$f":"SUM(Explosion!N20:$Z20)","v":{"v":0.1455404092363969,"d":"14.55%"}},{"$f":"SUM(Explosion!O20:$Z20)","v":{"v":0.08990269204389575,"d":"8.99%"}},{"$f":"SUM(Explosion!P20:$Z20)","v":{"v":0.05192734529797287,"d":"5.19%"}},{"$f":"SUM(Explosion!Q20:$Z20)","v":{"v":0.02770216525682061,"d":"2.77%"}},{"$f":"SUM(Explosion!R20:$Z20)","v":{"v":0.013535831999695169,"d":"1.35%"}},{"$f":"SUM(Explosion!S20:$Z20)","v":{"v":5.967435413808871E-3,"d":"0.60%"}},{"$f":"SUM(Explosion!T20:$Z20)","v":{"v":2.2832599832342633E-3,"d":"0.23%"}},{"$f":"SUM(Explosion!U20:$Z20)","v":{"v":7.2457037799115987E-4,"d":"0.07%"}},{"$f":"SUM(Explosion!V20:$Z20)","v":{"v":1.7444463496418231E-4,"d":"0.02%"}},{"$f":"SUM(Explosion!W20:$Z20)","v":{"v":2.4410341411370219E-5,"d":"0.00%"}},{"$f":"SUM(Explosion!X20:$Z20)","v":{"v":0,"d":"0.00%"}},{"$f":"SUM(Explosion!Y20:$Z20)","v":{"v":0,"d":"0.00%"}},{"$f":"SUM(Explosion!Z20:$Z20)","v":{"v":0,"d":"0.00%"}}]
[8,{"$f":"SUM(Explosion!C21:$Z21)","v":{"v":0.9980468750000001,"d":"99.80%"}},{"$f":"SUM(Explosion!D21:$Z21)","v":{"v":0.9921875000000001,"d":"99.22%"}},{"$f":"SUM(Explosion!E21:$Z21)","v":{"v":0.9785156250000001,"d":"97.85%"}},{"$f":"SUM(Explosion!F21:$Z21)","v":{"v":0.9509548611111112,"d":"95.10%"}},{"$f":"SUM(Explosion!G21:$Z21)","v":{"v":0.9062500000000001,"d":"90.63%"}},{"$f":"SUM(Explosion!H21:$Z21)","v":{"v":0.8410011574074074,"d":"84.10%"}},{"$f":"SUM(Explosion!I21:$Z21)","v":{"v":0.7549832818930041,"d":"75.50%"}},{"$f":"SUM(Explosion!J21:$Z21)","v":{"v":0.6533404063786009,"d":"65.33%"}},{"$f":"SUM(Explosion!K21:$Z21)","v":{"v":0.5420496907229589,"d":"54.20%"}},{"$f":"SUM(Explosion!L21:$Z21)","v":{"v":0.4296141697467358,"d":"42.96%"}},{"$f":"SUM(Explosion!M21:$Z21)","v":{"v":0.324751808349845,"d":"32.48%"}},{"$f":"SUM(Explosion!N21:$Z21)","v":{"v":0.23317790098054159,"d":"23.32%"}},{"$f":"SUM(Explosion!O21:$Z21)","v":{"v":0.158719810559874,"d":"15.87%"}},{"$f":"SUM(Explosion!P21:$Z21)","v":{"v":0.10225690475283239,"d":"10.23%"}},{"$f":"SUM(Explosion!Q21:$Z21)","v":{"v":0.062048904829040276,"d":"6.20%"}},{"$f":"SUM(Explosion!R21:$Z21)","v":{"v":0.035355303434435804,"d":"3.54%"}},{"$f":"SUM(Explosion!S21:$Z21)","v":{"v":0.018822853953919628,"d":"1.88%"}},{"$f":"SUM(Explosion!T21:$Z21)","v":{"v":0.00926203767210283,"d":"0.93%"}},{"$f":"SUM(Explosion!U21:$Z21)","v":{"v":0.004169802304018697,"d":"0.42%"}},{"$f":"SUM(Explosion!V21:$Z21)","v":{"v":1.6859012218665853E-3,"d":"0.17%"}},{"$f":"SUM(Explosion!W21:$Z21)","v":{"v":0.000589817355077986,"d":"0.06%"}},{"$f":"SUM(Explosion!X21:$Z21)","v":{"v":1.7007855763857135E-4,"d":"0.02%"}},{"$f":"SUM(Explosion!Y21:$Z21)","v":{"v":3.6714741147182852E-5,"d":"0.00%"}},{"$f":"SUM(Explosion!Z21:$Z21)","v":{"v":4.564535385865976E-6,"d":"0.00%"}}]

{"sheet":"Killchance","index":7,"n_rows":32,"n_cols":17,"rows_kept":32}
["Nötiger Schaden",10,10,9]
["Würfel","Nahkampf","Fernkampf","Explosion"]
[1,{"$f":"OFFSET('Nahkampf Mindestens'!$B$3,$A3-1,B$1-1)","v":{"v":0,"d":"0.00%"}},{"$f":"OFFSET('Fernkampf Mindestens'!$B$3,$A3-1,C$1-1)","v":{"v":0,"d":"0.00%"}},{"$f":"OFFSET('Explosion Mindestens'!$B$3,$A3-1,D$1-1)","v":{"v":0,"d":"0.00%"}}]
[2,{"$f":"OFFSET('Nahkampf Mindestens'!$B$3,$A4-1,B$1-1)","v":{"v":0,"d":"0.00%"}},{"$f":"OFFSET('Fernkampf Mindestens'!$B$3,$A4-1,C$1-1)","v":{"v":0,"d":"0.00%"}},{"$f":"OFFSET('Explosion Mindestens'!$B$3,$A4-1,D$1-1)","v":{"v":0,"d":"0.00%"}}]
[3,{"$f":"OFFSET('Nahkampf Mindestens'!$B$3,$A5-1,B$1-1)","v":{"v":0,"d":"0.00%"}},{"$f":"OFFSET('Fernkampf Mindestens'!$B$3,$A5-1,C$1-1)","v":{"v":0,"d":"0.00%"}},{"$f":"OFFSET('Explosion Mindestens'!$B$3,$A5-1,D$1-1)","v":{"v":0.004629629629629629,"d":"0.46%"}}]
[4,{"$f":"OFFSET('Nahkampf Mindestens'!$B$3,$A6-1,B$1-1)","v":{"v":0,"d":"0.00%"}},{"$f":"OFFSET('Fernkampf Mindestens'!$B$3,$A6-1,C$1-1)","v":{"v":0,"d":"0.00%"}},{"$f":"OFFSET('Explosion Mindestens'!$B$3,$A6-1,D$1-1)","v":{"v":0.03317901234567901,"d":"3.32%"}},{"$nulls":11},{"$f":"OFFSET(P8,0,1)","v":3}]
[5,{"$f":"OFFSET('Nahkampf Mindestens'!$B$3,$A7-1,B$1-1)","v":{"v":1.286008230452675E-4,"d":"0.01%"}},{"$f":"OFFSET('Fernkampf Mindestens'!$B$3,$A7-1,C$1-1)","v":{"v":4.11522633744856E-3,"d":"0.41%"}},{"$f":"OFFSET('Explosion Mindestens'!$B$3,$A7-1,D$1-1)","v":{"v":0.0960648148148148,"d":"9.61%"}}]
[6,{"$f":"OFFSET('Nahkampf Mindestens'!$B$3,$A8-1,B$1-1)","v":{"v":0.005808470507544582,"d":"0.58%"}},{"$f":"OFFSET('Fernkampf Mindestens'!$B$3,$A8-1,C$1-1)","v":{"v":0.03840877914951989,"d":"3.84%"}},{"$f":"OFFSET('Explosion Mindestens'!$B$3,$A8-1,D$1-1)","v":{"v":0.190372085048011,"d":"19.04%"}},{"$nulls":11},1,3]
[7,{"$f":"OFFSET('Nahkampf Mindestens'!$B$3,$A9-1,B$1-1)","v":{"v":0.048014546181984454,"d":"4.80%"}},{"$f":"OFFSET('Fernkampf Mindestens'!$B$3,$A9-1,C$1-1)","v":{"v":0.12528577960676726,"d":"12.53%"}},{"$f":"OFFSET('Explosion Mindestens'!$B$3,$A9-1,D$1-1)","v":{"v":0.3047768061271147,"d":"30.48%"}},{"$nulls":11},2]
[8,{"$f":"OFFSET('Nahkampf Mindestens'!$B$3,$A10-1,B$1-1)","v":{"v":0.17504774900929734,"d":"17.50%"}},{"$f":"OFFSET('Fernkampf Mindestens'!$B$3,$A10-1,C$1-1)","v":{"v":0.260783417162018,"d":"26.08%"}},{"$f":"OFFSET('Explosion Mindestens'!$B$3,$A10-1,D$1-1)","v":{"v":0.4258056603414114,"d":"42.58%"}}]
{"$rows_empty":13}
["Würfel","Nahkampf","Fernkampf","Explosion"]
[1,{"$f":"OFFSET('Nahkampf Mindestens'!$B$14,$A25-1,B$1-1)","v":{"v":0,"d":"0.00%"}},{"$f":"OFFSET('Fernkampf Mindestens'!$B$14,$A25-1,C$1-1)","v":{"v":0,"d":"0.00%"}},{"$f":"OFFSET('Explosion Mindestens'!$B$14,$A25-1,D$1-1)","v":{"v":0,"d":"0.00%"}}]
[2,{"$f":"OFFSET('Nahkampf Mindestens'!$B$14,$A26-1,B$1-1)","v":{"v":0,"d":"0.00%"}},{"$f":"OFFSET('Fernkampf Mindestens'!$B$14,$A26-1,C$1-1)","v":{"v":0,"d":"0.00%"}},{"$f":"OFFSET('Explosion Mindestens'!$B$14,$A26-1,D$1-1)","v":{"v":0,"d":"0.00%"}}]
[3,{"$f":"OFFSET('Nahkampf Mindestens'!$B$14,$A27-1,B$1-1)","v":{"v":0,"d":"0.00%"}},{"$f":"OFFSET('Fernkampf Mindestens'!$B$14,$A27-1,C$1-1)","v":{"v":0,"d":"0.00%"}},{"$f":"OFFSET('Explosion Mindestens'!$B$14,$A27-1,D$1-1)","v":{"v":0.016203703703703703,"d":"1.62%"}}]
[4,{"$f":"OFFSET('Nahkampf Mindestens'!$B$14,$A28-1,B$1-1)","v":{"v":0,"d":"0.00%"}},{"$f":"OFFSET('Fernkampf Mindestens'!$B$14,$A28-1,C$1-1)","v":{"v":0,"d":"0.00%"}},{"$f":"OFFSET('Explosion Mindestens'!$B$14,$A28-1,D$1-1)","v":{"v":0.09014917695473251,"d":"9.01%"}}]
[5,{"$f":"OFFSET('Nahkampf Mindestens'!$B$14,$A29-1,B$1-1)","v":{"v":0.000664437585733882,"d":"0.07%"}},{"$f":"OFFSET('Fernkampf Mindestens'!$B$14,$A29-1,C$1-1)","v":{"v":0.01783264746227709,"d":"1.78%"}},{"$f":"OFFSET('Explosion Mindestens'!$B$14,$A29-1,D$1-1)","v":{"v":0.18930041152263372,"d":"18.93%"}}]
[6,{"$f":"OFFSET('Nahkampf Mindestens'!$B$14,$A30-1,B$1-1)","v":{"v":0.016007230224051212,"d":"1.60%"}},{"$f":"OFFSET('Fernkampf Mindestens'!$B$14,$A30-1,C$1-1)","v":{"v":0.10928212162780065,"d":"10.93%"}},{"$f":"OFFSET('Explosion Mindestens'!$B$14,$A30-1,D$1-1)","v":{"v":0.3046767832647462,"d":"30.47%"}}]
[7,{"$f":"OFFSET('Nahkampf Mindestens'!$B$14,$A31-1,B$1-1)","v":{"v":0.10676547496570646,"d":"10.68%"}},{"$f":"OFFSET('Fernkampf Mindestens'!$B$14,$A31-1,C$1-1)","v":{"v":0.25651577503429357,"d":"25.65%"}},{"$f":"OFFSET('Explosion Mindestens'!$B$14,$A31-1,D$1-1)","v":{"v":0.4258008973479653,"d":"42.58%"}}]
[8,{"$f":"OFFSET('Nahkampf Mindestens'!$B$14,$A32-1,B$1-1)","v":{"v":0.3260701652441193,"d":"32.61%"}},{"$f":"OFFSET('Fernkampf Mindestens'!$B$14,$A32-1,C$1-1)","v":{"v":0.4198038916831784,"d":"41.98%"}},{"$f":"OFFSET('Explosion Mindestens'!$B$14,$A32-1,D$1-1)","v":{"v":0.5420496907229589,"d":"54.20%"}}]